BEGIN:VCALENDAR
VERSION:2.0
PRODID:-//Silver City Radio - ECPv6.3.3.1//NONSGML v1.0//EN
CALSCALE:GREGORIAN
METHOD:PUBLISH
X-ORIGINAL-URL:https://silvercityradio.com
X-WR-CALDESC:Events for Silver City Radio
REFRESH-INTERVAL;VALUE=DURATION:PT1H
X-Robots-Tag:noindex
X-PUBLISHED-TTL:PT1H
BEGIN:VTIMEZONE
TZID:UTC
BEGIN:STANDARD
TZOFFSETFROM:+0000
TZOFFSETTO:+0000
TZNAME:UTC
DTSTART:20160101T000000
END:STANDARD
END:VTIMEZONE
BEGIN:VEVENT
DTSTART;TZID=UTC:20160802T120000
DTEND;TZID=UTC:20160802T130000
DTSTAMP:20260424T094409
CREATED:20160801T170834Z
LAST-MODIFIED:20160801T170834Z
UID:10000305-1470139200-1470142800@silvercityradio.com
SUMMARY:Kiwanis Noon Luncheon
DESCRIPTION:You are invited to the Kiwanis Club of Silver City’s Tuesday noon luncheon at the Little Toad Creek.  The public is always invited to support the youth and attend luncheons.  Kiwanis is a service organization dedicated to serving children.  For more information\, call Silver City Radio
URL:https://silvercityradio.com/event/kiwanis-noon-luncheon-13/
LOCATION:Little Toad Creek Brewery\, 200 N Bullard\, Silver City\, NM\, 88061\, United States
CATEGORIES:Meeting
END:VEVENT
BEGIN:VEVENT
DTSTART;TZID=UTC:20160808T103000
DTEND;TZID=UTC:20160808T120000
DTSTAMP:20260424T094409
CREATED:20160725T145850Z
LAST-MODIFIED:20160725T145850Z
UID:10000301-1470652200-1470657600@silvercityradio.com
SUMMARY:Widowed Persons Meeting
DESCRIPTION:The Widowed and Single Persons of Grant County monthly meeting will be held August 8th at Cross Point Assembly of God Church beginning at 10:30 am.  Jerry Giedd will talk about his experiences in the Peace Corps.  All Singles are welcome.  Call 537-3643
URL:https://silvercityradio.com/event/widowed-persons-meeting-8/
LOCATION:Glad Tidings/Cross Point Assembly of God Church\, 11600 Highway 180 East\, Silver City\, NM\, 88061\, United States
CATEGORIES:Adult Event,Meeting
END:VEVENT
BEGIN:VEVENT
DTSTART;TZID=UTC:20160809T120000
DTEND;TZID=UTC:20160809T130000
DTSTAMP:20260424T094409
CREATED:20160808T161622Z
LAST-MODIFIED:20160808T161622Z
UID:10000225-1470744000-1470747600@silvercityradio.com
SUMMARY:Kiwanis Noon Luncheon
DESCRIPTION:You are invited to the Kiwanis Club of Silver City’s Tuesday noon luncheon at the Little Toad Creek.  The public is always invited to support the youth and attend luncheons.  Kiwanis is a service organization dedicated to serving children.  For more information\, call Silver City Radio
URL:https://silvercityradio.com/event/kiwanis-noon-luncheon-14/
LOCATION:Little Toad Creek Brewery\, 200 N Bullard\, Silver City\, NM\, 88061\, United States
CATEGORIES:Meeting
END:VEVENT
BEGIN:VEVENT
DTSTART;TZID=UTC:20160816T180000
DTEND;TZID=UTC:20160816T190000
DTSTAMP:20260424T094409
CREATED:20160808T171750Z
LAST-MODIFIED:20160808T171750Z
UID:10000222-1471370400-1471374000@silvercityradio.com
SUMMARY:Silver School Board Meeting
DESCRIPTION:Notice is given that the regular meeting of the Silver Consolidated Schools Board of Education is scheduled for Tuesday\, August 16th in the Board Room of the Administration Building beginning at 6 pm.  If you are in need of an auxiliary service to attend\, call 956-2000
URL:https://silvercityradio.com/event/silver-school-board-meeting-4/
LOCATION:Silver Schools Admin Builing\, 2810 N Swan St\, Silver City\, NM\, 88061\, United States
CATEGORIES:Meeting
END:VEVENT
END:VCALENDAR