BEGIN:VCALENDAR
VERSION:2.0
PRODID:-//Silver City Radio - ECPv6.3.3.1//NONSGML v1.0//EN
CALSCALE:GREGORIAN
METHOD:PUBLISH
X-ORIGINAL-URL:https://silvercityradio.com
X-WR-CALDESC:Events for Silver City Radio
REFRESH-INTERVAL;VALUE=DURATION:PT1H
X-Robots-Tag:noindex
X-PUBLISHED-TTL:PT1H
BEGIN:VTIMEZONE
TZID:UTC
BEGIN:STANDARD
TZOFFSETFROM:+0000
TZOFFSETTO:+0000
TZNAME:UTC
DTSTART:20160101T000000
END:STANDARD
END:VTIMEZONE
BEGIN:VEVENT
DTSTART;TZID=UTC:20160707T180000
DTEND;TZID=UTC:20160707T190000
DTSTAMP:20260424T173457
CREATED:20160705T161635Z
LAST-MODIFIED:20160705T161635Z
UID:10000272-1467914400-1467918000@silvercityradio.com
SUMMARY:Silver High Cheer Team Parent/Candidate Meeting
DESCRIPTION:For Silver High School students interested in trying out for the Cheer Team\, there will be a parent/cheer candidate meeting on July 7th in the Silver High Little Theater at 6 pm.  At the meeting\, interested students\, both male and female\, in grades 9 through 12 will receive the tryout packet and have an opportunity to meet the new coach.  Tryouts will be held the following week.  Call 590-7976
URL:https://silvercityradio.com/event/silver-high-cheer-team-parentcandidate-meeting/
LOCATION:Silver High School
CATEGORIES:Adult Event,Kids Event,Meeting,Sports
END:VEVENT
BEGIN:VEVENT
DTSTART;TZID=UTC:20160711T103000
DTEND;TZID=UTC:20160711T120000
DTSTAMP:20260424T173457
CREATED:20160705T161842Z
LAST-MODIFIED:20160705T161842Z
UID:10000274-1468233000-1468238400@silvercityradio.com
SUMMARY:Widowed Persons Meeting
DESCRIPTION:The Widowed and Single Persons of Grant County monthly meeting will be held July 11th at Cross Point Assembly of God Church beginning at 10:30 am.  The Silver Stompers will provide entertainment.  All singles are welcome.  Call 537-3643
URL:https://silvercityradio.com/event/widowed-persons-meeting-7/
LOCATION:Glad Tidings/Cross Point Assembly of God Church\, 11600 Highway 180 East\, Silver City\, NM\, 88061\, United States
CATEGORIES:Adult Event,Meeting
END:VEVENT
BEGIN:VEVENT
DTSTART;TZID=UTC:20160711T180000
DTEND;TZID=UTC:20160711T190000
DTSTAMP:20260424T173457
CREATED:20160705T161949Z
LAST-MODIFIED:20160705T161949Z
UID:10000275-1468260000-1468263600@silvercityradio.com
SUMMARY:Special School Board Meeting
DESCRIPTION:A special meeting of the Silver Consolidated Schools Board of Education will be held in the Board Room of the Administration Building on July 11th beginning at 6 pm.  The purpose of the meeting will be to discuss the superintendent’s search services.  Call 956-2000
URL:https://silvercityradio.com/event/special-school-board-meeting/
LOCATION:Silver Schools Admin Builing\, 2810 N Swan St\, Silver City\, NM\, 88061\, United States
CATEGORIES:Meeting
END:VEVENT
BEGIN:VEVENT
DTSTART;TZID=UTC:20160719T180000
DTEND;TZID=UTC:20160719T190000
DTSTAMP:20260424T173457
CREATED:20160713T145510Z
LAST-MODIFIED:20160713T145510Z
UID:10000284-1468951200-1468954800@silvercityradio.com
SUMMARY:Silver School Board Meeting
DESCRIPTION:Notice is given that the Regular Meeting of the Silver Consolidated Schools Board of Education is scheduled for Monday\, July 19th in the Board Room of the Administration building beginning at 6 pm. An agenda for the meeting may be obtained 72 hours prior to the meeting.  Call 956-2000
URL:https://silvercityradio.com/event/silver-school-board-meeting-3/
LOCATION:Silver Schools Admin Builing\, 2810 N Swan St\, Silver City\, NM\, 88061\, United States
CATEGORIES:Meeting
END:VEVENT
BEGIN:VEVENT
DTSTART;TZID=UTC:20160721T180000
DTEND;TZID=UTC:20160721T190000
DTSTAMP:20260424T173457
CREATED:20160718T225316Z
LAST-MODIFIED:20160718T225316Z
UID:10000295-1469124000-1469127600@silvercityradio.com
SUMMARY:Gila Valley Arroyos Watershed Meeting
DESCRIPTION:A regular meeting of the Upper Gila Valley Arroyos Watershed District will be held July 21st at 6 pm at the Gila Senior Center.  The public is invited to attend.  Call 388-1569
URL:https://silvercityradio.com/event/gila-valley-arroyos-watershed-meeting/
LOCATION:Gila Senior Center\, 403 NM-211\, Gila\, NM\, 88038\, United States
CATEGORIES:Meeting
END:VEVENT
END:VCALENDAR