BEGIN:VCALENDAR
VERSION:2.0
PRODID:-//Silver City Radio - ECPv6.3.3.1//NONSGML v1.0//EN
CALSCALE:GREGORIAN
METHOD:PUBLISH
X-WR-CALNAME:Silver City Radio
X-ORIGINAL-URL:https://silvercityradio.com
X-WR-CALDESC:Events for Silver City Radio
REFRESH-INTERVAL;VALUE=DURATION:PT1H
X-Robots-Tag:noindex
X-PUBLISHED-TTL:PT1H
BEGIN:VTIMEZONE
TZID:UTC
BEGIN:STANDARD
TZOFFSETFROM:+0000
TZOFFSETTO:+0000
TZNAME:UTC
DTSTART:20160101T000000
END:STANDARD
END:VTIMEZONE
BEGIN:VEVENT
DTSTART;TZID=UTC:20160610T103000
DTEND;TZID=UTC:20160610T120000
DTSTAMP:20260425T202224
CREATED:20160606T172243Z
LAST-MODIFIED:20160606T172243Z
UID:10000254-1465554600-1465560000@silvercityradio.com
SUMMARY:Woman's Club Monthly Meeting
DESCRIPTION:The Silver City Woman’s Club will have their monthly meeting this Friday at 10:30 am at the Woman’s Club Building\, 411 Silver Heights Boulevard.  All are welcome to attend the monthly member’s meeting.  Call 538-3452
URL:https://silvercityradio.com/event/womans-club-monthly-meeting/
LOCATION:Silver City Woman’s Club\, 411 Silver Heights Boulevard\, Silver City\, NM\, 88061\, United States
CATEGORIES:Meeting
END:VEVENT
BEGIN:VEVENT
DTSTART;TZID=UTC:20160621T180000
DTEND;TZID=UTC:20160621T200000
DTSTAMP:20260425T202224
CREATED:20160613T170558Z
LAST-MODIFIED:20160613T170558Z
UID:10000259-1466532000-1466539200@silvercityradio.com
SUMMARY:Silver School Board Meeting
DESCRIPTION:Notice is given that the Regular Meeting of the Silver Consolidated Schools Board of Education is scheduled for Tuesday\, June 21st in the Board Room of the Administration Building beginning at 6 pm.  An agenda for the meeting may be obtained 72 hours prior to the meeting.  Call 956-2000
URL:https://silvercityradio.com/event/silver-school-board-meeting-2/
LOCATION:Silver Schools Admin Builing\, 2810 N Swan St\, Silver City\, NM\, 88061\, United States
CATEGORIES:Meeting
END:VEVENT
BEGIN:VEVENT
DTSTART;TZID=UTC:20160623T140000
DTEND;TZID=UTC:20160623T160000
DTSTAMP:20260425T202224
CREATED:20160606T175503Z
LAST-MODIFIED:20160606T175503Z
UID:10000177-1466690400-1466697600@silvercityradio.com
SUMMARY:PRC Public Comment Hearing
DESCRIPTION:The Public Regulation Commission has scheduled two public comment hearings in Silver City to accommodate the strong public interest in the PNM Advanced Metering Infrastructure Project.  The meetings will be held June 23rd at 2 pm and 6 pm in the County Commission Meeting Room of the Grant County Administration Center.  Call 505-827-4446
URL:https://silvercityradio.com/event/prc-public-comment-hearing/
LOCATION:Grant County Administration Center\, 1400 US 180\, Silver City\, NM\, 88061\, United States
CATEGORIES:Adult Event,Meeting
END:VEVENT
BEGIN:VEVENT
DTSTART;TZID=UTC:20160623T180000
DTEND;TZID=UTC:20160623T190000
DTSTAMP:20260425T202224
CREATED:20160613T170025Z
LAST-MODIFIED:20160613T170025Z
UID:10000257-1466704800-1466708400@silvercityradio.com
SUMMARY:Farm Bureau Meeting
DESCRIPTION:The regular Grant County Farm Bureau meeting will be held June 23rd at 6 pm at the Farm Bureau Office
URL:https://silvercityradio.com/event/farm-bureau-meeting-3/
LOCATION:Grant County Farm Bureau Office\, 4505 Hwy 180 E\, Silver City\, NM\, 88061\, United States
CATEGORIES:Meeting
END:VEVENT
BEGIN:VEVENT
DTSTART;TZID=UTC:20160623T180000
DTEND;TZID=UTC:20160623T200000
DTSTAMP:20260425T202224
CREATED:20160606T175548Z
LAST-MODIFIED:20160606T175548Z
UID:10000166-1466704800-1466712000@silvercityradio.com
SUMMARY:PRC Public Comment Hearing
DESCRIPTION:The Public Regulation Commission has scheduled two public comment hearings in Silver City to accommodate the strong public interest in the PNM Advanced Metering Infrastructure Project.  The meetings will be held June 23rd at 2 pm and 6 pm in the County Commission Meeting Room of the Grant County Administration Center.  Call 505-827-4446
URL:https://silvercityradio.com/event/prc-public-comment-hearing-2/
LOCATION:Grant County Administration Center\, 1400 US 180\, Silver City\, NM\, 88061\, United States
CATEGORIES:Adult Event,Meeting
END:VEVENT
END:VCALENDAR