BEGIN:VCALENDAR
VERSION:2.0
PRODID:-//Silver City Radio - ECPv6.3.3.1//NONSGML v1.0//EN
CALSCALE:GREGORIAN
METHOD:PUBLISH
X-WR-CALNAME:Silver City Radio
X-ORIGINAL-URL:https://silvercityradio.com
X-WR-CALDESC:Events for Silver City Radio
REFRESH-INTERVAL;VALUE=DURATION:PT1H
X-Robots-Tag:noindex
X-PUBLISHED-TTL:PT1H
BEGIN:VTIMEZONE
TZID:UTC
BEGIN:STANDARD
TZOFFSETFROM:+0000
TZOFFSETTO:+0000
TZNAME:UTC
DTSTART:20180101T000000
END:STANDARD
END:VTIMEZONE
BEGIN:VEVENT
DTSTART;TZID=UTC:20181201T180000
DTEND;TZID=UTC:20181201T190000
DTSTAMP:20260425T114753
CREATED:20181126T182040Z
LAST-MODIFIED:20181126T182040Z
UID:10000957-1543687200-1543690800@silvercityradio.com
SUMMARY:Village of Santa Clara Lighted Parade
DESCRIPTION:The Village of Santa Clara in celebrating the start of the Holidays with their annual Lighted Holiday Parade on Saturday\, December 1st\, at 6:00 P.M. The parade will line up at old Fort Bayard and proceed to the village of Santa Clara where it will travel through the town.
URL:https://silvercityradio.com/event/village-of-santa-clara-lighted-parade/
LOCATION:Santa Clara
CATEGORIES:Entertainment,Holiday
END:VEVENT
BEGIN:VEVENT
DTSTART;TZID=UTC:20181201T180000
DTEND;TZID=UTC:20181201T210000
DTSTAMP:20260425T114753
CREATED:20181109T184709Z
LAST-MODIFIED:20181109T190027Z
UID:10000949-1543687200-1543698000@silvercityradio.com
SUMMARY:Deming Annual Christmas Lighted Parade and Tree Lighting Ceremony
DESCRIPTION:The Annual Deming Christmas Lighted Parade will be held on Saturday\, December 1st starting at 6:00 P.M at the Deming Visitors Center located at 800 East Pine Street and finishing at Deming Courthouse Park. There will be a lighting of a 30 foot Community Christmas Tree at Courthouse Park after the parade with Christmas caroling  and a visit from Santa in the pavilion.
URL:https://silvercityradio.com/event/deming-annual-christmas-lighted-parade-and-tree-lighting-ceremony/
LOCATION:Deming Courthouse Park
CATEGORIES:Adult Event,Entertainment,Holiday,Kids Event
END:VEVENT
BEGIN:VEVENT
DTSTART;TZID=UTC:20181202T150000
DTEND;TZID=UTC:20181202T170000
DTSTAMP:20260425T114753
CREATED:20181127T172139Z
LAST-MODIFIED:20181127T172139Z
UID:10000960-1543762800-1543770000@silvercityradio.com
SUMMARY:Deming Community Choir Fall Concert
DESCRIPTION:The Deming Community Choir will be presenting its Fall Concert at 3:00 P.M. on Sunday\, December 2nd\, at the Deming Public Schools’ Auditorium. The choir will also perform at the Green Tea\, which is held in the Deming-Luna-Mimbres Museum\, located at 301 South Silver Street at 3:00 P.M. on Saturday\, December 9th.
URL:https://silvercityradio.com/event/deming-community-choir-fall-concert/
LOCATION:Deming Public Schools Administration Building\, 422 W Birch Street Street\, Deming\, NM\, 88030\, United States
CATEGORIES:Concert,Holiday
END:VEVENT
BEGIN:VEVENT
DTSTART;TZID=UTC:20181207T170000
DTEND;TZID=UTC:20181207T183000
DTSTAMP:20260425T114753
CREATED:20181127T173357Z
LAST-MODIFIED:20181127T173357Z
UID:10000964-1544202000-1544207400@silvercityradio.com
SUMMARY:Kiwanis Youth Christmas Sing-Off
DESCRIPTION:Kiwanis youth leadership clubs will be competing in a Holiday Sing-off on Friday\, December 7th at 5:00 P.M. in Gough Park in Silver City under the Gazebo. The public is invited to watch as different age groups compete for cash prizes donated by Western Bank in Silver City. At dusk\, come watch the lighting of the gazebo then walk over to First Savings Bank for hot cocoa and cookies and view the Christmas Village on display.
URL:https://silvercityradio.com/event/kiwanis-youth-christmas-sing-off/
LOCATION:Gough Park
CATEGORIES:Concert,Entertainment,Holiday
END:VEVENT
BEGIN:VEVENT
DTSTART;TZID=UTC:20181207T190000
DTEND;TZID=UTC:20181207T210000
DTSTAMP:20260425T114753
CREATED:20181023T205142Z
LAST-MODIFIED:20181023T215237Z
UID:10000943-1544209200-1544216400@silvercityradio.com
SUMMARY:Annual Lordsburg Christmas Lighted Parade and Moonlight Madness
DESCRIPTION:The Annual Lordsburg Christmas Lighted Parade and Moonlight Madness will be held on Friday\, December 7th . For more information\, call the Lordsburg/Hidalgo Chamber of Commerce at 575-542-9864.
URL:https://silvercityradio.com/event/annual-lordsburg-christmas-lighted-parade-and-moonlight-madness/
LOCATION:Lordsburg\, United States
CATEGORIES:Entertainment,Holiday
END:VEVENT
BEGIN:VEVENT
DTSTART;TZID=UTC:20181207T190000
DTEND;TZID=UTC:20181207T210000
DTSTAMP:20260425T114753
CREATED:20181127T173142Z
LAST-MODIFIED:20181127T173142Z
UID:10000963-1544209200-1544216400@silvercityradio.com
SUMMARY:Hi Lo Silvers Holiday Concert
DESCRIPTION:Join the Hi Lo Silvers at their Holiday Concert and Sing-A-Long at First Presbyterian Church\, located at 1915 North Swan Street in Silver City at 7:00 P.M. on Friday December 7th and at 3:00 P.M. on Sunday December 9th. These festive holiday concerts are free and open to the public.
URL:https://silvercityradio.com/event/hi-lo-silvers-holiday-concert-2/
LOCATION:First Presbyterian Church\, 1915 North Swan Street\, Silver City\, NM\, 88061\, United States
CATEGORIES:Concert,Holiday
END:VEVENT
BEGIN:VEVENT
DTSTART;TZID=UTC:20181208T100000
DTEND;TZID=UTC:20181208T140000
DTSTAMP:20260425T114753
CREATED:20181127T175010Z
LAST-MODIFIED:20181127T175010Z
UID:10000966-1544263200-1544277600@silvercityradio.com
SUMMARY:Children's Miracle Network and Santa Visit
DESCRIPTION:Millie’s Bake House is hosting a fundraiser for the Children’s Miracle Network at their location at 600 North Bullard  Street in Silver City from 10:00 A.M to 2:00 P.M. on Saturday December 8th and Saturday December 15th. Santa will be available for “selfies” in return for your donation to the “Children’s Miracle Network”.
URL:https://silvercityradio.com/event/childrens-miracle-network-and-santa-visit/
LOCATION:Millie’s Bake House
CATEGORIES:Holiday
END:VEVENT
BEGIN:VEVENT
DTSTART;TZID=UTC:20181209T150000
DTEND;TZID=UTC:20181209T170000
DTSTAMP:20260425T114753
CREATED:20181127T172427Z
LAST-MODIFIED:20181127T172427Z
UID:10000961-1544367600-1544374800@silvercityradio.com
SUMMARY:Deming Community Choir Fall Concert
DESCRIPTION:The Deming Community Choir will be presenting its Fall Concert at the Green Tea\, which is held in the Deming-Luna-Mimbres Museum\, located at 301 South Silver Street at 3:00 P.M. on Saturday\, December 9th.
URL:https://silvercityradio.com/event/deming-community-choir-fall-concert-2/
LOCATION:Deming Luna Mimbres Museum
CATEGORIES:Concert,Holiday
END:VEVENT
BEGIN:VEVENT
DTSTART;TZID=UTC:20181213T170000
DTEND;TZID=UTC:20181213T200000
DTSTAMP:20260425T114753
CREATED:20181127T173748Z
LAST-MODIFIED:20181127T173748Z
UID:10000965-1544720400-1544731200@silvercityradio.com
SUMMARY:Silver City Museum Annual Victorian Christmas
DESCRIPTION:The Silver City Museum\, located at 312 West Broadway\, will celebrate the holidays with its annual Victorian Christmas open house on Thursday\, December 13th\, from 5:00-8:00pm. As in past years\, musical guests will perform holiday and other traditional music\, Christmas cookies and warm spiced cider will be served in the kitchen\, and children can participate in fun holiday activities and visit with Father Christmas! This year the Museum is a Scrooge’s Gift Swap! Visitors are encouraged to bring a small wrapped gift to put under the tree\, and to take one in exchange.
URL:https://silvercityradio.com/event/silver-city-museum-annual-victorian-christmas/
LOCATION:Silver City Museum\, 312 W. Broadway\, Silver City\, NM\, 88061\, United States
CATEGORIES:Entertainment,Holiday
END:VEVENT
BEGIN:VEVENT
DTSTART;TZID=UTC:20181215T100000
DTEND;TZID=UTC:20181215T110000
DTSTAMP:20260425T114753
CREATED:20181116T215708Z
LAST-MODIFIED:20181116T215708Z
UID:10000953-1544868000-1544871600@silvercityradio.com
SUMMARY:Wreaths Across America Ceremony at Ft. Bayard National Cemetery
DESCRIPTION:Members of the Grant County community will gather to honor veterans during the Christmas holiday season as part of the annual Wreaths Across America Day.  The ceremony will be held at Fort Bayard National Cemetery at 10:00 a.m.
URL:https://silvercityradio.com/event/wreaths-across-america-ceremony-at-ft-bayard-national-cemetery/
LOCATION:Fort Bayard National Cemetery
CATEGORIES:Holiday,Presentation,Volunteers
END:VEVENT
BEGIN:VEVENT
DTSTART;TZID=UTC:20181215T110000
DTEND;TZID=UTC:20181215T200000
DTSTAMP:20260425T114753
CREATED:20181204T211807Z
LAST-MODIFIED:20181204T211920Z
UID:10000971-1544871600-1544904000@silvercityradio.com
SUMMARY:Annual Hurley Hayride and Santa Visit
DESCRIPTION:The Hurley Volunteer Fire Department and the Hurley Pride Committee are excited to announce the annual Hayride and Santa’s visit this year on December 15th. at 11:00 A.M. Santa will be able to visit with the local children at the Patio Restaurant until 2:00 P.M. The Annual Hayride will be held at the Old Hurley Store at starting 6:00 P.M. Secret judges will also be touring the streets looking for the best decorated houses in Hurley\, so make sure your lights are on! For more information\, call 575-956-3535.
URL:https://silvercityradio.com/event/annual-hurley-hayride-and-santa-visit/
LOCATION:Hurley New Mexico\, Hurley\, NM\, United States
CATEGORIES:Entertainment,Holiday,Kids Event
END:VEVENT
BEGIN:VEVENT
DTSTART;TZID=UTC:20181222T110000
DTEND;TZID=UTC:20181222T140000
DTSTAMP:20260425T114753
CREATED:20181219T165914Z
LAST-MODIFIED:20181219T165914Z
UID:10000985-1545476400-1545487200@silvercityradio.com
SUMMARY:Columbus Chamber of Commerce Christmas Party
DESCRIPTION:The Columbus Chamber of Commerce is hosting a Christmas party for local children on Saturday from 11:00 A.M. to 2:00 P.M. at Columbus Plaza. Bring the kids to meet Santa and make a donation to Toys for Tots. Gift bags will be handed out to children and fruit baskets for adults and refreshments will be served. Call the chamber for more information or to make a donation at 575-343-0147.
URL:https://silvercityradio.com/event/columbus-chamber-of-commerce-christmas-party/
LOCATION:Columbus Plaza
CATEGORIES:Holiday,Kids Event
END:VEVENT
BEGIN:VEVENT
DTSTART;TZID=UTC:20181224T160000
DTEND;TZID=UTC:20181224T190000
DTSTAMP:20260425T114753
CREATED:20181205T172928Z
LAST-MODIFIED:20181205T172928Z
UID:10000975-1545667200-1545678000@silvercityradio.com
SUMMARY:Live Nativity in Glenwood
DESCRIPTION:The Glenwood Community Presbyterian Church is holding a Live Nativity and Candlelight Service at 4:00 P.M. on Christmas Eve\, December 24th starting at 4:00 P.M. There will be a bread soup meal followed the Live Nativity with local children playing the roles of the Christmas and a Candlelight Service. The event will be held outside the church on U.S Highway 180 in downtown Glenwood.
URL:https://silvercityradio.com/event/live-nativity-in-glenwood/
LOCATION:Glenwood Community Presbyterian Church\, Gleenwood\, NM\, United States
CATEGORIES:Holiday
END:VEVENT
BEGIN:VEVENT
DTSTART;TZID=UTC:20181224T170000
DTEND;TZID=UTC:20181224T180000
DTSTAMP:20260425T114753
CREATED:20181219T170721Z
LAST-MODIFIED:20181219T170721Z
UID:10000987-1545670800-1545674400@silvercityradio.com
SUMMARY:Deming Christmas Eve Service
DESCRIPTION:There will be a Christmas Eve Service at Courthouse Park in Deming on Monday\, December 24th at 5:00 P.M. The park is located at 700 Silver Avenue in Deming. All are welcome to attend.
URL:https://silvercityradio.com/event/deming-christmas-eve-service/
LOCATION:Deming Courthouse Park
CATEGORIES:Holiday
END:VEVENT
BEGIN:VEVENT
DTSTART;TZID=UTC:20181224T190000
DTEND;TZID=UTC:20181224T200000
DTSTAMP:20260425T114753
CREATED:20181219T171341Z
LAST-MODIFIED:20181219T171341Z
UID:10000988-1545678000-1545681600@silvercityradio.com
SUMMARY:Deming Christmas Eve Candlelight Service
DESCRIPTION:There will be a Christmas Eve Candlelight Service at First United Methodist Church in Deming at 7:00 P.M. The church is located at 1020 South Granite Street in Deming.
URL:https://silvercityradio.com/event/deming-christmas-eve-candlelight-service/
LOCATION:First United Methodist Church of Deming\, 1020 S Granite St\, Deming\, NM\, 88030\, United States
CATEGORIES:Holiday
END:VEVENT
BEGIN:VEVENT
DTSTART;TZID=UTC:20190420T090000
DTEND;TZID=UTC:20190420T120000
DTSTAMP:20260425T114753
CREATED:20190318T224633Z
LAST-MODIFIED:20190318T224711Z
UID:10001096-1555750800-1555761600@silvercityradio.com
SUMMARY:Kiwanis Club of Silver City Free Community Easter Egg Hunt
DESCRIPTION:The Kiwanis Club of Silver City is holding their annual free Community Easter Egg Hunt on Saturday\, April 20th from 9:00 A.M to 12 Noon at Penny Park in Silver City. Featuring over 5000 plastic eggs filled with candy prizes and surprises. There will be face painting\, create clay tiles with Diana Ingalls-Leyba community art project\, Dolly Parton Imagination Library\, Girl Scouts of the Desert Southwest\, and much more. Pre-register 30 minutes prior to hunt time. Call 575-538-3787 for hunt times.
URL:https://silvercityradio.com/event/kiwanis-club-of-silver-city-free-community-easter-egg-hunt/
LOCATION:Penny Park
CATEGORIES:Holiday,Kids Event
END:VEVENT
BEGIN:VEVENT
DTSTART;TZID=UTC:20190614T190000
DTEND;TZID=UTC:20190614T200000
DTSTAMP:20260425T114753
CREATED:20190610T192830Z
LAST-MODIFIED:20190610T193039Z
UID:10001186-1560538800-1560542400@silvercityradio.com
SUMMARY:American Legion Flag Disposal Ceremony/Flag Day
DESCRIPTION:The Allingham-Golding American Legion Post #18 will be holding a dignified flag disposal ceremony this Friday\, June 14th at 7:00 P.M. at their location on 409 West College Street in Silver City. The public is invited to attend the ceremony\, and in addition\, are encouraged to drop off used or unserviceable flags for future disposal.
URL:https://silvercityradio.com/event/american-legion-flag-disposal-ceremony-flag-day/
CATEGORIES:Holiday,Presentation
END:VEVENT
BEGIN:VEVENT
DTSTART;TZID=UTC:20190615T080000
DTEND;TZID=UTC:20190615T130000
DTSTAMP:20260425T114753
CREATED:20190530T220645Z
LAST-MODIFIED:20190530T220927Z
UID:10001181-1560585600-1560603600@silvercityradio.com
SUMMARY:Village of Columbus Founding Day Event
DESCRIPTION:The Village of Columbus will be celebrating their 128th “Founding Day” on Saturday\, June 15th from 8:00 A.M. to 1:00 P.M. There will be a parade\, entertainment\, arts & crafts and food vendors. An official “ribbon cutting” begins at 10:30 A.M. at the Gazebo.
URL:https://silvercityradio.com/event/village-of-columbus-founding-day-event/
LOCATION:Columbus Plaza
CATEGORIES:Entertainment,Food Event,Holiday,Kids Event
END:VEVENT
BEGIN:VEVENT
DTSTART;VALUE=DATE:20190704
DTEND;VALUE=DATE:20190705
DTSTAMP:20260425T114753
CREATED:20190618T150426Z
LAST-MODIFIED:20190619T222249Z
UID:10001193-1562198400-1562284799@silvercityradio.com
SUMMARY:Silver City Independence Day Celebration
DESCRIPTION:Celebrate Independence Day in Silver City on Thursday July 4th with the annual Parade beginning at 10:00 A.M. The parade will travel on Pope\, Bullard\, Broadway and Hudson Streets with theme “Made in the U.S.A-Built to Last.” Come to Gough Park from 7:00 A.M. to 4:00 P.M. for vendor booths\, food and entertainment hosted by the Silver City Grant County Chamber of Commerce. When it gets dark\, the annual First American Bank/Town of Silver City Fireworks Show will be shot from the top of the hill behind the Grant County Administration Building located at 1400 Highway 180 East in Silver City.
URL:https://silvercityradio.com/event/silver-city-independence-day-celebration/
LOCATION:Gough Park
CATEGORIES:Entertainment,Food Event,Holiday
END:VEVENT
BEGIN:VEVENT
DTSTART;TZID=UTC:20190704T090000
DTEND;TZID=UTC:20190704T220000
DTSTAMP:20260425T114753
CREATED:20190619T223741Z
LAST-MODIFIED:20190619T223741Z
UID:10001202-1562230800-1562277600@silvercityradio.com
SUMMARY:Lordsburg Independence Day Celebration
DESCRIPTION:The City of Lordsburg July 4th celebration will be taking place at Short Park\, located at 502 West 2nd Starting at 9:00 A.M. there will be a 5 on 5 Coed Indoor Volleyball Tournament along with vendors\, games\, contests\, free swimming at the pool\, and at dusk\, view a spectacular fireworks display. For more information\, call Jacob at 575-519-8800.
URL:https://silvercityradio.com/event/lordsburg-independence-day-celebration/
LOCATION:Short Park\, Lordsburg\, West 2nd Street\, Lordsburg\, 88049\, United States
CATEGORIES:Holiday
END:VEVENT
BEGIN:VEVENT
DTSTART;TZID=UTC:20190704T100000
DTEND;TZID=UTC:20190704T220000
DTSTAMP:20260425T114753
CREATED:20190619T223505Z
LAST-MODIFIED:20190619T223505Z
UID:10001201-1562234400-1562277600@silvercityradio.com
SUMMARY:Deming Independence Day Celebration
DESCRIPTION:The Deming Independence Day Parade will start on July 4th at 10:00 A.M.\, and will take route from Walmart to Gold Street and finishing at Luna County Courthouse Park. This year’s theme is “The Grand Old Flag.” After the parade\, enjoy live entertainment\, kid’s contests\, food\, and fun for everyone in Courthouse Park followed by fireworks at 9:15 P.M. between the Deming Airport and the Southwestern New Mexico State Fairgrounds.
URL:https://silvercityradio.com/event/deming-independence-day-celebration/
LOCATION:Luna County Courthouse Park\, Deming\, United States
CATEGORIES:Holiday
END:VEVENT
BEGIN:VEVENT
DTSTART;TZID=UTC:20190704T110000
DTEND;TZID=UTC:20190704T160000
DTSTAMP:20260425T114753
CREATED:20190619T222559Z
LAST-MODIFIED:20190619T222559Z
UID:10001198-1562238000-1562256000@silvercityradio.com
SUMMARY:Silver City Museum 36th Annual Ice Cream Social
DESCRIPTION:The Silver City Museum will be holding their 36th Annual Ice Cream Social from 11:00 A.M. to 4:00 P.M. at the museum courtyard located at 312 West Broadway in Silver City. Enjoy live entertainment\, food\, games\, and other attractions. For more information\, visit silvercitymuseum.org.
URL:https://silvercityradio.com/event/silver-city-museum-36th-annual-ice-cream-social/
CATEGORIES:Entertainment,Food Event,Holiday
END:VEVENT
BEGIN:VEVENT
DTSTART;TZID=UTC:20190704T140000
DTEND;TZID=UTC:20190704T220000
DTSTAMP:20260425T114753
CREATED:20190619T222914Z
LAST-MODIFIED:20190619T222914Z
UID:10001199-1562248800-1562277600@silvercityradio.com
SUMMARY:Glenwood Independence Day Celebration
DESCRIPTION:Come to the Independence Day celebration on July 4th at the Glenwood Community Park starting at 2:00 P.M. Enjoy the Gila River Band\, water balloon and egg tossing\, and BBQ meal for $10 a plate. The “Doo-Dah”parade will be at 6:00 P.M. and fireworks at dark\, followed by more dancing.
URL:https://silvercityradio.com/event/glenwood-independence-day-celebration/
CATEGORIES:Entertainment,Food Event,Holiday
END:VEVENT
BEGIN:VEVENT
DTSTART;TZID=UTC:20190911T120000
DTEND;TZID=UTC:20190911T130000
DTSTAMP:20260425T114753
CREATED:20190910T152129Z
LAST-MODIFIED:20190910T152129Z
UID:10001267-1568203200-1568206800@silvercityradio.com
SUMMARY:9/11 Patriots Day in Grant County
DESCRIPTION:September 11th will commemorate the 18th anniversary of the terrorist attacks on September 11th\, 2001. This day is now officially called “Patriot’s Day” and there will be a remembrance ceremony held at Gough Park tomorrow\, Wednesday September 11th from 12 noon to 1:00 P.M. Community members will gather together to honor 9/11\, Grant County firefighters\, veterans\, and police heroes. The public is encouraged to attend.
URL:https://silvercityradio.com/event/9-11-patriots-day-in-grant-county/
LOCATION:Gough Park
CATEGORIES:Holiday
END:VEVENT
BEGIN:VEVENT
DTSTART;TZID=UTC:20191005T100000
DTEND;TZID=UTC:20191005T140000
DTSTAMP:20260425T114753
CREATED:20191001T171216Z
LAST-MODIFIED:20191001T171216Z
UID:10001291-1570269600-1570284000@silvercityradio.com
SUMMARY:Valley Community Church
DESCRIPTION:The Valley Community Church located at 19-A Racetrack Road in Silver City is having a Fall Festival this Saturday\, October 5th from 10:00 A.M. to 2:00 P.M. This free event features pumpkin painting\, bobbing for apples\, crafts\, games\, cake walk\, chile roasting\, horse shoes and food. Join in for a free fun time of fellowship!
URL:https://silvercityradio.com/event/valley-community-church/
LOCATION:Valley Communuty Church\, 19-A Racetrack Road\, Silver City\, NM\, United States
CATEGORIES:Entertainment,Food Event,Holiday,Kids Event
END:VEVENT
BEGIN:VEVENT
DTSTART;TZID=UTC:20191025T170000
DTEND;TZID=UTC:20191025T210000
DTSTAMP:20260425T114753
CREATED:20191009T212637Z
LAST-MODIFIED:20191009T212637Z
UID:10001303-1572022800-1572037200@silvercityradio.com
SUMMARY:Community Halloween Trunk or Treat and Haunted House
DESCRIPTION:The Silver City Police Department is joining with G.W Stout Elementary to present a community Halloween Truck or Treat and Haunted House on Friday\, October 25th from 5:00 to 9:00 P.M. at the Stout Elementary parking lot on Swan Street. The Haunted house will be in the school gymnasium. Up to a group of 3 is $3 and a group of 5 or more is $5. There will also be free hotdogs and drinks provided.
URL:https://silvercityradio.com/event/community-halloween-trunk-or-treat-and-haunted-house/
LOCATION:G.W. Stout Elementary School\, 2601 N Silver St\, Silver City\, NM\, 88062-1014\, United States
CATEGORIES:Holiday,Kids Event
END:VEVENT
BEGIN:VEVENT
DTSTART;TZID=UTC:20191031T160000
DTEND;TZID=UTC:20191031T190000
DTSTAMP:20260425T114753
CREATED:20191031T201840Z
LAST-MODIFIED:20191031T201840Z
UID:10001328-1572537600-1572548400@silvercityradio.com
SUMMARY:Silver Health Care Trunk or Treat
DESCRIPTION:Silver Health Care is hosting a free community Halloween Trunk or Treat this Thursday\, October 31st from 4:00 to 7:00 P.M. in the Silver Health Care parking lot located at 1600 East 32nd Street\, in Silver City. Come by with the family for fun and lots of treats.
URL:https://silvercityradio.com/event/silver-health-care-trunk-or-treat/
LOCATION:Silver Health Care\, 1600 E 32nd Street\, Silver City\, NM\, United States
CATEGORIES:Holiday,Kids Event
END:VEVENT
BEGIN:VEVENT
DTSTART;TZID=UTC:20191031T163000
DTEND;TZID=UTC:20191031T193000
DTSTAMP:20260425T114753
CREATED:20191004T175722Z
LAST-MODIFIED:20191004T223022Z
UID:10001297-1572539400-1572550200@silvercityradio.com
SUMMARY:GRMC Free Community Halloween Trunk or Treat
DESCRIPTION:Gila Regional Medical Center is hosting its FREE Annual Halloween Trunk or Treat on Thursday\, October 31st from 4:30 to 7:30 P.M. at the GRMC parking lot located at  1313 E. 32nd Street in Silver City. There will be candy\, treats and lots of fun and frights. If you are a business and wish to participate\, please call 575-538-4000.
URL:https://silvercityradio.com/event/grmc-free-community-halloween-trunk-or-treat/
LOCATION:Gila Regional Medical Center\, 1313 E 32nd Street\, Silver City\, NM\, 88061\, United States
CATEGORIES:Holiday,Kids Event
END:VEVENT
BEGIN:VEVENT
DTSTART;TZID=UTC:20191031T170000
DTEND;TZID=UTC:20191031T200000
DTSTAMP:20260425T114753
CREATED:20191017T221240Z
LAST-MODIFIED:20191017T221240Z
UID:10001316-1572541200-1572552000@silvercityradio.com
SUMMARY:E.J's Styles/Living The Dream Nutrition Free Halloween Trunk or Treat
DESCRIPTION:E.J’s Styles and Living the Dream Nutrition & Apparel have partnered to hold their first free Halloween Trunk or Treat event on Thursday\, October 31st from 5:00 to 8:00 P.M. at the Mimbres Plaza located at 524 Silver Heights Boulevard in Silver City. There will be lots of candy\, a bounce house and more\, all free to the public.
URL:https://silvercityradio.com/event/e-js-styles-living-the-dream-nutrition-free-halloween-trunk-or-treat/
LOCATION:E.J’s Styles\, 524 Silver Heights Boulevard\, Silver City\, NM\, 88061\, United States
CATEGORIES:Entertainment,Holiday,Kids Event
END:VEVENT
BEGIN:VEVENT
DTSTART;TZID=UTC:20191031T173000
DTEND;TZID=UTC:20191031T200000
DTSTAMP:20260425T114753
CREATED:20191010T214639Z
LAST-MODIFIED:20191010T214948Z
UID:10001304-1572543000-1572552000@silvercityradio.com
SUMMARY:Lordsburg Elks Trunk or Treat
DESCRIPTION:The Lordsburg Elks Lodge will be hosting a Trunk or Treat at the Special Events Center located at 502 W 2nd Street on Halloween\, October 31st starting at 5:30 p.m. Individuals\, businesses and organizations are invited to participate. To reserve a spot\, email lordsburgelks@yahoo.com or call Glenda at 575-639-2484.
URL:https://silvercityradio.com/event/lordsburg-elks-trunk-or-treat/
LOCATION:Lordsburg Special Events Center\, 502 W 2nd Street\, Lordsburg\, NM\, 88045\, United States
CATEGORIES:Holiday,Kids Event
END:VEVENT
END:VCALENDAR