BEGIN:VCALENDAR
VERSION:2.0
PRODID:-//Silver City Radio - ECPv6.3.3.1//NONSGML v1.0//EN
CALSCALE:GREGORIAN
METHOD:PUBLISH
X-WR-CALNAME:Silver City Radio
X-ORIGINAL-URL:https://silvercityradio.com
X-WR-CALDESC:Events for Silver City Radio
REFRESH-INTERVAL;VALUE=DURATION:PT1H
X-Robots-Tag:noindex
X-PUBLISHED-TTL:PT1H
BEGIN:VTIMEZONE
TZID:UTC
BEGIN:STANDARD
TZOFFSETFROM:+0000
TZOFFSETTO:+0000
TZNAME:UTC
DTSTART:20180101T000000
END:STANDARD
END:VTIMEZONE
BEGIN:VEVENT
DTSTART;TZID=UTC:20181201T080000
DTEND;TZID=UTC:20181201T230000
DTSTAMP:20260423T090918
CREATED:20181116T214840Z
LAST-MODIFIED:20181116T214840Z
UID:10000951-1543651200-1543705200@silvercityradio.com
SUMMARY:Cobre Kiwanis Key Club Holiday Pancake Breakfast
DESCRIPTION:The Cobre High School Kiwanis Key Club in Bayard is hosting a Holiday Pancake Breakfast on campus Saturday\, December 1st from 8:00 to 11:00 A.M. Come enjoy pancakes\, sausage\, hash browns and a beverage for $7 a plate AND take a photo with Santa for a $2 donation per family. Proceeds will benefit leadership training for local youth.
URL:https://silvercityradio.com/event/cobre-kiwanis-key-club-holiday-pancake-breakfast/
LOCATION:Cobre High School\, 1300 Tom Foy Blvd\, Bayard\, NM\, 88023\, United States
CATEGORIES:Food Event,Fundraiser,Holiday
END:VEVENT
BEGIN:VEVENT
DTSTART;TZID=UTC:20181201T133000
DTEND;TZID=UTC:20181201T153000
DTSTAMP:20260423T090918
CREATED:20181127T171103Z
LAST-MODIFIED:20181127T171103Z
UID:10000958-1543671000-1543678200@silvercityradio.com
SUMMARY:Silver City Museum Christmas Workshop
DESCRIPTION:The Silver City Museum is offering a free Christmas ornaments workshop for families and adults on Saturday December 1st entitled “Get Christmas Creative.”  The workshop is a drop-in event and goes on from 1:30 pm to 3:30 P.M. at the museum located at 312 W. Broadway in Silver City.
URL:https://silvercityradio.com/event/silver-city-museum-christmas-workshop/
CATEGORIES:Craft,Holiday
END:VEVENT
BEGIN:VEVENT
DTSTART;TZID=UTC:20181201T140000
DTEND;TZID=UTC:20181201T190000
DTSTAMP:20260423T090918
CREATED:20181127T171620Z
LAST-MODIFIED:20181127T171620Z
UID:10000959-1543672800-1543690800@silvercityradio.com
SUMMARY:Hidalgo County Christmas Tree Lighting
DESCRIPTION:The Hidalgo County Annual Christmas Kickoff and Community Christmas Tree Lighting will be held on Saturday\, December 1st from 2:00 to 5:00 p.m. complete with Miniature Train Rides\, Horse Carriage Rides and much more at the Southside School Lot on 9th Street. The Community Christmas tree\, located on Main Street will be lit up later that evening at 6:00p.m. with a visit from Santa Claus.
URL:https://silvercityradio.com/event/hidalgo-county-christmas-tree-lighting/
CATEGORIES:Entertainment,Food Event,Holiday
END:VEVENT
BEGIN:VEVENT
DTSTART;TZID=UTC:20181201T180000
DTEND;TZID=UTC:20181201T190000
DTSTAMP:20260423T090918
CREATED:20181126T182040Z
LAST-MODIFIED:20181126T182040Z
UID:10000957-1543687200-1543690800@silvercityradio.com
SUMMARY:Village of Santa Clara Lighted Parade
DESCRIPTION:The Village of Santa Clara in celebrating the start of the Holidays with their annual Lighted Holiday Parade on Saturday\, December 1st\, at 6:00 P.M. The parade will line up at old Fort Bayard and proceed to the village of Santa Clara where it will travel through the town.
URL:https://silvercityradio.com/event/village-of-santa-clara-lighted-parade/
LOCATION:Santa Clara
CATEGORIES:Entertainment,Holiday
END:VEVENT
BEGIN:VEVENT
DTSTART;TZID=UTC:20181201T180000
DTEND;TZID=UTC:20181201T210000
DTSTAMP:20260423T090918
CREATED:20181109T184709Z
LAST-MODIFIED:20181109T190027Z
UID:10000949-1543687200-1543698000@silvercityradio.com
SUMMARY:Deming Annual Christmas Lighted Parade and Tree Lighting Ceremony
DESCRIPTION:The Annual Deming Christmas Lighted Parade will be held on Saturday\, December 1st starting at 6:00 P.M at the Deming Visitors Center located at 800 East Pine Street and finishing at Deming Courthouse Park. There will be a lighting of a 30 foot Community Christmas Tree at Courthouse Park after the parade with Christmas caroling  and a visit from Santa in the pavilion.
URL:https://silvercityradio.com/event/deming-annual-christmas-lighted-parade-and-tree-lighting-ceremony/
LOCATION:Deming Courthouse Park
CATEGORIES:Adult Event,Entertainment,Holiday,Kids Event
END:VEVENT
END:VCALENDAR