BEGIN:VCALENDAR
VERSION:2.0
PRODID:-//Silver City Radio - ECPv6.3.3.1//NONSGML v1.0//EN
CALSCALE:GREGORIAN
METHOD:PUBLISH
X-ORIGINAL-URL:https://silvercityradio.com
X-WR-CALDESC:Events for Silver City Radio
REFRESH-INTERVAL;VALUE=DURATION:PT1H
X-Robots-Tag:noindex
X-PUBLISHED-TTL:PT1H
BEGIN:VTIMEZONE
TZID:UTC
BEGIN:STANDARD
TZOFFSETFROM:+0000
TZOFFSETTO:+0000
TZNAME:UTC
DTSTART:20180101T000000
END:STANDARD
END:VTIMEZONE
BEGIN:VEVENT
DTSTART;VALUE=DATE:20181101
DTEND;VALUE=DATE:20181109
DTSTAMP:20260423T090905
CREATED:20181023T175037Z
LAST-MODIFIED:20181023T175037Z
UID:10000938-1541030400-1541721599@silvercityradio.com
SUMMARY:Deming Senior Center Thanksgiving Dinner Sign -Up
DESCRIPTION:The Deming Senior Citizen’s Center will register for its annual Thanksgiving Dinner from 9:00 A.M. to 12:30 P.M. from October 29th through November\, 8th at the center located at 800 S. Granite Street. Participants must come in personally in order to sign up. The Thanksgiving Dinner will be served in two sittings on Tuesday\, November 20th ; 11 A.M. and 12:30 P.M. at the center. For more information\, call our office at 575-546-8825 and ask for Alexandra Trujillo.
URL:https://silvercityradio.com/event/deming-senior-center-thanksgiving-dinner-sign-up/
LOCATION:Deming Senior Center\, 800 S Granite St\, Deming\, NM\, 88030\, United States
CATEGORIES:Adult Event,Food Event,Holiday
END:VEVENT
BEGIN:VEVENT
DTSTART;TZID=UTC:20181110T090000
DTEND;TZID=UTC:20181110T150000
DTSTAMP:20260423T090905
CREATED:20181025T144409Z
LAST-MODIFIED:20181025T144409Z
UID:10000947-1541840400-1541862000@silvercityradio.com
SUMMARY:Delta Kappa Gamma Society Holiday Bazaar & Craft Fair
DESCRIPTION:There is a Holiday Bazaar/Craft Fair sponsored by the Delta Kappa Gamma Society International honor organization for women educators on Saturday\, November 10th from 9:00 A.M. to 3:00 P.M. at 1301 North Swan Street in the Knights of Columbus building. There will be many unique items\, baked goods and prize drawings. This event benefits the DKG Scholarship Fund.
URL:https://silvercityradio.com/event/delta-kappa-gamma-society-holiday-bazaar-craft-fair/
LOCATION:Knights of Columbus Hall\, 1301 N Swan St\, Silver City\, NM\, 88061\, United States
CATEGORIES:Craft,Fundraiser,Holiday
END:VEVENT
BEGIN:VEVENT
DTSTART;TZID=UTC:20181111T100000
DTEND;TZID=UTC:20181111T110000
DTSTAMP:20260423T090905
CREATED:20181109T170747Z
LAST-MODIFIED:20181109T170747Z
UID:10000948-1541930400-1541934000@silvercityradio.com
SUMMARY:Veteran's Day at Ft. Bayard National Cemetery
DESCRIPTION:There is a Veteran’s Day ceremony at Fort Bayard National Cemetery on Sunday starting at 10:00 A.M. The key note speaker will be Colonel Susan Mundy Beck USAF (retired). This event is open to the public and all veterans. A flyover by the U.S. Air Force is expected.
URL:https://silvercityradio.com/event/veterans-day-at-ft-bayard-national-cemetery/
LOCATION:Ft. Bayard National Cemetery
CATEGORIES:Holiday,Presentation
END:VEVENT
BEGIN:VEVENT
DTSTART;TZID=UTC:20181120T110000
DTEND;TZID=UTC:20181120T140000
DTSTAMP:20260423T090905
CREATED:20181023T175413Z
LAST-MODIFIED:20181023T192638Z
UID:10000939-1542711600-1542722400@silvercityradio.com
SUMMARY:Deming Senior Center Thanksgiving Dinner
DESCRIPTION:The Deming Senior Citizen’s Center will offer their annual Thanksgiving Dinner at the center located at 800 S. Granite Street on Tuesday\, November 20th.  The Thanksgiving Dinner will be served in two sittings  ; 11 A.M. and 12:30 P.M. at the center. For more information\, call our office at 575-546-8825 and ask for Alexandra Trujillo.
URL:https://silvercityradio.com/event/deming-senior-center-thanksgiving-dinner/
LOCATION:Deming Senior Center\, 800 S Granite St\, Deming\, NM\, 88030\, United States
CATEGORIES:Adult Event,Food Event,Holiday
END:VEVENT
BEGIN:VEVENT
DTSTART;TZID=UTC:20181122T113000
DTEND;TZID=UTC:20181122T133000
DTSTAMP:20260423T090905
CREATED:20181116T220319Z
LAST-MODIFIED:20181116T220319Z
UID:10000955-1542886200-1542893400@silvercityradio.com
SUMMARY:Deming Thanksgiving Community Meal from TLC
DESCRIPTION:Transforming Luna County Through the Love of Christ (TLC – formerly Love INC) and its church affiliates invites the public to share in a community meal on Thanksgiving Day\, Thursday\, November 22nd  from 11:30 a.m. to 1:30 p.m. at First United Methodist Church\,  located at the corner of Granite and Buckeye\, next to the swimming pool. There is no charge\, no reservations are required\, and all are welcome. Guests can enter on the Buckeye Street (south) side of the building. For more information call 575- 544-2400.
URL:https://silvercityradio.com/event/deming-thanksgiving-community-meal-from-tlc/
LOCATION:First United Methodist Church of Deming\, 1020 S Granite St\, Deming\, NM\, 88030\, United States
CATEGORIES:Food Event,Holiday,Volunteers
END:VEVENT
BEGIN:VEVENT
DTSTART;VALUE=DATE:20181123
DTEND;VALUE=DATE:20181125
DTSTAMP:20260423T090905
CREATED:20181116T214211Z
LAST-MODIFIED:20181116T214231Z
UID:10000950-1542931200-1543103999@silvercityradio.com
SUMMARY:Holiday Fiber Arts Sale-SW Women's Fiber Arts Collective
DESCRIPTION:There’s Holiday Fiber Arts Sale this Friday November 23rd and Saturday November 24th from 10:00 A.M. to 4:00 P.M. at the Grant County Convention Center in Silver City. Sponsored by the Southwest Women’s Fiber Arts Collective\, visitors will find high quality weavings\, tapestries\, quilts\, silks and much more in all price ranges. Go to fiberartscollective.org for more information.
URL:https://silvercityradio.com/event/holiday-fiber-arts-sale-sw-womens-fiber-arts-collective-2/
LOCATION:Grant County Veteran’s Memorial Business and Conference Center\, 3031 Highway 180 East\, Silver City\, NM\, United States
CATEGORIES:Craft,Holiday
END:VEVENT
BEGIN:VEVENT
DTSTART;TZID=UTC:20181124T190000
DTEND;TZID=UTC:20181124T203000
DTSTAMP:20260423T090905
CREATED:20181023T204623Z
LAST-MODIFIED:20181023T204623Z
UID:10000942-1543086000-1543091400@silvercityradio.com
SUMMARY:28th Annual Silver City Lighted Christmas Parade
DESCRIPTION:The holiday season will begin with the 28th Annual Lighted Christmas Parade\, “A Storybook Christmas”.  The Lighted Christmas Parade will be held on Saturday\, November 24\, 2018 at 7 pm.  This wonderful community event is sponsored by Silver City MainStreet\, the Town of Silver City\, and Hidalgo Medical Services.  In addition to the parade\, there will be a horse drawn wagon to take shoppers around downtown Friday and Saturday\, November 23 and 24. It is also Shop Small Saturday and Silver City MainStreet will have totes to give away and businesses will be offering special deals. It is as great family friendly holiday weekend.” \nTo get an application\, email Charmeine@silvercitymainstreet.com or contact the Silver City MainStreet Project at 575-534-1700.  The deadline for applications is Saturday\, November 10\, 2018.
URL:https://silvercityradio.com/event/28th-annual-silver-city-lighted-christmas-parade/
CATEGORIES:Adult Event,Entertainment,Holiday,Kids Event
END:VEVENT
END:VCALENDAR