BEGIN:VCALENDAR
VERSION:2.0
PRODID:-//Silver City Radio - ECPv6.3.3.1//NONSGML v1.0//EN
CALSCALE:GREGORIAN
METHOD:PUBLISH
X-ORIGINAL-URL:https://silvercityradio.com
X-WR-CALDESC:Events for Silver City Radio
REFRESH-INTERVAL;VALUE=DURATION:PT1H
X-Robots-Tag:noindex
X-PUBLISHED-TTL:PT1H
BEGIN:VTIMEZONE
TZID:UTC
BEGIN:STANDARD
TZOFFSETFROM:+0000
TZOFFSETTO:+0000
TZNAME:UTC
DTSTART:20180101T000000
END:STANDARD
END:VTIMEZONE
BEGIN:VEVENT
DTSTART;TZID=UTC:20180704T080000
DTEND;TZID=UTC:20180704T170000
DTSTAMP:20260424T095251
CREATED:20180702T172835Z
LAST-MODIFIED:20180702T172835Z
UID:10000856-1530691200-1530723600@silvercityradio.com
SUMMARY:Lordsburg July 4th Festivities
DESCRIPTION:Lordsburg will be hosting their annual July 4th festivities with a volleyball and cornhole tournament\, homerun derby\, watermelon eating contest many other family activities including food vendors\, all starting at 4:30 P.M. at Short Park\, located at West 2nd Street in Lordsburg. A fireworks display will begin at dusk. For more information\, call 575-542-3421.
URL:https://silvercityradio.com/event/lordsburg-july-4th-festivities/
LOCATION:Short Park\, Lordsburg\, West 2nd Street\, Lordsburg\, 88049\, United States
CATEGORIES:Holiday
END:VEVENT
END:VCALENDAR