BEGIN:VCALENDAR
VERSION:2.0
PRODID:-//Silver City Radio - ECPv6.3.3.1//NONSGML v1.0//EN
CALSCALE:GREGORIAN
METHOD:PUBLISH
X-ORIGINAL-URL:https://silvercityradio.com
X-WR-CALDESC:Events for Silver City Radio
REFRESH-INTERVAL;VALUE=DURATION:PT1H
X-Robots-Tag:noindex
X-PUBLISHED-TTL:PT1H
BEGIN:VTIMEZONE
TZID:UTC
BEGIN:STANDARD
TZOFFSETFROM:+0000
TZOFFSETTO:+0000
TZNAME:UTC
DTSTART:20180101T000000
END:STANDARD
END:VTIMEZONE
BEGIN:VEVENT
DTSTART;TZID=UTC:20190608T090000
DTEND;TZID=UTC:20190608T120000
DTSTAMP:20260421T010900
CREATED:20190521T194419Z
LAST-MODIFIED:20190521T194419Z
UID:10001177-1559984400-1559995200@silvercityradio.com
SUMMARY:High Desert Humane Society Shot Clinic
DESCRIPTION:The High Desert Humane Society will be holding its monthly reduce rate rabies vaccination clinic on Saturday\, June 8th\, from 9 a.m. to 12 noon at the High Desert Humane Society located at 3050 S. Cougar Way in Silver City.  No appointment is necessary. Please have all dogs on a leash and all cats in a carrier.
URL:https://silvercityradio.com/event/high-desert-humane-society-shot-clinic-5/
CATEGORIES:Health Event,Pet Event
END:VEVENT
BEGIN:VEVENT
DTSTART;TZID=UTC:20190529T110000
DTEND;TZID=UTC:20190529T140000
DTSTAMP:20260421T010900
CREATED:20190521T162618Z
LAST-MODIFIED:20190521T162618Z
UID:10001176-1559127600-1559138400@silvercityradio.com
SUMMARY:Brain Injury Stroke Support Group Picnic 
DESCRIPTION:The Brain Injury and Stroke Support Group is holding their Annual Cook-Out on Wednesday\, May 29th from 11:00 A.M to 2:00 P.M. at the Little Walnut Picnic area located on Little Walnut Road in Silver City. This free event is for survivors of brain injury and stroke along with their caregivers and family members. For more information\, call Leigh Smith at 575-538-4899.
URL:https://silvercityradio.com/event/brain-injury-stroke-support-group-picnic/
LOCATION:Little Walnut Picnic Campgrounds
CATEGORIES:Health Event
END:VEVENT
BEGIN:VEVENT
DTSTART;VALUE=DATE:20190523
DTEND;VALUE=DATE:20190524
DTSTAMP:20260421T010900
CREATED:20190503T220840Z
LAST-MODIFIED:20190503T220840Z
UID:10001148-1558569600-1558655999@silvercityradio.com
SUMMARY:Stop The Bleed Training w/ Pinos Altos Volunteer Fire Rescue
DESCRIPTION:The Pinos Altos Volunteer Fire Rescue is sponsoring a Stop the Bleed Training as part of National Stop the Bleed Day on Thursday May 23rd. The training is the Bleeding Control Basic Course where you learn the basics of Bleeding Control. The training will be at the PAVFR Cottage San Road Station\, 2234 Cottage San Rd. in Silver City. Sessions include a power point introduction and hands on simulated training. There are three sessions planned\, starting at 5:30\, 6:30 and 7:30. Participants can attend any one of the hour long trainings. Stop the Bleed is one of our nation’s largest public health campaigns designed to encourage bystanders to become trained\, equipped\, and empowered to help in a bleeding emergency before professional help arrives. Its goal is to save lives by training people across the country how to stop traumatic bleeding. For additional information\, contact Karen at 972-467-0839 or Cyndy at 520-940-3133.
URL:https://silvercityradio.com/event/stop-the-bleed-training-w-pinos-altos-volunteer-fire-rescue/
LOCATION:Pinos Altos Volunteer Fire Department\, 2234 Cottage San Rd\, Silver City\, NM\, 88062-1014\, United States
CATEGORIES:Health Event,Training,Volunteers
END:VEVENT
BEGIN:VEVENT
DTSTART;VALUE=DATE:20190506
DTEND;VALUE=DATE:20190508
DTSTAMP:20260421T010900
CREATED:20190418T195443Z
LAST-MODIFIED:20190418T195443Z
UID:10001126-1557100800-1557273599@silvercityradio.com
SUMMARY:Cobre School District "Child Find" Event
DESCRIPTION:The Cobre Consolidated School District is conducting “Child Find Screenings” available for parents with concerns about development of their children ages 3 to 5. The screenings will be available on Monday\, May 6th and Tuesday May 7th from 10:00 A.M. to 6:00 P.M. at the Bayard Training Center. For more information\, call the Cobre Department of Special Education at 575-537-4017.
URL:https://silvercityradio.com/event/cobre-school-district-child-find-event/
LOCATION:Bayard Training Center
CATEGORIES:Health Event,Presentation,Training
END:VEVENT
BEGIN:VEVENT
DTSTART;TZID=UTC:20190302T090000
DTEND;TZID=UTC:20190302T110000
DTSTAMP:20260421T010900
CREATED:20190208T233317Z
LAST-MODIFIED:20190208T233359Z
UID:10001056-1551517200-1551524400@silvercityradio.com
SUMMARY:Skills for Dementia Caregiving Workshop
DESCRIPTION:  \n“Skills for Dementia Caregiving” is a FREE seven-session program designed for family and friends caring for a loved one with dementia\, and presented by the Alzheimer’s Association\, New Mexico Chapter. In addition\, the “Basics of Alzheimer’s Disease” presentation will be included. The class is open to those in Silver City and surrounding communities. The courses will be instructed by Gigi Ranger-Ellis\, CPG\, on Saturdays for seven weeks from March 2nd through April 13th from 9:00-11:00am. Sessions will be held at the Church of Christ\, 1920 Little Walnut Road in Silver City NM 88061. Class size is limited and they do fill up quickly.  Call now to register.  Participants of “Skills for Dementia Caregiving” may be reimbursed for the cost of having others tend to their loved one while they attend the classes. To register or for more information contact: Gigi Ellis 575-388-1319 or 1-800-272-3900. Email: tdelaluz@alz.org.
URL:https://silvercityradio.com/event/skills-for-dementia-caregiving-workshop/
LOCATION:Silver City Church of Christ\, 1920 Little Walnut Road\, Silver City\, NM\, 88061\, United States
CATEGORIES:Health Event,Presentation,Training
END:VEVENT
BEGIN:VEVENT
DTSTART;TZID=UTC:20190227T150000
DTEND;TZID=UTC:20190227T163000
DTSTAMP:20260421T010900
CREATED:20190214T213022Z
LAST-MODIFIED:20190214T213022Z
UID:10001075-1551279600-1551285000@silvercityradio.com
SUMMARY:Stroke Support Group
DESCRIPTION:The February meeting of the Stroke Support Group will be Wednesday\, February 27th at 3:00 P.M. Frank Gramer\, OTR will be the guest speaker talking about “Getting a Hand on Post Stroke Lymphedema”.  This presentation is open to all neurological disorders and stroke survivors. There is no charge and refreshments will be served. For more information\, contact Leigh Smith\, at the Billy Casper Rehab and Wellness Center at 575-538-4899.
URL:https://silvercityradio.com/event/stroke-support-group/
LOCATION:Billy Casper Wellness Center\, 300 E 16th St\, Silver City\, NM\, 88061\, United States
CATEGORIES:Health Event
END:VEVENT
BEGIN:VEVENT
DTSTART;TZID=UTC:20190221T140000
DTEND;TZID=UTC:20190221T150000
DTSTAMP:20260421T010900
CREATED:20190205T165142Z
LAST-MODIFIED:20190205T165216Z
UID:10001050-1550757600-1550761200@silvercityradio.com
SUMMARY:Overeaters Anonymous in Deming
DESCRIPTION:Overeaters Anonymous meets at 2:00 p.m. on Thursdays at the Deming Senior Citizens’ Center located at 800 S. Granite St. For more information\, contact Erin at 760-447-7474.
URL:https://silvercityradio.com/event/overeaters-anonymous-in-deming-3/
LOCATION:Deming Senior Center\, 800 S Granite St\, Deming\, NM\, 88030\, United States
CATEGORIES:Health Event
END:VEVENT
BEGIN:VEVENT
DTSTART;TZID=UTC:20190216T090000
DTEND;TZID=UTC:20190216T110000
DTSTAMP:20260421T010900
CREATED:20190111T235804Z
LAST-MODIFIED:20190111T235804Z
UID:10001008-1550307600-1550314800@silvercityradio.com
SUMMARY:Silver City Territorial Charter Day 5K Fun Run
DESCRIPTION:The annual Silver City Territorial Charter Day Urban Challenge 5k Fun Run will be taking place on Saturday\, February 16th at 9:00 A.M. in Downtown Silver City. The first 100 registered participants will receive a t-shirt to be picked up on race day. The race will start under the Downtown Arch and end at the Market Street Walking Bridge. Entry fee is 3 cans of food to be donated to the WNMU and Grant County Food Pantry. For more information\, visit the Silver City Territorial Charter Day 2019 page on Facebook.
URL:https://silvercityradio.com/event/silver-city-territorial-charter-day-5k-fun-run/
LOCATION:Downtown Silver City
CATEGORIES:Adult Event,Health Event,Kids Event,Sports
END:VEVENT
BEGIN:VEVENT
DTSTART;TZID=UTC:20190207T140000
DTEND;TZID=UTC:20190207T150000
DTSTAMP:20260421T010900
CREATED:20190205T164627Z
LAST-MODIFIED:20190205T165019Z
UID:10001045-1549548000-1549551600@silvercityradio.com
SUMMARY:Overeaters Anonymous in Deming
DESCRIPTION:Overeaters Anonymous meets at 2:00 p.m. on Thursdays at the Deming Senior Citizens’ Center located at 800 S. Granite St. For more information\, contact Erin at 760-447-7474.
URL:https://silvercityradio.com/event/overeaters-anonymous-in-deming/
LOCATION:Deming Senior Center\, 800 S Granite St\, Deming\, NM\, 88030\, United States
CATEGORIES:Health Event
END:VEVENT
BEGIN:VEVENT
DTSTART;TZID=UTC:20181115T090000
DTEND;TZID=UTC:20181115T120000
DTSTAMP:20260421T010900
CREATED:20181019T205446Z
LAST-MODIFIED:20181019T205446Z
UID:10000926-1542272400-1542283200@silvercityradio.com
SUMMARY:Diabetes Self Management Program
DESCRIPTION:Come learn how to better manage type 2 diabetes by joining the Diabetes Self-Management Program\, 9:00 A.M. to 12 noon each Thursday through November 15th at the Grant County Extension Office located at 2610 North Silver Street in Silver Street. Learn how to stay active while managing and improving your health. For more information\, call Judy at 575-388-1559.
URL:https://silvercityradio.com/event/diabetes-self-management-program-2/
LOCATION:Grant County Extension Office\, 2610 North Silver Street\, Silver City\, NM\, 88061\, United States
CATEGORIES:Adult Event,Health Event,Presentation,Training
END:VEVENT
BEGIN:VEVENT
DTSTART;TZID=UTC:20181108T090000
DTEND;TZID=UTC:20181108T120000
DTSTAMP:20260421T010900
CREATED:20181019T205723Z
LAST-MODIFIED:20181019T205723Z
UID:10000927-1541667600-1541678400@silvercityradio.com
SUMMARY:Diabetes Self Management Program
DESCRIPTION:Come learn how to better manage type 2 diabetes by joining the Diabetes Self-Management Program\, 9:00 A.M. to 12 noon each Thursday through November 15th at the Grant County Extension Office located at 2610 North Silver Street in Silver Street. Learn how to stay active while managing and improving your health. For more information\, call Judy at 575-388-1559.
URL:https://silvercityradio.com/event/diabetes-self-management-program-3/
LOCATION:Grant County Extension Office\, 2610 North Silver Street\, Silver City\, NM\, 88061\, United States
CATEGORIES:Adult Event,Health Event,Presentation
END:VEVENT
BEGIN:VEVENT
DTSTART;TZID=UTC:20181103T110000
DTEND;TZID=UTC:20181103T160000
DTSTAMP:20260421T010900
CREATED:20181023T221748Z
LAST-MODIFIED:20181023T221748Z
UID:10000945-1541242800-1541260800@silvercityradio.com
SUMMARY:7th Annual "Pedalista" Celebration of the Bicycle
DESCRIPTION:The Silver City Bike Works is hosting the 7th Annual “Pedelista” celebration of the bicycle on Saturday\, November 3rd   from 11:00 A.M to 4:00 P.M. at Gough Park in Silver City. There will be plenty of activities for young and old that include pedal Go-Kart races\, the Tall bike\, the Rodeo bike\, the side-by-side tandem\, the front-back tandem\, the Rim toss\, the Human Slingshot\, the Paperboy Challenge and more! In addition\, there will be drawing for free bikes\, music and snacks.
URL:https://silvercityradio.com/event/7th-annual-pedalista-celebration-of-the-bicycle/
LOCATION:Gough Park
CATEGORIES:Adult Event,Entertainment,Health Event,Kids Event,Volunteers
END:VEVENT
BEGIN:VEVENT
DTSTART;TZID=UTC:20181101T090000
DTEND;TZID=UTC:20181101T120000
DTSTAMP:20260421T010900
CREATED:20181019T205945Z
LAST-MODIFIED:20181019T220404Z
UID:10000928-1541062800-1541073600@silvercityradio.com
SUMMARY:Diabetes Self Management Program
DESCRIPTION:Come learn how to better manage type 2 diabetes by joining the Diabetes Self-Management Program\, 9:00 A.M. to 12 noon each Thursday through November 15th at the Grant County Extension Office located at 2610 North Silver Street in Silver Street. Learn how to stay active while managing and improving your health. For more information\, call Judy at 575-388-1559.
URL:https://silvercityradio.com/event/diabetes-self-management-program-4/
LOCATION:Grant County Extension Office\, 2610 North Silver Street\, Silver City\, NM\, 88061\, United States
CATEGORIES:Adult Event,Health Event,Presentation
END:VEVENT
BEGIN:VEVENT
DTSTART;TZID=UTC:20181027T100000
DTEND;TZID=UTC:20181027T140000
DTSTAMP:20260421T010900
CREATED:20181023T165141Z
LAST-MODIFIED:20181023T165749Z
UID:10000936-1540634400-1540648800@silvercityradio.com
SUMMARY:Drug Take Back Day
DESCRIPTION:Drug Take Back Day on Saturday\, October 27 from 10 a.m. to 2 p.m. at the Silver City Police Department\, 1011 North Hudson Street.Bring your unused or expired prescriptions and over-the-counter medications for safe disposal. It is free.  This includes pet medication and vitamins! Again that’s Drug Take Back Day on Saturday\, October 27 from 10 a.m. to 2 p.m. at the silver City Police Department!
URL:https://silvercityradio.com/event/drug-take-back-day/
CATEGORIES:Adult Event,Health Event
END:VEVENT
BEGIN:VEVENT
DTSTART;TZID=UTC:20181024T080000
DTEND;TZID=UTC:20181024T180000
DTSTAMP:20260421T010900
CREATED:20181019T222226Z
LAST-MODIFIED:20181019T222226Z
UID:10000931-1540368000-1540404000@silvercityradio.com
SUMMARY:Grant County Public Health Office Flu Shots
DESCRIPTION:The New Mexico Department of Health’s Grant County Public Health Office\, located 2610 N. Silver Street\, in Silver City will host a flu shot clinic on Wednesday\, October 24th\, from 8:00 A.M. to 12 noon and 1:00 P.M. to 6:00 P.M.
URL:https://silvercityradio.com/event/grant-county-public-health-office-flu-shots/
LOCATION:Grant County Public Health Office\, 2610 N. Silver Street
CATEGORIES:Health Event
END:VEVENT
BEGIN:VEVENT
DTSTART;TZID=UTC:20181023T090000
DTEND;TZID=UTC:20181023T130000
DTSTAMP:20260421T010900
CREATED:20181019T222000Z
LAST-MODIFIED:20181019T222000Z
UID:10000930-1540285200-1540299600@silvercityradio.com
SUMMARY:Deming Senior Center Flu Shots
DESCRIPTION:The Deming Senior Citizens’ Center\, will provide flu shots for seniors from 9:00 A.M. to 1:00 P.M. on Tuesday\, October 23rd\, at the center\, located at 800 South Granite Street. For more information\, contact Alexandra at 575-546-8825. \n 
URL:https://silvercityradio.com/event/deming-senior-center-flu-shots/
LOCATION:Deming Senior Center\, 800 S Granite St\, Deming\, NM\, 88030\, United States
CATEGORIES:Adult Event,Health Event
END:VEVENT
BEGIN:VEVENT
DTSTART;TZID=UTC:20181020T100000
DTEND;TZID=UTC:20181020T140000
DTSTAMP:20260421T010900
CREATED:20181002T230735Z
LAST-MODIFIED:20181002T230735Z
UID:10000902-1540029600-1540044000@silvercityradio.com
SUMMARY:3rd Annual Buddy Walk for Down Syndrome Awareness
DESCRIPTION:Arc of New Mexico Family Support Networks of Silver City and Deming invite everyone to the 3rd Annual Buddy Walk on Saturday\, October 20th from 10:00 A.M. to 2:00 P.M. at Gough Park in Silver City. Celebrate\, educate\, and advocate for Down Syndrome Awareness and enjoy activities for the entire family that include door-prizes\, music\, food\, resources\, and much more! FREE registration starts at 10:00 A.M and the actual Buddy Walk starts at 12 noon! A $15 donation includes a t-shirt and a Grand Prize ticket. For more information\, call Vicki at 575-590-7957.
URL:https://silvercityradio.com/event/3rd-annual-buddy-walk-for-down-syndrome-awareness/
LOCATION:Gough Park
CATEGORIES:Entertainment,Health Event,Volunteers
END:VEVENT
BEGIN:VEVENT
DTSTART;TZID=UTC:20181011T090000
DTEND;TZID=UTC:20181011T120000
DTSTAMP:20260421T010900
CREATED:20181003T151108Z
LAST-MODIFIED:20181003T151108Z
UID:10000909-1539248400-1539259200@silvercityradio.com
SUMMARY:Diabetes Self-Management Program
DESCRIPTION:Come learn how to better manage type 2 diabetes by joining the Diabetes Self-Management Program\, 9:00 A.M. to 12 noon each Thursday starting on October 11th through November 15th at the Grant County Extension Office located at 2610 North Silver Street in Silver Street. Learn how to stay active while managing and improving your health. For more information\, call Judy at 575-388-1559.
URL:https://silvercityradio.com/event/diabetes-self-management-program/
LOCATION:Grant County Extension Office\, 2610 North Silver Street\, Silver City\, NM\, 88061\, United States
CATEGORIES:Health Event
END:VEVENT
BEGIN:VEVENT
DTSTART;TZID=UTC:20180929T100000
DTEND;TZID=UTC:20180929T160000
DTSTAMP:20260421T010900
CREATED:20180720T175411Z
LAST-MODIFIED:20180720T195826Z
UID:10000873-1538215200-1538236800@silvercityradio.com
SUMMARY:Mimbres Valley Harvest Festival
DESCRIPTION:The 13th Annual Mimbres Valley Harvest Festival is a great family event in Grant County\, New Mexico.  The people of the Mimbres Valley annually celebrate the Mimbres Valley Harvest Festival to bring their community together\, encourage local agriculture through education and development of markets\, showcase locally grown food and handmade products\, and promote tourism to the Mimbres Valley\, located in the southwest corner of New Mexico on the southern/western edge of the Gila National Forest.
URL:https://silvercityradio.com/event/mimbres-valley-harvest-festival/
LOCATION:San Lorenzo Elementary School
CATEGORIES:Craft,Entertainment,Food Event,Health Event
END:VEVENT
BEGIN:VEVENT
DTSTART;TZID=UTC:20180908T100000
DTEND;TZID=UTC:20180908T140000
DTSTAMP:20260421T010900
CREATED:20180817T150318Z
LAST-MODIFIED:20180817T151854Z
UID:10000884-1536400800-1536415200@silvercityradio.com
SUMMARY:Red Hot Children's Fiesta
DESCRIPTION:This year’s theme is “Healthy Foundations-It Starts at Home”! The family fiesta will be held on Saturday\, September 8th from 10:00 A.M. to 2:00 P.M.\, at Penny Park in Silver City. This event provides interactive activities and promotes information for services\, resources and programs that support families and youth in Grant County. For more information\, call 575-388-1198.
URL:https://silvercityradio.com/event/red-hot-childrens-fiesta/
LOCATION:Penny Park\, North Grant Street\, Silver City\, NM\, 88061\, United States
CATEGORIES:Concert,Entertainment,Health Event,Kids Event,Presentation,Volunteers
END:VEVENT
BEGIN:VEVENT
DTSTART;TZID=UTC:20180811T090000
DTEND;TZID=UTC:20180811T120000
DTSTAMP:20260421T010900
CREATED:20180801T211910Z
LAST-MODIFIED:20180801T211910Z
UID:10000874-1533978000-1533988800@silvercityradio.com
SUMMARY:High Desert Humane Society Shot Clinic
DESCRIPTION:The High Desert Humane Society will be holding its monthly reduce rate rabies vaccination clinic on Saturday\, from 9:00 A.M. to 12 noon at the High Desert Humane Society located at 3050 S. Cougar Way. No is appointment is necessary. For further information call\, 575-538-9261.
URL:https://silvercityradio.com/event/high-desert-humane-society-shot-clinic/
LOCATION:High Desert Humane Society\, 3050 Cougar Way\, Silver City\, NM\, 88061\, United States
CATEGORIES:Health Event,Pet Event
END:VEVENT
BEGIN:VEVENT
DTSTART;VALUE=DATE:20180801
DTEND;VALUE=DATE:20180803
DTSTAMP:20260421T010900
CREATED:20180720T163013Z
LAST-MODIFIED:20180720T163013Z
UID:10000867-1533081600-1533254399@silvercityradio.com
SUMMARY:Locals Foods-Local Places Event
DESCRIPTION:The public is invited to attend a two-day event on Wednesday August 1st from 5:00 to 7:30 P.M. and Thursday\, August 2nd from 9:00 A.M. to 4:00 P.M.\, titled “Local Foods\, Local Places” that will provide initiatives to stimulate the local food economy. The community meeting be heled at The Commons Center for Food Security\, located at 501 East 13th Street in Silver. For more information\, call 575-388-2988.
URL:https://silvercityradio.com/event/locals-foods-local-places-event/
LOCATION:The Commons: Center for FoodSecurity\, 501 East 13th Street\, Silver City\, NM\, 88061\, United States
CATEGORIES:Adult Event,Entertainment,Food Event,Health Event,Presentation,Volunteers
END:VEVENT
BEGIN:VEVENT
DTSTART;TZID=UTC:20180616T100000
DTEND;TZID=UTC:20180616T140000
DTSTAMP:20260421T010900
CREATED:20180530T230105Z
LAST-MODIFIED:20180530T230105Z
UID:10000851-1529143200-1529157600@silvercityradio.com
SUMMARY:Free Healthy Father's Day Event
DESCRIPTION:Celebrate Dad at the 1st Annual Healthy Men Healthy Father’s Day” an interactive event on Saturday\, June 16th from 10:00 A.M to 2:00 P.M. at Luna County Courthouse Park in Deming. There will be free food\, prizes\, games\, employment booths\, massage\, haircuts\, music and much more.
URL:https://silvercityradio.com/event/free-healthy-fathers-day-event/
LOCATION:Luna County Courthouse Park\, Deming\, United States
CATEGORIES:Health Event
END:VEVENT
BEGIN:VEVENT
DTSTART;TZID=UTC:20180611T090000
DTEND;TZID=UTC:20180611T120000
DTSTAMP:20260421T010900
CREATED:20180530T165259Z
LAST-MODIFIED:20180530T174458Z
UID:10000827-1528707600-1528718400@silvercityradio.com
SUMMARY:Micro-farming Workshop
DESCRIPTION:Join the Southwest New Mexico Food Hub and learn about “Micro-farming 101: Growing Money in Your Backyard” on June 11th from 9:00 A.M. to 12 Noon at the Volunteer Center located at 501 East 13th Street in Silver City. Come and learn about micro-farming as a business in southwest New Mexico. To RSVP for this free event\, call Ben at 575-654-5130.
URL:https://silvercityradio.com/event/micro-farming-workshop/
LOCATION:Volunteer Center\, 501 E 13th St\, Silver City\, NM\, 88061\, United States
CATEGORIES:Health Event,Presentation,Training,Volunteers
END:VEVENT
BEGIN:VEVENT
DTSTART;TZID=UTC:20180512T100000
DTEND;TZID=UTC:20180512T130000
DTSTAMP:20260421T010900
CREATED:20180507T202420Z
LAST-MODIFIED:20180507T202420Z
UID:10000815-1526119200-1526130000@silvercityradio.com
SUMMARY:4th Annual Child Abuse Awareness/Prevention Event
DESCRIPTION:The public is welcome to attend the 4th Annual “Child Abuse Awareness and Prevention Event”\, on Saturday\, May 12th from 10:00 A.M. to 1:00 P.M. at Gough Park\, located at 1201 North Pope Street in Silver City. There will be jumping balloons\, food\, music\, and games and prizes. The event is free and open to the public.
URL:https://silvercityradio.com/event/4th-annual-child-abuse-awareness-prevention-event/
LOCATION:Gough Park
CATEGORIES:Adult Event,Craft,Entertainment,Food Event,Health Event,Kids Event,Presentation,Volunteers
END:VEVENT
BEGIN:VEVENT
DTSTART;TZID=UTC:20180512T080000
DTEND;TZID=UTC:20180512T170000
DTSTAMP:20260421T010900
CREATED:20180420T205520Z
LAST-MODIFIED:20180420T205520Z
UID:10000809-1526112000-1526144400@silvercityradio.com
SUMMARY:Go-Green/De-Stress Fest
DESCRIPTION:In honor of Mental Health Awareness month\, Presbyterian Medical Services will be hosting their first annual “Go-Green\, De-Stress Fest” event from 10:00 A.M. to 12 noon on May 12th\, at the Holy Family Parish Center\, located at 615 South Copper Street in Deming. The event will highlight ways to combat stress with each exhibit targeting stress-relieving interventions and providing information to resources to the public.
URL:https://silvercityradio.com/event/go-green-de-stress-fest/
CATEGORIES:Adult Event,Health Event
END:VEVENT
BEGIN:VEVENT
DTSTART;TZID=UTC:20180429T170000
DTEND;TZID=UTC:20180429T180000
DTSTAMP:20260421T010900
CREATED:20180420T210030Z
LAST-MODIFIED:20180420T210030Z
UID:10000810-1525021200-1525024800@silvercityradio.com
SUMMARY:Yoga for Veterans
DESCRIPTION:Yoga for Veterans is a free class offered every Tuesday through May 29th in the MeCHA building at WNMU from 5:00 to 6:00 P.M. to all Veterans in Grant County. It is a gentle class to improve range of motion\, sense of well- being\, sleep and attitude. All are welcome regardless of age\, ability\, experience or mood. There will be some benefit to all who attend. Make sure to wear comfortable clothing.
URL:https://silvercityradio.com/event/yoga-for-veterans-2/
LOCATION:WNMU MeCHA Building
CATEGORIES:Adult Event,Health Event,Sports,Training
END:VEVENT
BEGIN:VEVENT
DTSTART;TZID=UTC:20180414T100000
DTEND;TZID=UTC:20180414T150000
DTSTAMP:20260421T010900
CREATED:20180321T175007Z
LAST-MODIFIED:20180321T175007Z
UID:10000796-1523700000-1523718000@silvercityradio.com
SUMMARY:Silver City First Annual Autism Awareness Walk
DESCRIPTION:Come and Join in the fun at the First Annual Silver City Autism Awareness Walk on Saturday April 14th from 10:00 A.M. to 3:00 P.M.\, at Fox Field\, located at 2884 North Swan Street in Silver City. This will be a celebration of exceptional children and adults with autism in the community! There will be and games and information booths to help families learn about local services! Come and help celebrate autism awareness\, acceptance\, and inclusion!
URL:https://silvercityradio.com/event/silver-city-first-annual-autism-awareness-walk/
LOCATION:Fox Field\, 2884 N Swan St\, Silver City\, NM\, 88061\, United States
CATEGORIES:Health Event,Kids Event,Volunteers
END:VEVENT
BEGIN:VEVENT
DTSTART;TZID=UTC:20180407T090000
DTEND;TZID=UTC:20180407T120000
DTSTAMP:20260421T010900
CREATED:20180321T174139Z
LAST-MODIFIED:20180321T174139Z
UID:10000795-1523091600-1523102400@silvercityradio.com
SUMMARY:Deming Autism Awareness Community Walk
DESCRIPTION:There will be an Autism Awareness Community Walk in Deming on Saturday April 7th at Voiers “Pit” Park at 9:00 A.M. There will be music\, information booths\, prizes and much more. Participants can RSVP on Facebook by searching “Deming Autism Walk”.
URL:https://silvercityradio.com/event/deming-autism-awareness-community-walk/
LOCATION:Voier’s Park\, 300 N Country Club Road\, Deming\, NM\, 88030\, United States
CATEGORIES:Health Event,Kids Event,Volunteers
END:VEVENT
BEGIN:VEVENT
DTSTART;TZID=UTC:20180402T120000
DTEND;TZID=UTC:20180402T150000
DTSTAMP:20260421T010900
CREATED:20180321T172621Z
LAST-MODIFIED:20180321T172621Z
UID:10000791-1522670400-1522681200@silvercityradio.com
SUMMARY:SWNM Food Hub and Growers Guide Launch
DESCRIPTION:Join the National Center for Frontier Communities and Grant County Cooperative Extension Service at the Volunteer Center of Grant County on Monday\, April 2nd from 12 :00 P.M. to 3:00 P.M. to for the launch of new projects aimed at building the local food system.  The food hub is a new market outlet for regional growers to reach both local and statewide markets that offers training\, coordination\, aggregation and good pricing.  The growers guide is a regionally specific resource for growers of all stages and sizes to access locally appropriate information on production\, marketing\, planning and running a food or farm business in SWNM. Come and learn how to use this guide and how to tap into the food hub to make your food or farm business grow successful.  Every attendee will get a free copy of the growers guide.
URL:https://silvercityradio.com/event/swnm-food-hub-and-growers-guide-launch/
LOCATION:Volunteer Center\, 501 E 13th St\, Silver City\, NM\, 88061\, United States
CATEGORIES:Food Event,Health Event,Presentation
END:VEVENT
END:VCALENDAR