BEGIN:VCALENDAR
VERSION:2.0
PRODID:-//Silver City Radio - ECPv6.3.3.1//NONSGML v1.0//EN
CALSCALE:GREGORIAN
METHOD:PUBLISH
X-WR-CALNAME:Silver City Radio
X-ORIGINAL-URL:https://silvercityradio.com
X-WR-CALDESC:Events for Silver City Radio
REFRESH-INTERVAL;VALUE=DURATION:PT1H
X-Robots-Tag:noindex
X-PUBLISHED-TTL:PT1H
BEGIN:VTIMEZONE
TZID:UTC
BEGIN:STANDARD
TZOFFSETFROM:+0000
TZOFFSETTO:+0000
TZNAME:UTC
DTSTART:20160101T000000
END:STANDARD
END:VTIMEZONE
BEGIN:VEVENT
DTSTART;TZID=UTC:20170318T100000
DTEND;TZID=UTC:20170318T140000
DTSTAMP:20260422T001535
CREATED:20170228T164101Z
LAST-MODIFIED:20170228T164101Z
UID:10000544-1489831200-1489845600@silvercityradio.com
SUMMARY:Community Outreach Day Resource and Health Fair
DESCRIPTION:The Silver City Woman’s Club is holding the 3rd annual Community Outreach Day Resource and Health Fair on Saturday\, March 18th from 10 am to 2 pm at the historic Woman’s Club building.  25 community service organizations will be available to give information to the public.  Call 534-0505
URL:https://silvercityradio.com/event/community-outreach-day-resource-and-health-fair/
LOCATION:Silver City Woman’s Club\, 411 Silver Heights Boulevard\, Silver City\, NM\, 88061\, United States
CATEGORIES:Adult Event,Health Event
END:VEVENT
BEGIN:VEVENT
DTSTART;TZID=UTC:20170228T100000
DTEND;TZID=UTC:20170228T140000
DTSTAMP:20260422T001535
CREATED:20170227T163219Z
LAST-MODIFIED:20170227T163219Z
UID:10000523-1488276000-1488290400@silvercityradio.com
SUMMARY:Growing a Local Food System in Southwest New Mexico
DESCRIPTION:The National Center for Frontier Communities presents “Growing a Local Food System in Southwest New Mexico\,” a farm and food business training for all current and future growers of local food.  The presentation will be held on Tuesday\, February 28th from 10 am to 2 pm at the Grant County Extension Building.  Call 597-0032
URL:https://silvercityradio.com/event/growing-a-local-food-system-in-southwest-new-mexico/
LOCATION:Grant County Extension Office\, 2610 North Silver Street\, Silver City\, NM\, 88061\, United States
CATEGORIES:Food Event,Health Event,Presentation
END:VEVENT
BEGIN:VEVENT
DTSTART;TZID=UTC:20170208T160000
DTEND;TZID=UTC:20170208T180000
DTSTAMP:20260422T001535
CREATED:20170130T165820Z
LAST-MODIFIED:20170130T165820Z
UID:10000503-1486569600-1486576800@silvercityradio.com
SUMMARY:We (heart) Our Children Wellness Event at HMS
DESCRIPTION:Hidalgo Medical Services and Life Quest present “We  our Children\,”  An early childhood & wellness event on Wednesday\, February 8th from 4 to 6 pm at the HMS Community Health Center.  There will be a presentation\, health related education materials\, and free hearing screenings for attendees 5 and under.  Call 388-1511
URL:https://silvercityradio.com/event/we-heart-our-children-wellness-event-at-hms/
LOCATION:HMS Community Health Center Community Room\, 1007 N Pope St\, Silver City\, NM\, 88061\, United States
CATEGORIES:Health Event
END:VEVENT
BEGIN:VEVENT
DTSTART;TZID=UTC:20170128T090000
DTEND;TZID=UTC:20170128T110000
DTSTAMP:20260422T001535
CREATED:20170123T164355Z
LAST-MODIFIED:20170123T164355Z
UID:10000493-1485594000-1485601200@silvercityradio.com
SUMMARY:"Savvy Caregiver Program" offered in Silver City
DESCRIPTION:The Alzheimer’s Association\, New Mexico Chapter is offering a free course titled the “Savvy Caregiver Program” in Silver City each Saturday from January 28th through March 18th from 9 to 11 am at the Church of Christ\, 1920 Little Walnut Road.  Call 505-358-1590 to register\, or for more information
URL:https://silvercityradio.com/event/savvy-caregiver-program-offered-in-silver-city/
LOCATION:Church of Christ\, 1920 Little Walnut Road\, Silver City\, NM\, 88061\, United States
CATEGORIES:Health Event,Presentation
END:VEVENT
BEGIN:VEVENT
DTSTART;TZID=UTC:20170118T160000
DTEND;TZID=UTC:20170118T180000
DTSTAMP:20260422T001535
CREATED:20170103T180553Z
LAST-MODIFIED:20170103T180553Z
UID:10000472-1484755200-1484762400@silvercityradio.com
SUMMARY:Common Wednesday at the Volunteer Center
DESCRIPTION:The Volunteer Center Common Wednesdays’ theme of the month for January is Seeds.  On January 18th\, join family cook night from 4 to 6 pm as they prepare and eat a “seed buffet” featuring grains\, beans\, sprouts and chia cacao pudding for dessert.  Call 388-2988
URL:https://silvercityradio.com/event/common-wednesday-at-the-volunteer-center-3/
LOCATION:Volunteer Center\, 501 E 13th St\, Silver City\, NM\, 88061\, United States
CATEGORIES:Food Event,Health Event,Presentation
END:VEVENT
BEGIN:VEVENT
DTSTART;TZID=UTC:20170112T180000
DTEND;TZID=UTC:20170112T190000
DTSTAMP:20260422T001535
CREATED:20170103T180239Z
LAST-MODIFIED:20170103T180239Z
UID:10000470-1484244000-1484247600@silvercityradio.com
SUMMARY:Copper Country Senior Olympics Meeting
DESCRIPTION:The Copper Country Senior Olympics will have their regularly scheduled meeting on Thursday\, January 12th at 6 pm in the Grant County Extension Service Building meeting room.  Participants and the public are all invited to attend
URL:https://silvercityradio.com/event/copper-country-senior-olympics-meeting/
LOCATION:Grant County Extension Office\, 2610 North Silver Street\, Silver City\, NM\, 88061\, United States
CATEGORIES:Health Event,Meeting
END:VEVENT
BEGIN:VEVENT
DTSTART;TZID=UTC:20170111T160000
DTEND;TZID=UTC:20170111T180000
DTSTAMP:20260422T001535
CREATED:20161227T220737Z
LAST-MODIFIED:20161227T220737Z
UID:10000467-1484150400-1484157600@silvercityradio.com
SUMMARY:Common Wednesday at the Volunteer Center
DESCRIPTION:The Volunteer Center Common Wednesdays’ theme of the month for January is Seeds.  On January 11th there will be an open garden workshop from 4 to 6 pm.  Get your hands in the earth during a gardening activity\, and after join a workshop with Kristin centered around seeds.  Call 388-2988
URL:https://silvercityradio.com/event/common-wednesday-at-the-volunteer-center-2/
LOCATION:Volunteer Center\, 501 E 13th St\, Silver City\, NM\, 88061\, United States
CATEGORIES:Adult Event,Health Event
END:VEVENT
BEGIN:VEVENT
DTSTART;TZID=UTC:20170104T160000
DTEND;TZID=UTC:20170104T170000
DTSTAMP:20260422T001535
CREATED:20161227T220205Z
LAST-MODIFIED:20161227T220205Z
UID:10000464-1483545600-1483549200@silvercityradio.com
SUMMARY:Common Wednesday at the Volunteer Center
DESCRIPTION:The Volunteer Center Common Wednesdays’ theme of the month for January is Seeds.  On January 4th at 4 pm\, the “Seeds of Time\,” documentary follows agriculturalist Cary Fowler as he stockpiles seeds from around the globe in hopes of averting a future worldwide famine.  Call 388-2988
URL:https://silvercityradio.com/event/common-wednesday-at-the-volunteer-center/
LOCATION:Volunteer Center\, 501 E 13th St\, Silver City\, NM\, 88061\, United States
CATEGORIES:Adult Event,Entertainment,Health Event
END:VEVENT
BEGIN:VEVENT
DTSTART;TZID=UTC:20161118T080000
DTEND;TZID=UTC:20161118T160000
DTSTAMP:20260422T001535
CREATED:20161114T232239Z
LAST-MODIFIED:20161114T232239Z
UID:10000403-1479456000-1479484800@silvercityradio.com
SUMMARY:Flu Vaccination Offered
DESCRIPTION:The Grant County Public Health Office will be offering a Flu Vaccination for all ages on Friday\, November 18th from 8 to noon and 1 to 4 pm at 2610 North Silver Street.  If applicable\, please have your Medicare\, Medicaid or Insurance card available for review.  Call 538-5318
URL:https://silvercityradio.com/event/flu-vaccination-offered/
LOCATION:Grant County Public Health Department\, 2610 N Silver St\, Silver City\, NM\, 88061\, United States
CATEGORIES:Health Event
END:VEVENT
BEGIN:VEVENT
DTSTART;VALUE=DATE:20161029
DTEND;VALUE=DATE:20161031
DTSTAMP:20260422T001535
CREATED:20161017T165514Z
LAST-MODIFIED:20161017T165514Z
UID:10000378-1477699200-1477871999@silvercityradio.com
SUMMARY:Rope 4 Hope Team Roping and Barrel Racing
DESCRIPTION:The 8th Annual Rope 4 Hope will be held October 29th and 30th at the Baird Arena in Cliff\, with team roping on Saturday and barrel racing on Sunday.  All proceeds are distributed to cancer patients in the tri-county area who have financial needs due to cancer treatments.  Visit www.rope4hope.org
URL:https://silvercityradio.com/event/rope-4-hope-team-roping-and-barrel-racing/
LOCATION:Baird Arena\, 130 Arena Road\, Cliff\, NM\, 88028\, United States
CATEGORIES:Adult Event,Fundraiser,Health Event
END:VEVENT
BEGIN:VEVENT
DTSTART;TZID=UTC:20161022T093000
DTEND;TZID=UTC:20161022T133000
DTSTAMP:20260422T001535
CREATED:20161017T163536Z
LAST-MODIFIED:20161017T163536Z
UID:10000370-1477128600-1477143000@silvercityradio.com
SUMMARY:First Annual Buddy Walk
DESCRIPTION:Family Support Networks of Silver City and Deming are pleased to present their first annual Buddy Walk in honor of Down Syndrome Awareness Month on Saturday\, October 22nd from 9:30 am to 1:30 pm in Gough Park.  There will be activity tables\, jumping balloons\, refreshments\, and prizes.  Call the Arc of New Mexico at 1-800-358-6493
URL:https://silvercityradio.com/event/first-annual-buddy-walk/
LOCATION:Gough Park
CATEGORIES:Health Event
END:VEVENT
BEGIN:VEVENT
DTSTART;TZID=UTC:20161022T090000
DTEND;TZID=UTC:20161022T140000
DTSTAMP:20260422T001535
CREATED:20161017T163142Z
LAST-MODIFIED:20161017T163142Z
UID:10000369-1477126800-1477144800@silvercityradio.com
SUMMARY:Flu Vaccination Clinic at Mimbres Memorial Hospital
DESCRIPTION:For our Deming listeners\, there will be a free drive through flu vaccination clinic at the Mimbres Memorial Hospital\, 900 West Ash Street\, on Saturday\, October 22nd from 9 am to 2 pm.  Call 546-5800
URL:https://silvercityradio.com/event/flu-vaccination-clinic-at-mimbres-memorial-hospital/
LOCATION:Mimbres Memorial Hospital\, 900 W Ash St\, Deming\, NM\, 88030\, United States
CATEGORIES:Health Event
END:VEVENT
BEGIN:VEVENT
DTSTART;TZID=UTC:20161001T090000
DTEND;TZID=UTC:20161001T120000
DTSTAMP:20260422T001535
CREATED:20160926T174311Z
LAST-MODIFIED:20160926T174311Z
UID:10000355-1475312400-1475323200@silvercityradio.com
SUMMARY:HMS Lordsburg Flu Vaccination Clinic
DESCRIPTION:For our Lordsburg listeners\, the HMS Lordsburg Clinic will be holding a free flu vaccination drive-through clinic on October 1st from 9 am to noon. Please enter off E. DeMoss Street.  Call (888) 271-3596 for more information
URL:https://silvercityradio.com/event/hms-lordsburg-flu-vaccination-clinic/
LOCATION:HMS – Lordsburg\, 530 DeMoss St\, Lordsburg\, NM\, 88045\, United States
CATEGORIES:Health Event
END:VEVENT
BEGIN:VEVENT
DTSTART;TZID=UTC:20160922T093000
DTEND;TZID=UTC:20160922T123000
DTSTAMP:20260422T001535
CREATED:20160921T154103Z
LAST-MODIFIED:20160921T154103Z
UID:10000348-1474536600-1474547400@silvercityradio.com
SUMMARY:Blood Drives in Honor of Childhood Cancer Awareness
DESCRIPTION:There will be a series of blood drives in honor of September as Childhood Cancer Awareness Month. Drives will be held at Western New Mexico University and Billy Casper Wellness Center on Wednesday\, September 21st from 11 am to 3 pm\, and at Gila Regional Medical Center on Thursday from 9:30 am to 12:30 pm
URL:https://silvercityradio.com/event/blood-drives-in-honor-of-childhood-cancer-awareness-2/
LOCATION:Gila Regional Medical Center\, 1313 E 32nd Street\, Silver City\, NM\, 88061\, United States
CATEGORIES:Health Event
END:VEVENT
BEGIN:VEVENT
DTSTART;TZID=UTC:20160921T110000
DTEND;TZID=UTC:20160921T150000
DTSTAMP:20260422T001535
CREATED:20160921T153952Z
LAST-MODIFIED:20160921T153952Z
UID:10000347-1474455600-1474470000@silvercityradio.com
SUMMARY:Blood Drives in Honor of Childhood Cancer Awareness
DESCRIPTION:There will be a series of blood drives in honor of September as Childhood Cancer Awareness Month. Drives will be held at Western New Mexico University and Billy Casper Wellness Center on Wednesday\, September 21st from 11 am to 3 pm\, and at Gila Regional Medical Center on Thursday from 9:30 am to 12:30 pm
URL:https://silvercityradio.com/event/blood-drives-in-honor-of-childhood-cancer-awareness/
LOCATION:WNMU\, 1000 West College Avenue\, Silver City\, NM\, 88061\, United States
CATEGORIES:Health Event
END:VEVENT
BEGIN:VEVENT
DTSTART;TZID=UTC:20160921T110000
DTEND;TZID=UTC:20160921T150000
DTSTAMP:20260422T001535
CREATED:20160921T153901Z
LAST-MODIFIED:20160921T153901Z
UID:10000346-1474455600-1474470000@silvercityradio.com
SUMMARY:Blood Drives in Honor of Childhood Cancer Awareness Month
DESCRIPTION:There will be a series of blood drives in honor of September as Childhood Cancer Awareness Month. Drives will be held at Western New Mexico University and Billy Casper Wellness Center on Wednesday\, September 21st from 11 am to 3 pm\, and at Gila Regional Medical Center on Thursday from 9:30 am to 12:30 pm
URL:https://silvercityradio.com/event/blood-drives-in-honor-of-childhood-cancer-awareness-month/
LOCATION:Billy Casper Wellness Center\, 300 E 16th St\, Silver City\, NM\, 88061\, United States
CATEGORIES:Health Event
END:VEVENT
END:VCALENDAR