BEGIN:VCALENDAR
VERSION:2.0
PRODID:-//Silver City Radio - ECPv6.3.3.1//NONSGML v1.0//EN
CALSCALE:GREGORIAN
METHOD:PUBLISH
X-WR-CALNAME:Silver City Radio
X-ORIGINAL-URL:https://silvercityradio.com
X-WR-CALDESC:Events for Silver City Radio
REFRESH-INTERVAL;VALUE=DURATION:PT1H
X-Robots-Tag:noindex
X-PUBLISHED-TTL:PT1H
BEGIN:VTIMEZONE
TZID:UTC
BEGIN:STANDARD
TZOFFSETFROM:+0000
TZOFFSETTO:+0000
TZNAME:UTC
DTSTART:20190101T000000
END:STANDARD
END:VTIMEZONE
BEGIN:VEVENT
DTSTART;TZID=UTC:20191218T150000
DTEND;TZID=UTC:20191218T160000
DTSTAMP:20260420T121130
CREATED:20191217T224959Z
LAST-MODIFIED:20191217T224959Z
UID:10001396-1576681200-1576684800@silvercityradio.com
SUMMARY:Brain Injury Support Group
DESCRIPTION:There is a Brain Injury and Stroke Support Group Monthly Meeting this Wednesday December 18th from 3:00 to 4:00 PM GRMC Billy Casper Rehab & Wellness Center located at 300 East 16th Street in Silver City. Contact Leigh Smith at GRMC Billy Casper Rehab & Wellness Center at 575-538-4899 for additional details.
URL:https://silvercityradio.com/event/brain-injury-support-group/
LOCATION:Billy Casper Wellness Center\, 300 E 16th St\, Silver City\, NM\, 88061\, United States
CATEGORIES:Health Event
END:VEVENT
END:VCALENDAR