BEGIN:VCALENDAR
VERSION:2.0
PRODID:-//Silver City Radio - ECPv6.3.3.1//NONSGML v1.0//EN
CALSCALE:GREGORIAN
METHOD:PUBLISH
X-ORIGINAL-URL:https://silvercityradio.com
X-WR-CALDESC:Events for Silver City Radio
REFRESH-INTERVAL;VALUE=DURATION:PT1H
X-Robots-Tag:noindex
X-PUBLISHED-TTL:PT1H
BEGIN:VTIMEZONE
TZID:UTC
BEGIN:STANDARD
TZOFFSETFROM:+0000
TZOFFSETTO:+0000
TZNAME:UTC
DTSTART:20190101T000000
END:STANDARD
END:VTIMEZONE
BEGIN:VEVENT
DTSTART;TZID=UTC:20191029T090000
DTEND;TZID=UTC:20191029T130000
DTSTAMP:20260420T083759
CREATED:20191023T190204Z
LAST-MODIFIED:20191023T190204Z
UID:10001322-1572339600-1572354000@silvercityradio.com
SUMMARY:Deming Senior Center Flu Shot Clinic
DESCRIPTION:Flu shots will be given from 9:00 a.m. to 1:00 p.m. on Tuesday\, October 29th\, at the Deming Senior Citizen’s Center\, located at 800 S. Granite Street in Deming. For more information\, call Alexandra Acosta at 575-546-8825.
URL:https://silvercityradio.com/event/deming-senior-center-flu-shot-clinic/
LOCATION:Deming Senior Center\, 800 S Granite St\, Deming\, NM\, 88030\, United States
CATEGORIES:Health Event
END:VEVENT
END:VCALENDAR