BEGIN:VCALENDAR
VERSION:2.0
PRODID:-//Silver City Radio - ECPv6.3.3.1//NONSGML v1.0//EN
CALSCALE:GREGORIAN
METHOD:PUBLISH
X-ORIGINAL-URL:https://silvercityradio.com
X-WR-CALDESC:Events for Silver City Radio
REFRESH-INTERVAL;VALUE=DURATION:PT1H
X-Robots-Tag:noindex
X-PUBLISHED-TTL:PT1H
BEGIN:VTIMEZONE
TZID:UTC
BEGIN:STANDARD
TZOFFSETFROM:+0000
TZOFFSETTO:+0000
TZNAME:UTC
DTSTART:20190101T000000
END:STANDARD
END:VTIMEZONE
BEGIN:VEVENT
DTSTART;TZID=UTC:20190227T150000
DTEND;TZID=UTC:20190227T163000
DTSTAMP:20260423T211904
CREATED:20190214T213022Z
LAST-MODIFIED:20190214T213022Z
UID:10001075-1551279600-1551285000@silvercityradio.com
SUMMARY:Stroke Support Group
DESCRIPTION:The February meeting of the Stroke Support Group will be Wednesday\, February 27th at 3:00 P.M. Frank Gramer\, OTR will be the guest speaker talking about “Getting a Hand on Post Stroke Lymphedema”.  This presentation is open to all neurological disorders and stroke survivors. There is no charge and refreshments will be served. For more information\, contact Leigh Smith\, at the Billy Casper Rehab and Wellness Center at 575-538-4899.
URL:https://silvercityradio.com/event/stroke-support-group/
LOCATION:Billy Casper Wellness Center\, 300 E 16th St\, Silver City\, NM\, 88061\, United States
CATEGORIES:Health Event
END:VEVENT
END:VCALENDAR