BEGIN:VCALENDAR
VERSION:2.0
PRODID:-//Silver City Radio - ECPv6.3.3.1//NONSGML v1.0//EN
CALSCALE:GREGORIAN
METHOD:PUBLISH
X-WR-CALNAME:Silver City Radio
X-ORIGINAL-URL:https://silvercityradio.com
X-WR-CALDESC:Events for Silver City Radio
REFRESH-INTERVAL;VALUE=DURATION:PT1H
X-Robots-Tag:noindex
X-PUBLISHED-TTL:PT1H
BEGIN:VTIMEZONE
TZID:UTC
BEGIN:STANDARD
TZOFFSETFROM:+0000
TZOFFSETTO:+0000
TZNAME:UTC
DTSTART:20190101T000000
END:STANDARD
END:VTIMEZONE
BEGIN:VEVENT
DTSTART;TZID=UTC:20190207T140000
DTEND;TZID=UTC:20190207T150000
DTSTAMP:20260424T053142
CREATED:20190205T164627Z
LAST-MODIFIED:20190205T165019Z
UID:10001045-1549548000-1549551600@silvercityradio.com
SUMMARY:Overeaters Anonymous in Deming
DESCRIPTION:Overeaters Anonymous meets at 2:00 p.m. on Thursdays at the Deming Senior Citizens’ Center located at 800 S. Granite St. For more information\, contact Erin at 760-447-7474.
URL:https://silvercityradio.com/event/overeaters-anonymous-in-deming/
LOCATION:Deming Senior Center\, 800 S Granite St\, Deming\, NM\, 88030\, United States
CATEGORIES:Health Event
END:VEVENT
END:VCALENDAR