BEGIN:VCALENDAR
VERSION:2.0
PRODID:-//Silver City Radio - ECPv6.3.3.1//NONSGML v1.0//EN
CALSCALE:GREGORIAN
METHOD:PUBLISH
X-ORIGINAL-URL:https://silvercityradio.com
X-WR-CALDESC:Events for Silver City Radio
REFRESH-INTERVAL;VALUE=DURATION:PT1H
X-Robots-Tag:noindex
X-PUBLISHED-TTL:PT1H
BEGIN:VTIMEZONE
TZID:UTC
BEGIN:STANDARD
TZOFFSETFROM:+0000
TZOFFSETTO:+0000
TZNAME:UTC
DTSTART:20190101T000000
END:STANDARD
END:VTIMEZONE
BEGIN:VEVENT
DTSTART;TZID=UTC:20190810T090000
DTEND;TZID=UTC:20190810T120000
DTSTAMP:20260422T140322
CREATED:20190730T141902Z
LAST-MODIFIED:20190730T141902Z
UID:10001228-1565427600-1565438400@silvercityradio.com
SUMMARY:High Desert Humane Society Shot Clinic
DESCRIPTION:The Humane Society will be holding its monthly reduce rate rabies vaccination clinic on Saturday\, August 10th from 9:00 a.m. to 12 noon at the High Desert Humane Society located at 3050 S. Cougar Way.  No appointment necessary. Please have all dogs on a leash and all cats in a carrier.
URL:https://silvercityradio.com/event/high-desert-humane-society-shot-clinic-6/
LOCATION:High Desert Humane Society\, 3050 Cougar Way\, Silver City\, NM\, 88061\, United States
CATEGORIES:Health Event
END:VEVENT
BEGIN:VEVENT
DTSTART;TZID=UTC:20190810T110000
DTEND;TZID=UTC:20190810T130000
DTSTAMP:20260422T140322
CREATED:20190806T223325Z
LAST-MODIFIED:20190806T223325Z
UID:10001234-1565434800-1565442000@silvercityradio.com
SUMMARY:Veterans Medicare 101 Workshop
DESCRIPTION:Area Veterans can attend a free Medicare 101 Workshop this Saturday\, August 10th at 11:00 A.M. the American Legion Post 18 located at 409 West College Avenue in Silver City. Get a quick review about medical costs and choices to find what is right for you at this free event for veterans. For more information\, call 505-322-5529.
URL:https://silvercityradio.com/event/veterans-medicare-101-workshop/
LOCATION:Allingham-Golding American Legion Post #18\, 409 W. College Avenue\, Silver City
CATEGORIES:Health Event
END:VEVENT
BEGIN:VEVENT
DTSTART;TZID=UTC:20190811T110000
DTEND;TZID=UTC:20190811T120000
DTSTAMP:20260422T140322
CREATED:20190807T202250Z
LAST-MODIFIED:20190807T202250Z
UID:10001239-1565521200-1565524800@silvercityradio.com
SUMMARY:Lotus Center Pilates in the Park
DESCRIPTION:Lotus Center Pilates in the Park  11:00 am – 12:00 noon on Sunday\, August 11 at Gough Park located at Pope and 12th Streets.  Join Crystal Netz-Arenivar\, for an hour of Pilates\, a form of movement that focuses on core awareness and toning of the entire body\, especially the postural muscles.  This method of conditioning suits all levels of fitness\, from those who wish to maintain or correct posture to those who wish to increase their athleticism.  While participants are invited to bring their own mat\, a few extra mats will be on hand.  Pre-registration is not required; loose-fitting clothes are encouraged; meet at the gazebo.  No experience necessary.  Free of charge.
URL:https://silvercityradio.com/event/lotus-center-pilates-in-the-park/
LOCATION:Gough Park
CATEGORIES:Health Event
END:VEVENT
BEGIN:VEVENT
DTSTART;TZID=UTC:20190830T110000
DTEND;TZID=UTC:20190830T140000
DTSTAMP:20260422T140323
CREATED:20190710T165313Z
LAST-MODIFIED:20190710T165313Z
UID:10001211-1567162800-1567173600@silvercityradio.com
SUMMARY:WNMU Veterans Resource Fair
DESCRIPTION:Western New Mexico University is hosting a Veterans Resource Fair on Friday\, August 30th from 11:00 A.M. to 2:00 P.M. at the WNMU PE Complex Patio in Silver City. Enjoy lunch and guest speakers to learn more about veteran services. There will be a free drawing for war memorabilia. Contact WNMU Veteran Services at 575-538-6208.
URL:https://silvercityradio.com/event/wnmu-veterans-resource-fair/
LOCATION:WNMU PE Complex\, College Avenue\, Silver City\, NM\, 88061\, United States
CATEGORIES:Health Event,Presentation
END:VEVENT
END:VCALENDAR