BEGIN:VCALENDAR
VERSION:2.0
PRODID:-//Silver City Radio - ECPv6.3.3.1//NONSGML v1.0//EN
CALSCALE:GREGORIAN
METHOD:PUBLISH
X-WR-CALNAME:Silver City Radio
X-ORIGINAL-URL:https://silvercityradio.com
X-WR-CALDESC:Events for Silver City Radio
REFRESH-INTERVAL;VALUE=DURATION:PT1H
X-Robots-Tag:noindex
X-PUBLISHED-TTL:PT1H
BEGIN:VTIMEZONE
TZID:UTC
BEGIN:STANDARD
TZOFFSETFROM:+0000
TZOFFSETTO:+0000
TZNAME:UTC
DTSTART:20180101T000000
END:STANDARD
END:VTIMEZONE
BEGIN:VEVENT
DTSTART;TZID=UTC:20181101T090000
DTEND;TZID=UTC:20181101T120000
DTSTAMP:20260424T074718
CREATED:20181019T205945Z
LAST-MODIFIED:20181019T220404Z
UID:10000928-1541062800-1541073600@silvercityradio.com
SUMMARY:Diabetes Self Management Program
DESCRIPTION:Come learn how to better manage type 2 diabetes by joining the Diabetes Self-Management Program\, 9:00 A.M. to 12 noon each Thursday through November 15th at the Grant County Extension Office located at 2610 North Silver Street in Silver Street. Learn how to stay active while managing and improving your health. For more information\, call Judy at 575-388-1559.
URL:https://silvercityradio.com/event/diabetes-self-management-program-4/
LOCATION:Grant County Extension Office\, 2610 North Silver Street\, Silver City\, NM\, 88061\, United States
CATEGORIES:Adult Event,Health Event,Presentation
END:VEVENT
BEGIN:VEVENT
DTSTART;TZID=UTC:20181103T110000
DTEND;TZID=UTC:20181103T160000
DTSTAMP:20260424T074718
CREATED:20181023T221748Z
LAST-MODIFIED:20181023T221748Z
UID:10000945-1541242800-1541260800@silvercityradio.com
SUMMARY:7th Annual "Pedalista" Celebration of the Bicycle
DESCRIPTION:The Silver City Bike Works is hosting the 7th Annual “Pedelista” celebration of the bicycle on Saturday\, November 3rd   from 11:00 A.M to 4:00 P.M. at Gough Park in Silver City. There will be plenty of activities for young and old that include pedal Go-Kart races\, the Tall bike\, the Rodeo bike\, the side-by-side tandem\, the front-back tandem\, the Rim toss\, the Human Slingshot\, the Paperboy Challenge and more! In addition\, there will be drawing for free bikes\, music and snacks.
URL:https://silvercityradio.com/event/7th-annual-pedalista-celebration-of-the-bicycle/
LOCATION:Gough Park
CATEGORIES:Adult Event,Entertainment,Health Event,Kids Event,Volunteers
END:VEVENT
BEGIN:VEVENT
DTSTART;TZID=UTC:20181108T090000
DTEND;TZID=UTC:20181108T120000
DTSTAMP:20260424T074718
CREATED:20181019T205723Z
LAST-MODIFIED:20181019T205723Z
UID:10000927-1541667600-1541678400@silvercityradio.com
SUMMARY:Diabetes Self Management Program
DESCRIPTION:Come learn how to better manage type 2 diabetes by joining the Diabetes Self-Management Program\, 9:00 A.M. to 12 noon each Thursday through November 15th at the Grant County Extension Office located at 2610 North Silver Street in Silver Street. Learn how to stay active while managing and improving your health. For more information\, call Judy at 575-388-1559.
URL:https://silvercityradio.com/event/diabetes-self-management-program-3/
LOCATION:Grant County Extension Office\, 2610 North Silver Street\, Silver City\, NM\, 88061\, United States
CATEGORIES:Adult Event,Health Event,Presentation
END:VEVENT
BEGIN:VEVENT
DTSTART;TZID=UTC:20181115T090000
DTEND;TZID=UTC:20181115T120000
DTSTAMP:20260424T074718
CREATED:20181019T205446Z
LAST-MODIFIED:20181019T205446Z
UID:10000926-1542272400-1542283200@silvercityradio.com
SUMMARY:Diabetes Self Management Program
DESCRIPTION:Come learn how to better manage type 2 diabetes by joining the Diabetes Self-Management Program\, 9:00 A.M. to 12 noon each Thursday through November 15th at the Grant County Extension Office located at 2610 North Silver Street in Silver Street. Learn how to stay active while managing and improving your health. For more information\, call Judy at 575-388-1559.
URL:https://silvercityradio.com/event/diabetes-self-management-program-2/
LOCATION:Grant County Extension Office\, 2610 North Silver Street\, Silver City\, NM\, 88061\, United States
CATEGORIES:Adult Event,Health Event,Presentation,Training
END:VEVENT
END:VCALENDAR