BEGIN:VCALENDAR
VERSION:2.0
PRODID:-//Silver City Radio - ECPv6.3.3.1//NONSGML v1.0//EN
CALSCALE:GREGORIAN
METHOD:PUBLISH
X-WR-CALNAME:Silver City Radio
X-ORIGINAL-URL:https://silvercityradio.com
X-WR-CALDESC:Events for Silver City Radio
REFRESH-INTERVAL;VALUE=DURATION:PT1H
X-Robots-Tag:noindex
X-PUBLISHED-TTL:PT1H
BEGIN:VTIMEZONE
TZID:UTC
BEGIN:STANDARD
TZOFFSETFROM:+0000
TZOFFSETTO:+0000
TZNAME:UTC
DTSTART:20170101T000000
END:STANDARD
END:VTIMEZONE
BEGIN:VEVENT
DTSTART;TZID=UTC:20170419T163000
DTEND;TZID=UTC:20170419T180000
DTSTAMP:20260423T065210
CREATED:20170403T201454Z
LAST-MODIFIED:20170403T201454Z
UID:10000573-1492619400-1492624800@silvercityradio.com
SUMMARY:Volunteer Center Common Wednesday: Family Cook Night
DESCRIPTION:The Volunteer Center’s Common Wednesday’s theme of the month for April is Air.  On April 19th\, there will be an air-inspired Family Cook Night with fluffy menu items like omelets\, no-knead bread\, and meringue for desert.  Call 388-2988
URL:https://silvercityradio.com/event/volunteer-center-common-wednesday-family-cook-night-2/
LOCATION:Volunteer Center\, 501 E 13th St\, Silver City\, NM\, 88061\, United States
CATEGORIES:Food Event
END:VEVENT
BEGIN:VEVENT
DTSTART;TZID=UTC:20170422T180000
DTEND;TZID=UTC:20170422T210000
DTSTAMP:20260423T065210
CREATED:20170403T201941Z
LAST-MODIFIED:20170403T201941Z
UID:10000576-1492884000-1492894800@silvercityradio.com
SUMMARY:Copper Cowbelles Bunkhouse Bash
DESCRIPTION:The Copper Cowbelles Annual Shindig\, the Bunkhouse Bash\, will be held Saturday\, April 22nd at the Flame Convention Center beginning at 6 pm.  Join them for an evening of dinner\, dancing\, silent auction\, and fun with friends.  Tickets are $30 in advance\, $35 at the door.
URL:https://silvercityradio.com/event/copper-cowbelles-bunkhouse-bash-2/
LOCATION:The Flame Convention Center\, 2800 North Pinos Altos Road\, Silver City\, NM\, 88061\, United States
CATEGORIES:Adult Event,Entertainment,Food Event,Fundraiser
END:VEVENT
BEGIN:VEVENT
DTSTART;TZID=UTC:20170422T180000
DTEND;TZID=UTC:20170422T220000
DTSTAMP:20260423T065210
CREATED:20170327T201924Z
LAST-MODIFIED:20170327T201924Z
UID:10000565-1492884000-1492898400@silvercityradio.com
SUMMARY:Copper Cowbelles' Bunkhouse Bash
DESCRIPTION:The Copper Cowbelles Annual Shindig\, the Bunkhouse Bash\, will be held Saturday\, April 22nd at the Flame Convention Center beginning at 6 pm.  Join them for an evening of dinner\, dancing\, silent auction\, and fun with friends.  Tickets are $30 in advance\, $35 at the door
URL:https://silvercityradio.com/event/copper-cowbelles-bunkhouse-bash/
LOCATION:The Flame Convention Center\, 2800 North Pinos Altos Road\, Silver City\, NM\, 88061\, United States
CATEGORIES:Adult Event,Concert,Entertainment,Food Event,Fundraiser
END:VEVENT
BEGIN:VEVENT
DTSTART;TZID=UTC:20170428T080000
DTEND;TZID=UTC:20170429T160000
DTSTAMP:20260423T065210
CREATED:20170424T165955Z
LAST-MODIFIED:20170424T165955Z
UID:10000591-1493366400-1493481600@silvercityradio.com
SUMMARY:American Legion Fundraiser for Lena and Carolyn Holguin
DESCRIPTION:The American Legion Post 18 is having a breakfast and BBQ lunch fundraiser on Friday\, April 28th and Saturday\, April 29th from 8 am to 4 pm at the American Legion Post.  Proceeds benefit Lena and Carolyn Holguin to help cover medical expenses from the women’s terrible car accident earlier this year.  Call 623-293-1639
URL:https://silvercityradio.com/event/american-legion-fundraiser-for-lena-and-carolyn-holguin/
LOCATION:American Legion Post 18\, 409 West College Avenue\, Silver City\, NM\, 88061\, United States
CATEGORIES:Food Event,Fundraiser
END:VEVENT
BEGIN:VEVENT
DTSTART;TZID=UTC:20170429T080000
DTEND;TZID=UTC:20170429T110000
DTSTAMP:20260423T065210
CREATED:20170424T165827Z
LAST-MODIFIED:20170424T165827Z
UID:10000590-1493452800-1493463600@silvercityradio.com
SUMMARY:Upper Mimbres VFD Pancake Breakfast
DESCRIPTION:The Upper Mimbres Volunteer Fire and Rescue Department will host its annual Pancake Breakfast and Bake Sale on Saturday\, April 29th from 8 to 11 am at the Main Station at Mile 5 on Highway 35.  $5 breakfast includes scrambled eggs\, pancakes\, sausage\, coffee\, and juice.  Call 536-3683
URL:https://silvercityradio.com/event/upper-mimbres-vfd-pancake-breakfast-2/
LOCATION:Upper Mimbres VFD\, 3072 Highway 35\, Mimbres\, NM\, 88049\, United States
CATEGORIES:Food Event,Fundraiser
END:VEVENT
BEGIN:VEVENT
DTSTART;TZID=UTC:20170701T093000
DTEND;TZID=UTC:20170702T210000
DTSTAMP:20260423T065210
CREATED:20170627T152659Z
LAST-MODIFIED:20170627T152659Z
UID:10000661-1498901400-1499029200@silvercityradio.com
SUMMARY:Independence Day Celebration in Glenwood
DESCRIPTION:Glenwood’s Independence Celebration and Fireworks Extravaganza will be held July 1st and 2nd beginning at 9:30 on Saturday and concluding with fireworks on Sunday at dark.  Events include live music and dancing\, a Doo Dah Parade\, Cowbelles BBQ\, and more
URL:https://silvercityradio.com/event/independence-day-celebration-in-glenwood/
LOCATION:Glenwood Community Center\, Mengas Lane\, Glenwood\, NM\, 88039\, United States
CATEGORIES:Adult Event,Concert,Entertainment,Food Event,Holiday,Kids Event
END:VEVENT
BEGIN:VEVENT
DTSTART;TZID=UTC:20170701T110000
DTEND;TZID=UTC:20170701T160000
DTSTAMP:20260423T065210
CREATED:20170627T152138Z
LAST-MODIFIED:20170627T152138Z
UID:10000660-1498906800-1498924800@silvercityradio.com
SUMMARY:Silver City Museum Ice Cream Social
DESCRIPTION:The Silver City Museum will host its 34th Annual Ice Cream Social on Saturday\, July 1st from 11 am to 4 pm.  The Social is held in conjunction with the City’s Fourth of July Parade and features a cakewalk\, historic children’s games\, ice cream cones\, root beer floats\, and more.  Call 538-5921
URL:https://silvercityradio.com/event/silver-city-museum-ice-cream-social-2/
LOCATION:Silver City Museum\, 312 W. Broadway\, Silver City\, NM\, 88061\, United States
CATEGORIES:Adult Event,Food Event,Holiday,Kids Event
END:VEVENT
BEGIN:VEVENT
DTSTART;VALUE=DATE:20170704
DTEND;VALUE=DATE:20170705
DTSTAMP:20260423T065210
CREATED:20170627T173030Z
LAST-MODIFIED:20170627T173030Z
UID:10000662-1499126400-1499212799@silvercityradio.com
SUMMARY:Independence Day Celebration in Silver City
DESCRIPTION:Heroes: Yesterday\, Today and Tomorrow is the theme for this year’s Independence Day Celebration in Silver City.  Join your friends and neighbors in Gough Park Downtown Silver City for the Kiwanis Pancake Breakfast\, live music\, vendors\, fundraisers and more all day long – and don’t miss the parade beginning at 10 am and the First American Bank Fireworks Show when it gets dark.  Call 538-3785
URL:https://silvercityradio.com/event/independence-day-celebration-in-silver-city/
LOCATION:Gough Park
CATEGORIES:Adult Event,Entertainment,Food Event,Holiday,Kids Event
END:VEVENT
BEGIN:VEVENT
DTSTART;TZID=UTC:20170704T070000
DTEND;TZID=UTC:20170704T140000
DTSTAMP:20260423T065210
CREATED:20170627T173332Z
LAST-MODIFIED:20170627T192515Z
UID:10000663-1499151600-1499176800@silvercityradio.com
SUMMARY:Kiwanis Pancake Breakfast and BBQ Lunch at Gough Park
DESCRIPTION:Kiwanis will be serving an all-you-can-eat Pancake Breakfast and BBQ Lunch at Gough Park during the 4th of July Festivities.  Also get into the Cobre Key Club drawing for a new Grill.  This is an annual fundraiser for Kiwanis and proceeds benefit Kiwanis mission to aid youth in our community
URL:https://silvercityradio.com/event/kiwanis-pancake-breakfast-and-bbq-lunch-at-gough-park/
LOCATION:Gough Park
CATEGORIES:Food Event,Fundraiser,Holiday
END:VEVENT
BEGIN:VEVENT
DTSTART;TZID=UTC:20170824T183000
DTEND;TZID=UTC:20170827T170000
DTSTAMP:20260423T065210
CREATED:20170816T170748Z
LAST-MODIFIED:20170816T170748Z
UID:10000696-1503599400-1503853200@silvercityradio.com
SUMMARY:Great American Deming Duck Race
DESCRIPTION:The pageant is the signature kick-off event for the 38th annual Great American Duck Race weekend\, Aug. 24-27 in Deming. This year’s theme is “Race the Rails\,” a tribute to the history of Deming as a “Tank Town” when the railroad came through in the late 1800s. For further information go to demingduckrace.com
URL:https://silvercityradio.com/event/great-american-deming-duck-race/
LOCATION:Deming Courthouse\, United States
CATEGORIES:Adult Event,Entertainment,Food Event,Kids Event,Volunteers
END:VEVENT
BEGIN:VEVENT
DTSTART;VALUE=DATE:20170825
DTEND;VALUE=DATE:20170828
DTSTAMP:20260423T065210
CREATED:20170816T173040Z
LAST-MODIFIED:20170816T173040Z
UID:10000697-1503619200-1503878399@silvercityradio.com
SUMMARY:Hidalgo County Fair and Rodeo
DESCRIPTION:The Hidalgo County Fair and Rodeo will be held August 25th through the 27th in Lordsburg.  Highlights include the Iron Cowgirl Rodeo\, Junior Livestock Show\, Open Ranch Rodeo\, a parade and Junior Rodeo\, and so much more!  Call 534-5010. For more information go to the facebook @hidalgocountyfairrodeos
URL:https://silvercityradio.com/event/hidalgo-county-fair-and-rodeo/
LOCATION:Lordsburg\, United States
CATEGORIES:Adult Event,Entertainment,Food Event,Kids Event,Sports
END:VEVENT
BEGIN:VEVENT
DTSTART;TZID=UTC:20170902T090000
DTEND;TZID=UTC:20170904T170000
DTSTAMP:20260423T065210
CREATED:20170824T174342Z
LAST-MODIFIED:20170824T174342Z
UID:10000698-1504342800-1504544400@silvercityradio.com
SUMMARY:34th Annual Gem & Mineral Show
DESCRIPTION:Grant County Rolling Stones Gem and Mineral Society will hold their 34th Annual Gem & Mineral Show this Labor Day weekend\, September 2nd\, 3rd\, and 4th. This year the event is returning to the newly remodeled Grant County Veterans’ Memorial Conference Center located at 3031 Highway 180 East) in Silver City. Saturday September 2nd -9 am -5 pm\, Sunday September 3rd – 10 am – 5 pm\, Monday September 4th – 10 am – 4 pm. Admission is free for this great family event! Large assortment of vendors\, Wheel of Fortune\, Silent Auction\, and Daily Field trips for Collecting & for Geology – Educational Displays. Special displays – New Mexico State University\, Zuhl Collection of Petrified Wood and the New Mexico Institute of Mining and Technology.\n\n 
URL:https://silvercityradio.com/event/34th-annual-gem-mineral-show/
LOCATION:Grant County Veteran’s Memorial Conference Center\, 3031 Hwy 180 E.\, Silver City\, 88061\, United States
CATEGORIES:Adult Event,Craft,Entertainment,Food Event,Fundraiser,Kids Event
END:VEVENT
BEGIN:VEVENT
DTSTART;TZID=UTC:20170909T100000
DTEND;TZID=UTC:20170909T140000
DTSTAMP:20260423T065210
CREATED:20170824T180103Z
LAST-MODIFIED:20170824T180103Z
UID:10000700-1504951200-1504965600@silvercityradio.com
SUMMARY:The 2017 Red Hot Children's Fiesta
DESCRIPTION:The Red Hot Children’s Fiesta will be held at Penny Park on Saturday\, September 9\, 2017 from 10:00 a.m. 2:00 p.m. The event is a resource fair for children and families with booth participants providing services to families and activities for kids. This is a free event.
URL:https://silvercityradio.com/event/the-2017-red-hot-childrens-fiesta/
LOCATION:Penny Park\, North Grant Street\, Silver City\, NM\, 88061\, United States
CATEGORIES:Craft,Entertainment,Food Event,Health Event,Kids Event,Volunteers
END:VEVENT
BEGIN:VEVENT
DTSTART;TZID=UTC:20170913T080000
DTEND;TZID=UTC:20170913T170000
DTSTAMP:20260423T065210
CREATED:20170913T144332Z
LAST-MODIFIED:20170913T144436Z
UID:10000709-1505289600-1505322000@silvercityradio.com
SUMMARY:Grant County Fair/2nd Annual Baking Contest
DESCRIPTION:
URL:https://silvercityradio.com/event/grant-county-fair2nd-annual-baking-contest/
LOCATION:NM
CATEGORIES:Adult Event,Craft,Food Event,Kids Event
END:VEVENT
BEGIN:VEVENT
DTSTART;TZID=UTC:20170916T120000
DTEND;TZID=UTC:20170916T180000
DTSTAMP:20260423T065210
CREATED:20170830T164741Z
LAST-MODIFIED:20170830T164824Z
UID:10000703-1505563200-1505584800@silvercityradio.com
SUMMARY:LGBTQ/PFLAG Pride Festival 2017
DESCRIPTION:LGBTQ Grant County\, PFLAG Silver City and WNMU’s Center for Gender Equity will host Pride Festival 2017 at Gough Park from 12 noon to 6:00. There will be a dance featuring the Illusion Band from 8:00 p.m. to 1:00 a.m at the Old Elk’s Lodge Building. Celebrate diversity with music\, dancing\, community and craft booths\, and much more. Call 575-654-3851 for more information.
URL:https://silvercityradio.com/event/lgbtqpflag-pride-festival-2017/
LOCATION:Gough Park
CATEGORIES:Adult Event,Craft,Entertainment,Food Event,Fundraiser,Pet Event,Volunteers
END:VEVENT
BEGIN:VEVENT
DTSTART;TZID=UTC:20170916T200000
DTEND;TZID=UTC:20170916T200000
DTSTAMP:20260423T065210
CREATED:20170830T173418Z
LAST-MODIFIED:20170830T173429Z
UID:10000705-1505592000-1505592000@silvercityradio.com
SUMMARY:LGBTQ/PFLAG Pride Fest 2017 Dance
DESCRIPTION:LGBTQ Grant County\, PFLAG Silver City and the WNMU Center for Gender Equity will be celebrating diversity with music provided by the Illusion Band from 8:00 p.m. to 1:00 a.m. at the Old Elk’s Lodge Building located at 303 N Texas St\, Silver City.
URL:https://silvercityradio.com/event/lgbtqpflag-pride-fest-2017-dance/
LOCATION:Old Elks Lodge Building\, 303 N Texas Street\, Silver City\, United States
CATEGORIES:Adult Event,Concert,Entertainment,Food Event
END:VEVENT
BEGIN:VEVENT
DTSTART;TZID=UTC:20170917T120000
DTEND;TZID=UTC:20170917T170000
DTSTAMP:20260423T065210
CREATED:20170906T214219Z
LAST-MODIFIED:20170906T214219Z
UID:10000708-1505649600-1505667600@silvercityradio.com
SUMMARY:Low Riders\, Hoppers & Hot Rods Car Show
DESCRIPTION:Western New Mexico University will be hosting a “Lowriders\, Hoppers and Hot Rods” competition held on Sunday\, September 17 from 12:00 p.m. to 5:00 p.m. in the Juan Chacon Parking lot on the WNMU campus. This free event will feature vintage automobiles in competition to win trophies in several categories. The exhibit\, funded in part by the New Mexico History Museum\, will feature photos chronicling the beauty of these classic cars spanning several decades.
URL:https://silvercityradio.com/event/low-riders-hoppers-hot-rods-car-show/
LOCATION:WNMU Juan Chacon Building\, Silver City\, NM\, United States
CATEGORIES:Adult Event,Entertainment,Food Event,Kids Event
END:VEVENT
BEGIN:VEVENT
DTSTART;VALUE=DATE:20170920
DTEND;VALUE=DATE:20170924
DTSTAMP:20260423T065210
CREATED:20170920T154528Z
LAST-MODIFIED:20170920T154528Z
UID:10000711-1505865600-1506211199@silvercityradio.com
SUMMARY:Gila/Cliff-Grant County Fair 2017
DESCRIPTION:The 2017 Grant County Fair will be taking place at the Cliff Fairgrounds from Wednesday through Saturday. In addition to livestock exhibits and competitions and junior and adults rodoes\, there will be musical entertainment\, dances on the slab\, and a carnival complete with rides and food. The 2nd Annual Baking Contest will take place during the fair on Saturday the 23rd from 11:00 to noon\, followed by the junior livestock sale. For additional information and schedules\, go to grantcountyfairnm.com.
URL:https://silvercityradio.com/event/gilacliff-grant-county-fair-2017/
LOCATION:Grant County Fairgrounds\, Arena Road\, Cliff\, NM\, 88028\, United States
CATEGORIES:Adult Event,Concert,Craft,Entertainment,Food Event,Kids Event,Pet Event
END:VEVENT
BEGIN:VEVENT
DTSTART;VALUE=DATE:20170920
DTEND;VALUE=DATE:20170924
DTSTAMP:20260423T065210
CREATED:20170920T160026Z
LAST-MODIFIED:20170920T160056Z
UID:10000712-1505865600-1506211199@silvercityradio.com
SUMMARY:Grant County Fair 2017
DESCRIPTION:The 2017 Grant County Fair will be taking place at the Cliff Fairgrounds from Wednesday through Saturday. In addition to livestock exhibits and competitions and junior and adults rodoes\, there will be musical entertainment\, dances on the slab\, and a carnival complete with rides and food. The 2nd Annual Baking Contest will take place during the fair on Saturday the 23rd from 11:00 to noon\, followed by the junior livestock sale. For additional information and schedules\, go to grantcountyfairnm.com.
URL:https://silvercityradio.com/event/7397/
LOCATION:Grant County Fairgrounds\, Arena Road\, Cliff\, NM\, 88028\, United States
CATEGORIES:Concert,Craft,Entertainment,Food Event,Pet Event
END:VEVENT
BEGIN:VEVENT
DTSTART;VALUE=DATE:20170920
DTEND;VALUE=DATE:20170925
DTSTAMP:20260423T065210
CREATED:20170906T213656Z
LAST-MODIFIED:20170906T213656Z
UID:10000707-1505865600-1506297599@silvercityradio.com
SUMMARY:Cliff-Gila Grant County Fair
DESCRIPTION:Grab your boots and let’s go to the Cliff-Gila Grant County Fair in Cliff New Mexico\, September 20th through 24th. The fair highlights the exhibition and competition of the best domestic products of the area. Ribbons\, plaques and trophies are awarded in a wide variety of categories such as livestock\, jams and jellies\, handicrafts and baked goods. The Rodeo and musical entertainment along with other attractions are also part of the week-long celebration. There is something for everyone. Fair attractions include\, 4H and FFA livestock shows\, a carnival on Tuesday through Saturday\, various food booths\, dances on the slab\, a pancake breakfast and the 2nd annual baking contest. For event schedules go to grantcountyfairnm.com.
URL:https://silvercityradio.com/event/cliff-gila-grant-county-fair/
LOCATION:Grant County Fairgrounds\, Arena Road\, Cliff\, NM\, 88028\, United States
CATEGORIES:Adult Event,Concert,Craft,Entertainment,Food Event,Kids Event,Pet Event,Sports
END:VEVENT
BEGIN:VEVENT
DTSTART;VALUE=DATE:20170920
DTEND;VALUE=DATE:20170925
DTSTAMP:20260423T065210
CREATED:20170920T172931Z
LAST-MODIFIED:20170920T172931Z
UID:10000713-1505865600-1506297599@silvercityradio.com
SUMMARY:Cliff-Gila Grant County Fair
DESCRIPTION:The Grant County Fair is happening Wed. through Sun.
URL:https://silvercityradio.com/event/cliff-gila-grant-county-fair-2/
LOCATION:Grant County Fairgrounds\, Arena Road\, Cliff\, NM\, 88028\, United States
CATEGORIES:Craft,Entertainment,Food Event
END:VEVENT
BEGIN:VEVENT
DTSTART;VALUE=DATE:20170921
DTEND;VALUE=DATE:20170924
DTSTAMP:20260423T065210
CREATED:20170914T173312Z
LAST-MODIFIED:20170914T173323Z
UID:10000710-1505952000-1506211199@silvercityradio.com
SUMMARY:WNMU Homecoming 2017
DESCRIPTION:Western New Mexico University will be celebrating Homecoming 2017 from September 21st to 23rd with activities on campus and the University Golf Course at Scott Park. The event will kick off on Thursday September 21st at Scott Park with a welcome reception at 6:00 p.m. followed by The Alumni Association Annual General Membership Meeting at 7:00 p.m. Festivities will finish up on Saturday with a Homecoming Parade\, Tailgate Party\, and Homecoming Football fame against the University of Texas Permian Basin at 1:30 p.m. For more information\, visit alumni.wnmu.edu.
URL:https://silvercityradio.com/event/wnmu-homecoming-2017/
LOCATION:NM
CATEGORIES:Adult Event,Entertainment,Food Event,Meeting,Sports
END:VEVENT
BEGIN:VEVENT
DTSTART;TZID=UTC:20170921T000000
DTEND;TZID=UTC:20170924T000000
DTSTAMP:20260423T065210
CREATED:20170830T171609Z
LAST-MODIFIED:20170830T171609Z
UID:10000704-1505952000-1506211200@silvercityradio.com
SUMMARY:13th Annual Gila River Festival
DESCRIPTION:You won’t want to miss the 13th annual Gila River Festival: “GATHERING THE GILA\,” September 21ST through the 24th in Silver City\,  the Gila National Forest and along the Gila River. Featuring Conservationist Winona LaDuke\, storytelling with Denise Chavez\, native foods brunch\, the Fort Sill Apache Fire Dancers\, and much more. Be sure to register for workshops and field trips such as birding\, fly-fishing\, and foraging for native plants and medicines. Check out Saturday afternoon’s downtown Gila River Extravaganza in Big Ditch Park\, with music\, food tastings\, kid’s activities\, the Monsoon Puppet Parade\, and a downtown art walk! Schedule and registration at gilariverfestival.org or call 575-538-8078.
URL:https://silvercityradio.com/event/13th-annual-gila-river-festival/
LOCATION:Silver City
CATEGORIES:Adult Event,Craft,Entertainment,Food Event,Kids Event,Presentation,Volunteers
END:VEVENT
BEGIN:VEVENT
DTSTART;VALUE=DATE:20171004
DTEND;VALUE=DATE:20171009
DTSTAMP:20260423T065210
CREATED:20171002T220512Z
LAST-MODIFIED:20171002T220512Z
UID:10000716-1507075200-1507507199@silvercityradio.com
SUMMARY:The Southwestern New Mexico State Fair
DESCRIPTION:The Southwestern New Mexico State Fair is in Deming Wednesday through Sunday at the fairgrounds in Deming! This year’s theme is “Remember When\, Celebrating the Present by Honoring our Past.” Come out and support the Jr. Livestock shows\, Fair Queen Contest\, Ranch Rodeo\, Fairground Showdown Superior Boxing\, followed by team roping\, a fun carnival and a Fair Dance. For additional information\, go to the Southwestern New Mexico State Fair page on Facebook.
URL:https://silvercityradio.com/event/the-southwestern-new-mexico-state-fair/
LOCATION:Southwestern New Mexico Fairgrounds\, 4300 Raymond Reed Blvd\, Deming\, NM\, United States
CATEGORIES:Adult Event,Concert,Craft,Entertainment,Food Event,Kids Event,Pet Event
END:VEVENT
BEGIN:VEVENT
DTSTART;TZID=UTC:20171119T120000
DTEND;TZID=UTC:20171119T170000
DTSTAMP:20260423T065210
CREATED:20171106T214042Z
LAST-MODIFIED:20171106T214042Z
UID:10000735-1511092800-1511110800@silvercityradio.com
SUMMARY:14th Annual Community Thanksgiving Dinner
DESCRIPTION:W & N Enterprises 14th Annual Community Thanksgiving Dinner\, themed “A Time for Sharing”\, will be taking place on Sunday\, November 19th starting at 12 noon at the Grant County Veterans Memorial Business and Conference Center. This is a free event and there will be live music and a visit from Santa for the children. Anyone wishing to volunteer at this event should call 575-388-1551.
URL:https://silvercityradio.com/event/14th-annual-community-thanksgiving-dinner/
LOCATION:Grant County Veteran’s Memorial Convention and Conference Center\, 1400 Highway 180 East\, Silver City\, NM\, 88061\, United States
CATEGORIES:Adult Event,Food Event,Holiday,Kids Event,Volunteers
END:VEVENT
BEGIN:VEVENT
DTSTART;TZID=UTC:20171214T170000
DTEND;TZID=UTC:20171214T200000
DTSTAMP:20260423T065210
CREATED:20171211T214539Z
LAST-MODIFIED:20171211T214539Z
UID:10000631-1513270800-1513281600@silvercityradio.com
SUMMARY:Silver City Museum's 33rd Annual Victorian Christmas
DESCRIPTION:the Silver City Museum’s 33rd Annual Victorian Christmas open house on Thursday\, December 14\, 2017\, from 5:00 to 8:00 PM. The event will feature live music performed by: Gleemaiden from 5:30 to 6:00 PM\, Amos Torres from 6:00 to 6:30 PM\, Silver Chorale from 6:30 to 7:00 PM\, Gila Highlanders from 7:00 to 7:30 PM\, and The Concert Band of the Southwest brass section from 7:30 to 8:00 PM. Children of all ages will be delighted by a special visit from Father Christmas\, teamed up with Literacy Link-Leamos to share gifts and books\, and are invited to participate in hands-on activities. This year\, holiday goers will be able to create their own cornucopia Christmas ornament to take home. Delicious cookies and cider will be available for your enjoyment\, while staff in period clothing would be happy to take a picture with you.
URL:https://silvercityradio.com/event/silver-city-museums-33rd-annual-victorian-christmas/
LOCATION:NM
CATEGORIES:Adult Event,Entertainment,Food Event,Holiday,Kids Event
END:VEVENT
BEGIN:VEVENT
DTSTART;TZID=UTC:20180217T090000
DTEND;TZID=UTC:20180217T170000
DTSTAMP:20260423T065210
CREATED:20180125T204248Z
LAST-MODIFIED:20180125T204248Z
UID:10000616-1518858000-1518886800@silvercityradio.com
SUMMARY:Silver City's Territorial Charter Day
DESCRIPTION:Come celebrate Silver City’s Territorial Charter Day on Saturday\, February 17th from 9:00 A.M. to 5:00 P.M. Planned activities include: current and past local officials in period costume; 5K Fun Run and Children’s Run; Charter Day deals at local merchants; and period actors and tours at Fort Bayard. In addition there will be live music\, mining activities\, and historic tours. Visit SCTerritorialCharter on Facebook for a full schedule.
URL:https://silvercityradio.com/event/silver-citys-territorial-charter-day/
LOCATION:NM
CATEGORIES:Concert,Entertainment,Food Event,Kids Event,Presentation,Volunteers
END:VEVENT
BEGIN:VEVENT
DTSTART;TZID=UTC:20180402T120000
DTEND;TZID=UTC:20180402T150000
DTSTAMP:20260423T065210
CREATED:20180321T172621Z
LAST-MODIFIED:20180321T172621Z
UID:10000791-1522670400-1522681200@silvercityradio.com
SUMMARY:SWNM Food Hub and Growers Guide Launch
DESCRIPTION:Join the National Center for Frontier Communities and Grant County Cooperative Extension Service at the Volunteer Center of Grant County on Monday\, April 2nd from 12 :00 P.M. to 3:00 P.M. to for the launch of new projects aimed at building the local food system.  The food hub is a new market outlet for regional growers to reach both local and statewide markets that offers training\, coordination\, aggregation and good pricing.  The growers guide is a regionally specific resource for growers of all stages and sizes to access locally appropriate information on production\, marketing\, planning and running a food or farm business in SWNM. Come and learn how to use this guide and how to tap into the food hub to make your food or farm business grow successful.  Every attendee will get a free copy of the growers guide.
URL:https://silvercityradio.com/event/swnm-food-hub-and-growers-guide-launch/
LOCATION:Volunteer Center\, 501 E 13th St\, Silver City\, NM\, 88061\, United States
CATEGORIES:Food Event,Health Event,Presentation
END:VEVENT
BEGIN:VEVENT
DTSTART;VALUE=DATE:20180427
DTEND;VALUE=DATE:20180430
DTSTAMP:20260423T065210
CREATED:20180416T225033Z
LAST-MODIFIED:20180416T225120Z
UID:10000804-1524787200-1525046399@silvercityradio.com
SUMMARY:Continental Divide Trail Days
DESCRIPTION:Continental Divide Trail Days will be held from April 27th to 29 and hosted at the location of Western New Mexico University in Silver City. Trail Days is a weekend of festivity that brings together CDT hikers and outdoor enthusiasts in southwest New Mexico. All Trail days activities are free and open to the public. Go to continentaldividetrail.org for schedules and additional information.
URL:https://silvercityradio.com/event/continental-divide-trail-days/
LOCATION:NM
CATEGORIES:Adult Event,Entertainment,Food Event,Kids Event,Sports
END:VEVENT
BEGIN:VEVENT
DTSTART;TZID=UTC:20180512T100000
DTEND;TZID=UTC:20180512T130000
DTSTAMP:20260423T065210
CREATED:20180507T202420Z
LAST-MODIFIED:20180507T202420Z
UID:10000815-1526119200-1526130000@silvercityradio.com
SUMMARY:4th Annual Child Abuse Awareness/Prevention Event
DESCRIPTION:The public is welcome to attend the 4th Annual “Child Abuse Awareness and Prevention Event”\, on Saturday\, May 12th from 10:00 A.M. to 1:00 P.M. at Gough Park\, located at 1201 North Pope Street in Silver City. There will be jumping balloons\, food\, music\, and games and prizes. The event is free and open to the public.
URL:https://silvercityradio.com/event/4th-annual-child-abuse-awareness-prevention-event/
LOCATION:Gough Park
CATEGORIES:Adult Event,Craft,Entertainment,Food Event,Health Event,Kids Event,Presentation,Volunteers
END:VEVENT
END:VCALENDAR