BEGIN:VCALENDAR
VERSION:2.0
PRODID:-//Silver City Radio - ECPv6.3.3.1//NONSGML v1.0//EN
CALSCALE:GREGORIAN
METHOD:PUBLISH
X-ORIGINAL-URL:https://silvercityradio.com
X-WR-CALDESC:Events for Silver City Radio
REFRESH-INTERVAL;VALUE=DURATION:PT1H
X-Robots-Tag:noindex
X-PUBLISHED-TTL:PT1H
BEGIN:VTIMEZONE
TZID:UTC
BEGIN:STANDARD
TZOFFSETFROM:+0000
TZOFFSETTO:+0000
TZNAME:UTC
DTSTART:20150101T000000
END:STANDARD
TZID:UTC
BEGIN:STANDARD
TZOFFSETFROM:+0000
TZOFFSETTO:+0000
TZNAME:UTC
DTSTART:20150101T000000
END:STANDARD
END:VTIMEZONE
BEGIN:VEVENT
DTSTART;TZID=UTC:20160724T080000
DTEND;TZID=UTC:20160724T120000
DTSTAMP:20260425T113203
CREATED:20160713T161450Z
LAST-MODIFIED:20160713T161450Z
UID:10000291-1469347200-1469361600@silvercityradio.com
SUMMARY:First Responder Appreciation Pancake Breakfast
DESCRIPTION:The Cobre High School Class of 2019 will be hosting a First Responder Appreciation Pancake Breakfast on July 24th from 8 am to noon at Cobre High School.  Tickets are $8 and will be available at the door.  Dine-in or Take-out options are available.  All proceeds benefit the Class of 2019.  Call 635-1355
URL:https://silvercityradio.com/event/first-responder-appreciation-pancake-breakfast/
LOCATION:Cobre High School\, 1300 Tom Foy Blvd\, Bayard\, NM\, 88023\, United States
CATEGORIES:Food Event,Fundraiser
END:VEVENT
BEGIN:VEVENT
DTSTART;TZID=UTC:20160713T113000
DTEND;TZID=UTC:20160713T130000
DTSTAMP:20260425T113203
CREATED:20160713T143836Z
LAST-MODIFIED:20160713T143836Z
UID:10000281-1468409400-1468414800@silvercityradio.com
SUMMARY:Grant County Alumni Chapter BBQ
DESCRIPTION:The Grant County Alumni Chapter is hosting a summer BBQ on July 13th from 11:30 am to 1 pm in the WNMU Alumni Gardens.  The event is open to area alumni and a special call to graduates of the 1970’s has been made.  Also invited are members of the School of Education Hall of Fame.  Call 538-6675
URL:https://silvercityradio.com/event/grant-county-alumni-chapter-bbq/
LOCATION:WNMU Alumni Gardens\, 1000 West College Ave\, Silver City\, NM\, 88061\, United States
CATEGORIES:Adult Event,Food Event
END:VEVENT
BEGIN:VEVENT
DTSTART;TZID=UTC:20160713T113000
DTEND;TZID=UTC:20160713T130000
DTSTAMP:20260425T113203
CREATED:20160705T163019Z
LAST-MODIFIED:20160705T163019Z
UID:10000279-1468409400-1468414800@silvercityradio.com
SUMMARY:Grant County Alumni Summer BBQ
DESCRIPTION:The Grant County Alumni Chapter is hosting a summer BBQ on July 13th from 11:30 am to 1 pm in the WNMU Alumni Gardens.  The event is open to area alumni and a special call to graduates of the 1970’s has been made.  Also invited are members of the School of Education Hall of Fame.  Call 538-6675
URL:https://silvercityradio.com/event/grant-county-alumni-summer-bbq/
LOCATION:WNMU Alumni Gardens\, 1000 West College Ave\, Silver City\, NM\, 88061\, United States
CATEGORIES:Adult Event,Food Event
END:VEVENT
BEGIN:VEVENT
DTSTART;TZID=UTC:20160704T080000
DTEND;TZID=UTC:20160704T210000
DTSTAMP:20260425T113203
CREATED:20160627T165450Z
LAST-MODIFIED:20160627T165450Z
UID:10000266-1467619200-1467666000@silvercityradio.com
SUMMARY:Fourth of July Festival in Deming
DESCRIPTION:For our Deming listeners\, the annual 4th of July Festival will be held at Courthouse Park on Monday\, July 4th beginning at 8 am with a 5K fun run\, followed by the parade at 10.  A fireworks show will follow in the evening from the Southwest New Mexico State Fair Grounds
URL:https://silvercityradio.com/event/fourth-of-july-festival-in-deming/
LOCATION:Luna County Courthouse Park\, Deming\, United States
CATEGORIES:Adult Event,Entertainment,Food Event,Kids Event
END:VEVENT
BEGIN:VEVENT
DTSTART;TZID=UTC:20160704T080000
DTEND;TZID=UTC:20160704T210000
DTSTAMP:20260425T113203
CREATED:20160627T162418Z
LAST-MODIFIED:20160627T162418Z
UID:10000265-1467619200-1467666000@silvercityradio.com
SUMMARY:America the Beautiful! Independence Day Celebration in Silver City
DESCRIPTION:The Town of Silver City will hold it’s annual 4th of July Celebration on Monday\, July 4th.  This year’s theme is America the Beautiful.  The July 4th Celebration will include a pancake breakfast at 8 am\, the 4th of July Parade at 10\, activities in Gough Park throughout the day\, and the Silver City – First American Bank Fireworks Show when the sky gets dark
URL:https://silvercityradio.com/event/america-the-beautiful-independence-day-celebration-in-silver-city/
LOCATION:Gough Park
CATEGORIES:Adult Event,Concert,Entertainment,Food Event,Kids Event
END:VEVENT
BEGIN:VEVENT
DTSTART;TZID=UTC:20160609T120000
DTEND;TZID=UTC:20160609T130000
DTSTAMP:20260425T113203
CREATED:20160523T203555Z
LAST-MODIFIED:20160523T203555Z
UID:10000248-1465473600-1465477200@silvercityradio.com
SUMMARY:Food Co-op Community Forum: Goat Ranching
DESCRIPTION:Learn about goat ranching with Stewart Rooks at the Silver City Food Co-op Community Forum on June 9th from noon to 1 pm in the community room of the Market Café.  Rooks will share information about goat ranching for meat and/or goat products like cheese and milk.  Call 388-2343
URL:https://silvercityradio.com/event/food-co-op-community-forum-goat-ranching/
LOCATION:Market Cafe\, 614 N Bullard\, Silver City\, NM\, 88061\, United States
CATEGORIES:Food Event,Presentation
END:VEVENT
BEGIN:VEVENT
DTSTART;TZID=UTC:20160604T100000
DTEND;TZID=UTC:20160604T150000
DTSTAMP:20260425T113203
CREATED:20160620T150612Z
LAST-MODIFIED:20160620T151957Z
UID:10000262-1465034400-1465052400@silvercityradio.com
SUMMARY:Millie's Assisted Living Community Hosts July 4th Celebration
DESCRIPTION:Millie’s Assisted Living Community is hosting their annual July 4th celebration party\, along with participants from several local senior care facilities.  Millie’s is right on the parade route with a perfect view.  A cookout lunch will be served following the parade.  Grant County seniors and their families\, whether in a facility or not\, are invited to attend.  Call 534-9172
URL:https://silvercityradio.com/event/millies-assisted-living-community-hosts-july-4th-celebration/
LOCATION:Millie’s Assisted Living Center\, 600 N Hudson St\, Silver City\, NM\, 88061\, United States
CATEGORIES:Adult Event,Entertainment,Food Event
END:VEVENT
BEGIN:VEVENT
DTSTART;TZID=UTC:20160403T110000
DTEND;TZID=UTC:20160403T140000
DTSTAMP:20260425T113203
CREATED:20160328T155039Z
LAST-MODIFIED:20160328T155441Z
UID:10000197-1459681200-1459692000@silvercityradio.com
SUMMARY:Grant County Shriner's Spaghetti Fundraiser
DESCRIPTION:The Grant County Shriner’s Spaghetti Dinner 2016 fundraiser will be held at the Silver City Masonic Lodge\, 11 Ridge Road\, on April 3rd from 11 am to 2 pm.  The cost is $8 for adults\, $5 for children ages 6 to 12\, and children under 6 eat free.  Proceeds benefit Shriner’s Hospitals for Children.  Call 388-4468
URL:https://silvercityradio.com/event/grant-county-shriners-spaghetti-fundraiser/
LOCATION:Masonic Lodge #8\, 11 Ridge Road\, Silver City\, NM\, 88061\, United States
CATEGORIES:Food Event,Fundraiser
END:VEVENT
BEGIN:VEVENT
DTSTART;TZID=UTC:20160325T110000
DTEND;TZID=UTC:20160325T190000
DTSTAMP:20260425T113203
CREATED:20160316T143251Z
LAST-MODIFIED:20160316T143251Z
UID:10000178-1458903600-1458932400@silvercityradio.com
SUMMARY:Deming Moose Friday Fish Fry
DESCRIPTION:For our Deming listeners\, the Loyal Order of Moose will have fish fries from 11 am to 1 pm and 5 to 7 pm every Friday through Easter weekend\, March 27th.  The Lodge is located at 119 North Gold.  Proceeds benefit the charities the Lodge supports.  All members and their qualified guests are welcome to attend. Call 545-1234
URL:https://silvercityradio.com/event/deming-moose-friday-fish-fry-2/
LOCATION:Deming Moose Lodge\, 119 North Gold\, Deming\, NM\, 88030\, United States
CATEGORIES:Food Event,Fundraiser
END:VEVENT
BEGIN:VEVENT
DTSTART;TZID=UTC:20160320T160000
DTEND;TZID=UTC:20160320T180000
DTSTAMP:20260425T113203
CREATED:20160316T144956Z
LAST-MODIFIED:20160316T144956Z
UID:10000185-1458489600-1458496800@silvercityradio.com
SUMMARY:Bridge Community Fundraiser and Annual Meeting
DESCRIPTION:The Bridge Community Early Sunday Supper and Annual Meeting will be held March 20th at 4 pm at the First United Methodist Church.  The meal will include Corned Beef and trimmings and entertainment will be provided by the Gila Highlanders.  The Bridge Community is looking to build a continuum of care senior living facility in Silver City
URL:https://silvercityradio.com/event/bridge-community-fundraiser-and-annual-meeting/
LOCATION:First United Methodist Church\, 300 W College Avenue\, Silver City\, NM\, 88061\, United States
CATEGORIES:Concert,Food Event,Fundraiser
END:VEVENT
BEGIN:VEVENT
DTSTART;TZID=UTC:20160319T110000
DTEND;TZID=UTC:20160319T190000
DTSTAMP:20260425T113203
CREATED:20160316T143206Z
LAST-MODIFIED:20160316T143206Z
UID:10000173-1458385200-1458414000@silvercityradio.com
SUMMARY:Deming Moose Friday Fish Fry
DESCRIPTION:For our Deming listeners\, the Loyal Order of Moose will have fish fries from 11 am to 1 pm and 5 to 7 pm every Friday through Easter weekend\, March 27th.  The Lodge is located at 119 North Gold.  Proceeds benefit the charities the Lodge supports.  All members and their qualified guests are welcome to attend. Call 545-1234
URL:https://silvercityradio.com/event/deming-moose-friday-fish-fry/
LOCATION:Deming Moose Lodge\, 119 North Gold\, Deming\, NM\, 88030\, United States
CATEGORIES:Food Event,Fundraiser
END:VEVENT
BEGIN:VEVENT
DTSTART;TZID=UTC:20160227T180000
DTEND;TZID=UTC:20160227T200000
DTSTAMP:20260425T113203
CREATED:20151230T154527Z
LAST-MODIFIED:20151230T154527Z
UID:10000150-1456596000-1456603200@silvercityradio.com
SUMMARY:13th Annual Hunting Heritage Banquet
DESCRIPTION:The 13th annual Hunting Heritage Banquet\, Gila Gobblers Chapter will be held on February 27th at the Santa Clara Armory.  For reservations call Donnie Fell at 313-2977 or Roddie Rogers at 538-1500
URL:https://silvercityradio.com/event/13th-annual-hunting-heritage-banquet/
LOCATION:Santa Clara Armory
CATEGORIES:Food Event
END:VEVENT
BEGIN:VEVENT
DTSTART;TZID=UTC:20160117T160000
DTEND;TZID=UTC:20160117T180000
DTSTAMP:20260425T113203
CREATED:20160111T165618Z
LAST-MODIFIED:20160111T165618Z
UID:10000154-1453046400-1453053600@silvercityradio.com
SUMMARY:Bridge Community Early Sunday Supper
DESCRIPTION:The Bridge Community Early Sunday Supper fundraiser will be held January 17th at 4 pm at the First United Methodist Church.  Dinner will be Pork Tenderloin and fixings\, and entertainment will be provided by the Silver Stompers.  Funds raised help bring a continuum of care senior living facility to Silver City
URL:https://silvercityradio.com/event/bridge-community-early-sunday-supper-2/
LOCATION:First United Methodist Church\, 300 W College Avenue\, Silver City\, NM\, 88061\, United States
CATEGORIES:Food Event,Fundraiser
END:VEVENT
BEGIN:VEVENT
DTSTART;TZID=UTC:20160114T120000
DTEND;TZID=UTC:20160114T130000
DTSTAMP:20260425T113203
CREATED:20151230T153950Z
LAST-MODIFIED:20151230T153950Z
UID:10000149-1452772800-1452776400@silvercityradio.com
SUMMARY:Food Co-op Community Forum
DESCRIPTION:The Silver City Food Co-op’s January Community Forum\, Gardening at 5\,800 Feet\, will be held January 14th from noon to 1 pm in the community room at the Market Café.  The Forum will discuss the Volunteer Center’s Garden Projects.  Call 388-2343
URL:https://silvercityradio.com/event/food-co-op-community-forum-6/
LOCATION:Market Cafe\, 614 N Bullard\, Silver City\, NM\, 88061\, United States
CATEGORIES:Food Event,Presentation
END:VEVENT
BEGIN:VEVENT
DTSTART;TZID=UTC:20151219T090000
DTEND;TZID=UTC:20151219T150000
DTSTAMP:20260425T113203
CREATED:20151208T163859Z
LAST-MODIFIED:20151208T163859Z
UID:10000134-1450515600-1450537200@silvercityradio.com
SUMMARY:Woman's Club Sweet Sale
DESCRIPTION:The Silver City Woman’s Club is holding their Tantalizing Gourmet Delights\, Holiday Baskets and Sweet Sale will be December 19th from 9 am to 3 pm.  Proceeds support community projects.  Call 537-3414
URL:https://silvercityradio.com/event/womans-club-sweet-sale/
LOCATION:Silver City Woman’s Club\, 411 Silver Heights Boulevard\, Silver City\, NM\, 88061\, United States
CATEGORIES:Food Event,Fundraiser
END:VEVENT
BEGIN:VEVENT
DTSTART;TZID=UTC:20151212T070000
DTEND;TZID=UTC:20151212T210000
DTSTAMP:20260425T113203
CREATED:20151208T165011Z
LAST-MODIFIED:20151208T165011Z
UID:10000140-1449903600-1449954000@silvercityradio.com
SUMMARY:MRAC Black Tie Benefit Ball
DESCRIPTION:The Mimbres Region Arts Council Black Tie Benefit Ball will be held December 12th at 7 pm in the Lawley Toyota Showroom.  Enjoy dancing\, a full Thai dinner and a cash bar\, plus music by Baracutanga.  Tickets are available at the Arts Council office.  Call 538-2505
URL:https://silvercityradio.com/event/mrac-black-tie-benefit-ball/
LOCATION:Lawley Toyota Showroom\, 2750 US-180\, Silver City\, NM\, 88061\, United States
CATEGORIES:Adult Event,Concert,Entertainment,Food Event,Fundraiser
END:VEVENT
BEGIN:VEVENT
DTSTART;TZID=UTC:20151210T120000
DTEND;TZID=UTC:20151210T130000
DTSTAMP:20260425T113203
CREATED:20151208T164555Z
LAST-MODIFIED:20151208T164555Z
UID:10000137-1449748800-1449752400@silvercityradio.com
SUMMARY:Food Co-op Community Forum
DESCRIPTION:The Food Co-op Community Forum will be held December 10th from noon to 1 pm at the Market Café\, 614 North Bullard. This month’s forum will be a cookie exchange.  Bring several dozen of your favorite holiday cookies and copies of the recipe to share.  Call 388-2343
URL:https://silvercityradio.com/event/food-co-op-community-forum-5/
LOCATION:Market Cafe\, 614 N Bullard\, Silver City\, NM\, 88061\, United States
CATEGORIES:Food Event,Presentation
END:VEVENT
BEGIN:VEVENT
DTSTART;TZID=UTC:20151022T180000
DTEND;TZID=UTC:20151022T180000
DTSTAMP:20260425T113203
CREATED:20151014T170751Z
LAST-MODIFIED:20151014T170751Z
UID:10000124-1445536800-1445536800@silvercityradio.com
SUMMARY:Cliff School Fall Festival
DESCRIPTION:The Cliff School’s staff will hold their annual Fall Festival on October 22nd in the old Cliff School gymnasium beginning at 6 pm.  Events include bingo\, a cakewalk\, basketball throw\, fishpond\, and more.  Food and beverages will also be available.  Call 535-2051
URL:https://silvercityradio.com/event/cliff-school-fall-festival/
LOCATION:Grant County Fairgrounds\, Arena Road\, Cliff\, NM\, 88028\, United States
CATEGORIES:Entertainment,Food Event,Fundraiser
END:VEVENT
BEGIN:VEVENT
DTSTART;TZID=UTC:20150906T080000
DTEND;TZID=UTC:20150906T170000
DTSTAMP:20260425T113203
CREATED:20150824T221326Z
LAST-MODIFIED:20150824T221801Z
UID:10000115-1441526400-1441558800@silvercityradio.com
SUMMARY:Puppy Dog Ranch Rescue Fundraiser
DESCRIPTION:The Puppy Dog Ranch Rescue will hold their 6th Anniversary Tex-Mex Fundraiser on September 6th from noon to 6 at the Ranch\, 27 Twin Sisters Creek Road.  The barbecue will feature entertainment by the Illusion Band.  Funds help offset costs of housing\, feeding and medical care for rescued dogs.  Call 313-7232
URL:https://silvercityradio.com/event/puppy-dog-ranch-rescue-fundraiser/
LOCATION:Puppy Dog Ranch\, 27 Twin Sisters Creek Road\, Arenas Valley\, NM\, 88022\, United States
CATEGORIES:Entertainment,Food Event,Fundraiser
END:VEVENT
BEGIN:VEVENT
DTSTART;TZID=UTC:20150905T230000
DTEND;TZID=UTC:20150905T230000
DTSTAMP:20260425T113203
CREATED:20150824T221053Z
LAST-MODIFIED:20150824T221053Z
UID:10000114-1441494000-1441494000@silvercityradio.com
SUMMARY:Taste of Downtown
DESCRIPTION:The Silver City MainStreet Project is pleased to announce the annual Taste of Downtown on September 5th from 2 to 3 pm.  Enjoy a taste at participating downtown eateries.  Twenty “tasting” tickets will be available for $20.  Call 534-1700
URL:https://silvercityradio.com/event/taste-of-downtown/
LOCATION:NM
CATEGORIES:Food Event
END:VEVENT
BEGIN:VEVENT
DTSTART;TZID=UTC:20150816T160000
DTEND;TZID=UTC:20150816T180000
DTSTAMP:20260425T113203
CREATED:20150807T222654Z
LAST-MODIFIED:20150807T222654Z
UID:10000108-1439740800-1439748000@silvercityradio.com
SUMMARY:Bridge Community Early Sunday Supper
DESCRIPTION:The Bridge Community will hold an Early Sunday Supper fundraiser on August 16th at 4 pm at the First United Methodist Church.  The indoor picnic will feature pulled pork with entertainment provided by Toni and Rick Spiegel.  Funds benefit the Bridge Community continuum of care senior living facility project
URL:https://silvercityradio.com/event/bridge-community-early-sunday-supper/
LOCATION:First United Methodist Church\, 300 W College Avenue\, Silver City\, NM\, 88061\, United States
CATEGORIES:Entertainment,Food Event,Fundraiser
END:VEVENT
BEGIN:VEVENT
DTSTART;TZID=UTC:20150815T110000
DTEND;TZID=UTC:20150815T170000
DTSTAMP:20260425T113203
CREATED:20150807T222557Z
LAST-MODIFIED:20150807T222557Z
UID:10000107-1439636400-1439658000@silvercityradio.com
SUMMARY:Matney Family Music in the Park
DESCRIPTION:The Matney Family presents Music in the Park at Glenwood Park\, 1 mile east of Glenwood on Catwalk Road\, on August 15th beginning at 11 am.  There will be music by the Bost Family\, We Ain’t Much\, the Canfields\, and more.  Plus pony cart rides and Julie’s BBQ and Sno Cones.  Admission is free.  Call 543-8623
URL:https://silvercityradio.com/event/matney-family-music-in-the-park/
LOCATION:Glenwood Community Center\, Mengas Lane\, Glenwood\, NM\, 88039\, United States
CATEGORIES:Concert,Entertainment,Food Event
END:VEVENT
BEGIN:VEVENT
DTSTART;TZID=UTC:20150704T110000
DTEND;TZID=UTC:20150704T160000
DTSTAMP:20260425T113203
CREATED:20150630T152917Z
LAST-MODIFIED:20150630T152917Z
UID:10000089-1436007600-1436025600@silvercityradio.com
SUMMARY:Silver City Museum Ice Cream Social
DESCRIPTION:The Silver City Museum will hold it’s annual Ice Cream Social on July 4th from 11 am to 4 pm.  Popcorn\, ice cream\, and root beer floats of the treats of the day.  Other highlights include the cake walk\, historic games\, mini train ride\, and music.  Admission is free.  Call 538-5921
URL:https://silvercityradio.com/event/silver-city-museum-ice-cream-social/
LOCATION:Silver City Museum\, 312 W. Broadway\, Silver City\, NM\, 88061\, United States
CATEGORIES:Food Event,Kids Event
END:VEVENT
BEGIN:VEVENT
DTSTART;VALUE=DATE:20150704
DTEND;VALUE=DATE:20150705
DTSTAMP:20260425T113203
CREATED:20150704T151942Z
LAST-MODIFIED:20150630T152015Z
UID:10000094-1435968000-1436054399@silvercityradio.com
SUMMARY:4th of July in Lordsburg
DESCRIPTION:The City of Lordsburg will hold Fourth of July Activities at the special events Center.  There will also be a fireworks display at dusk
URL:https://silvercityradio.com/event/4th-of-july-in-lordsburg/
LOCATION:NM
CATEGORIES:Adult Event,Entertainment,Food Event,Kids Event
END:VEVENT
BEGIN:VEVENT
DTSTART;VALUE=DATE:20150704
DTEND;VALUE=DATE:20150705
DTSTAMP:20260425T113203
CREATED:20150630T152824Z
LAST-MODIFIED:20150630T152824Z
UID:10000088-1435968000-1436054399@silvercityradio.com
SUMMARY:4th of July Lordsburg
DESCRIPTION:The City of Lordsburg will hold Fourth of July Activities at the special events Center.  There will also be a fireworks display at dusk
URL:https://silvercityradio.com/event/4th-of-july-lordsburg/
LOCATION:NM
CATEGORIES:Adult Event,Entertainment,Food Event,Kids Event
END:VEVENT
BEGIN:VEVENT
DTSTART;VALUE=DATE:20150704
DTEND;VALUE=DATE:20150705
DTSTAMP:20260425T113203
CREATED:20150630T152659Z
LAST-MODIFIED:20150630T152659Z
UID:10000087-1435968000-1436054399@silvercityradio.com
SUMMARY:4th of July in Deming
DESCRIPTION:For our Deming Listeners\, the annual July 4th Festival will take place from 10 am to 6 pm at the Courthouse Park.  The theme is Proud to be American.  Deming city officials are planning for a Fourth of July Fireworks show to begin around 9:15 pm behind the Deming Municipal Airport
URL:https://silvercityradio.com/event/4th-of-july-in-deming-2/
LOCATION:NM
CATEGORIES:Adult Event,Entertainment,Food Event,Kids Event
END:VEVENT
BEGIN:VEVENT
DTSTART;VALUE=DATE:20150704
DTEND;VALUE=DATE:20150705
DTSTAMP:20260425T113203
CREATED:20150630T151841Z
LAST-MODIFIED:20150630T152128Z
UID:10000086-1435968000-1436054399@silvercityradio.com
SUMMARY:4th of July in Silver City
DESCRIPTION:The Annual Fourth of July Parade and Celebration at Gough Park will be held Saturday\, July 4th.  The theme this year is Rally Around the Flag\, and the Parade will begin at 10 am and follow a new route on Hudson Street to 14th Street.  A Fireworks show will follow when it gets dark
URL:https://silvercityradio.com/event/4th-of-july-in-silver-city/
LOCATION:Gough Park
CATEGORIES:Adult Event,Entertainment,Food Event,Kids Event
END:VEVENT
BEGIN:VEVENT
DTSTART;VALUE=DATE:20150630
DTEND;VALUE=DATE:20150701
DTSTAMP:20260425T113203
CREATED:20150704T151909Z
LAST-MODIFIED:20150630T152054Z
UID:10000093-1435622400-1435708799@silvercityradio.com
SUMMARY:4th of July in Deming
DESCRIPTION:For our Deming Listeners\, the annual July 4th Festival will take place from 10 am to 6 pm at the Courthouse Park.  The theme is Proud to be American.  Deming city officials are planning for a Fourth of July Fireworks show to begin around 9:15 pm behind the Deming Municipal Airport
URL:https://silvercityradio.com/event/4th-of-july-in-deming/
LOCATION:NM
CATEGORIES:Adult Event,Entertainment,Food Event,Kids Event
END:VEVENT
BEGIN:VEVENT
DTSTART;TZID=UTC:20150613T110000
DTEND;TZID=UTC:20150613T150000
DTSTAMP:20260425T113203
CREATED:20150527T194422Z
LAST-MODIFIED:20150527T194422Z
UID:10000012-1434193200-1434207600@silvercityradio.com
SUMMARY:Jump Into Summer
DESCRIPTION:Hidalgo Medical Services is pleased to announce their 7th Annual Jump Into Summer on June 13th from 11 am to 3 pm at Gough Park.  This free event offers water slides\, games\, food\, prizes and fun for kids of all ages.  Call 597-2741
URL:https://silvercityradio.com/event/jump-into-summer/
LOCATION:Gough Park
CATEGORIES:Entertainment,Food Event,Kids Event
END:VEVENT
BEGIN:VEVENT
DTSTART;TZID=UTC:20150611T120000
DTEND;TZID=UTC:20150611T130000
DTSTAMP:20260425T113203
CREATED:20150527T175945Z
LAST-MODIFIED:20150527T175945Z
UID:10000017-1434024000-1434027600@silvercityradio.com
SUMMARY:Co-Op Community Forum
DESCRIPTION:The Silver City Food Co-op June Community Forum will be held June 11th from noon to 1 pm at 614 North Bullard.  This free presentation on making homemade Ice Cream is open to the public.  Call 388-2343
URL:https://silvercityradio.com/event/co-op-community-forum-3/
LOCATION:The Blue Building\, 614 North Bullard Street\, Silver City\, NM\, 88061\, United States
CATEGORIES:Food Event,Presentation
END:VEVENT
END:VCALENDAR