BEGIN:VCALENDAR
VERSION:2.0
PRODID:-//Silver City Radio - ECPv6.3.3.1//NONSGML v1.0//EN
CALSCALE:GREGORIAN
METHOD:PUBLISH
X-ORIGINAL-URL:https://silvercityradio.com
X-WR-CALDESC:Events for Silver City Radio
REFRESH-INTERVAL;VALUE=DURATION:PT1H
X-Robots-Tag:noindex
X-PUBLISHED-TTL:PT1H
BEGIN:VTIMEZONE
TZID:UTC
BEGIN:STANDARD
TZOFFSETFROM:+0000
TZOFFSETTO:+0000
TZNAME:UTC
DTSTART:20170101T000000
END:STANDARD
END:VTIMEZONE
BEGIN:VEVENT
DTSTART;TZID=UTC:20170428T080000
DTEND;TZID=UTC:20170429T160000
DTSTAMP:20260420T174657
CREATED:20170424T165955Z
LAST-MODIFIED:20170424T165955Z
UID:10000591-1493366400-1493481600@silvercityradio.com
SUMMARY:American Legion Fundraiser for Lena and Carolyn Holguin
DESCRIPTION:The American Legion Post 18 is having a breakfast and BBQ lunch fundraiser on Friday\, April 28th and Saturday\, April 29th from 8 am to 4 pm at the American Legion Post.  Proceeds benefit Lena and Carolyn Holguin to help cover medical expenses from the women’s terrible car accident earlier this year.  Call 623-293-1639
URL:https://silvercityradio.com/event/american-legion-fundraiser-for-lena-and-carolyn-holguin/
LOCATION:American Legion Post 18\, 409 West College Avenue\, Silver City\, NM\, 88061\, United States
CATEGORIES:Food Event,Fundraiser
END:VEVENT
BEGIN:VEVENT
DTSTART;TZID=UTC:20170429T080000
DTEND;TZID=UTC:20170429T110000
DTSTAMP:20260420T174657
CREATED:20170424T165827Z
LAST-MODIFIED:20170424T165827Z
UID:10000590-1493452800-1493463600@silvercityradio.com
SUMMARY:Upper Mimbres VFD Pancake Breakfast
DESCRIPTION:The Upper Mimbres Volunteer Fire and Rescue Department will host its annual Pancake Breakfast and Bake Sale on Saturday\, April 29th from 8 to 11 am at the Main Station at Mile 5 on Highway 35.  $5 breakfast includes scrambled eggs\, pancakes\, sausage\, coffee\, and juice.  Call 536-3683
URL:https://silvercityradio.com/event/upper-mimbres-vfd-pancake-breakfast-2/
LOCATION:Upper Mimbres VFD\, 3072 Highway 35\, Mimbres\, NM\, 88049\, United States
CATEGORIES:Food Event,Fundraiser
END:VEVENT
END:VCALENDAR