BEGIN:VCALENDAR
VERSION:2.0
PRODID:-//Silver City Radio - ECPv6.3.3.1//NONSGML v1.0//EN
CALSCALE:GREGORIAN
METHOD:PUBLISH
X-ORIGINAL-URL:https://silvercityradio.com
X-WR-CALDESC:Events for Silver City Radio
REFRESH-INTERVAL;VALUE=DURATION:PT1H
X-Robots-Tag:noindex
X-PUBLISHED-TTL:PT1H
BEGIN:VTIMEZONE
TZID:UTC
BEGIN:STANDARD
TZOFFSETFROM:+0000
TZOFFSETTO:+0000
TZNAME:UTC
DTSTART:20160101T000000
END:STANDARD
END:VTIMEZONE
BEGIN:VEVENT
DTSTART;TZID=UTC:20161013T183000
DTEND;TZID=UTC:20161013T200000
DTSTAMP:20260424T054528
CREATED:20160921T161614Z
LAST-MODIFIED:20160921T161614Z
UID:10000354-1476383400-1476388800@silvercityradio.com
SUMMARY:Boys and Girls State Banquet at the American Legion
DESCRIPTION:The Boys and Girls State Banquet will be held Thursday\, October 13th at the American Legion Post beginning at 6:30 pm.  Bring out the family and enjoy the evening and great food.  RSVP to 956-5153
URL:https://silvercityradio.com/event/boys-and-girls-state-banquet-at-the-american-legion/
LOCATION:American Legion Post 18\, 409 West College Avenue\, Silver City\, NM\, 88061\, United States
CATEGORIES:Food Event,Kids Event
END:VEVENT
END:VCALENDAR