BEGIN:VCALENDAR
VERSION:2.0
PRODID:-//Silver City Radio - ECPv6.3.3.1//NONSGML v1.0//EN
CALSCALE:GREGORIAN
METHOD:PUBLISH
X-WR-CALNAME:Silver City Radio
X-ORIGINAL-URL:https://silvercityradio.com
X-WR-CALDESC:Events for Silver City Radio
REFRESH-INTERVAL;VALUE=DURATION:PT1H
X-Robots-Tag:noindex
X-PUBLISHED-TTL:PT1H
BEGIN:VTIMEZONE
TZID:UTC
BEGIN:STANDARD
TZOFFSETFROM:+0000
TZOFFSETTO:+0000
TZNAME:UTC
DTSTART:20160101T000000
END:STANDARD
END:VTIMEZONE
BEGIN:VEVENT
DTSTART;TZID=UTC:20160903T120000
DTEND;TZID=UTC:20160903T150000
DTSTAMP:20260424T122153
CREATED:20160829T160949Z
LAST-MODIFIED:20160829T160949Z
UID:10000315-1472904000-1472914800@silvercityradio.com
SUMMARY:Taste of Downtown Silver City
DESCRIPTION:The Taste of Downtown will be held September 3rd in Downtown Silver City from noon to 3 pm\, with a pie contest at 11 am.  Tastes will be available from 14 locations.  Tickets are available at the Mainstreet Ticket Booth the Day of the Event.  Proceeds benefit the Silver City MainStreet Project
URL:https://silvercityradio.com/event/taste-of-downtown-silver-city/
LOCATION:Market Cafe\, 614 N Bullard\, Silver City\, NM\, 88061\, United States
CATEGORIES:Food Event
END:VEVENT
END:VCALENDAR