BEGIN:VCALENDAR
VERSION:2.0
PRODID:-//Silver City Radio - ECPv6.3.3.1//NONSGML v1.0//EN
CALSCALE:GREGORIAN
METHOD:PUBLISH
X-WR-CALNAME:Silver City Radio
X-ORIGINAL-URL:https://silvercityradio.com
X-WR-CALDESC:Events for Silver City Radio
REFRESH-INTERVAL;VALUE=DURATION:PT1H
X-Robots-Tag:noindex
X-PUBLISHED-TTL:PT1H
BEGIN:VTIMEZONE
TZID:UTC
BEGIN:STANDARD
TZOFFSETFROM:+0000
TZOFFSETTO:+0000
TZNAME:UTC
DTSTART:20160101T000000
END:STANDARD
END:VTIMEZONE
BEGIN:VEVENT
DTSTART;TZID=UTC:20160704T080000
DTEND;TZID=UTC:20160704T210000
DTSTAMP:20260424T193016
CREATED:20160627T162418Z
LAST-MODIFIED:20160627T162418Z
UID:10000265-1467619200-1467666000@silvercityradio.com
SUMMARY:America the Beautiful! Independence Day Celebration in Silver City
DESCRIPTION:The Town of Silver City will hold it’s annual 4th of July Celebration on Monday\, July 4th.  This year’s theme is America the Beautiful.  The July 4th Celebration will include a pancake breakfast at 8 am\, the 4th of July Parade at 10\, activities in Gough Park throughout the day\, and the Silver City – First American Bank Fireworks Show when the sky gets dark
URL:https://silvercityradio.com/event/america-the-beautiful-independence-day-celebration-in-silver-city/
LOCATION:Gough Park
CATEGORIES:Adult Event,Concert,Entertainment,Food Event,Kids Event
END:VEVENT
BEGIN:VEVENT
DTSTART;TZID=UTC:20160704T080000
DTEND;TZID=UTC:20160704T210000
DTSTAMP:20260424T193016
CREATED:20160627T165450Z
LAST-MODIFIED:20160627T165450Z
UID:10000266-1467619200-1467666000@silvercityradio.com
SUMMARY:Fourth of July Festival in Deming
DESCRIPTION:For our Deming listeners\, the annual 4th of July Festival will be held at Courthouse Park on Monday\, July 4th beginning at 8 am with a 5K fun run\, followed by the parade at 10.  A fireworks show will follow in the evening from the Southwest New Mexico State Fair Grounds
URL:https://silvercityradio.com/event/fourth-of-july-festival-in-deming/
LOCATION:Luna County Courthouse Park\, Deming\, United States
CATEGORIES:Adult Event,Entertainment,Food Event,Kids Event
END:VEVENT
END:VCALENDAR