BEGIN:VCALENDAR
VERSION:2.0
PRODID:-//Silver City Radio - ECPv6.3.3.1//NONSGML v1.0//EN
CALSCALE:GREGORIAN
METHOD:PUBLISH
X-WR-CALNAME:Silver City Radio
X-ORIGINAL-URL:https://silvercityradio.com
X-WR-CALDESC:Events for Silver City Radio
REFRESH-INTERVAL;VALUE=DURATION:PT1H
X-Robots-Tag:noindex
X-PUBLISHED-TTL:PT1H
BEGIN:VTIMEZONE
TZID:UTC
BEGIN:STANDARD
TZOFFSETFROM:+0000
TZOFFSETTO:+0000
TZNAME:UTC
DTSTART:20170101T000000
END:STANDARD
END:VTIMEZONE
BEGIN:VEVENT
DTSTART;TZID=UTC:20170315T160000
DTEND;TZID=UTC:20170315T180000
DTSTAMP:20260422T135947
CREATED:20170306T233708Z
LAST-MODIFIED:20170306T233708Z
UID:10000441-1489593600-1489600800@silvercityradio.com
SUMMARY:Volunteer Center Common Wednesday: Family Cook Night
DESCRIPTION:The Volunteer Center’s Common Wednesdays Theme of the Month for March is Water.  On March 15th there will be a Family Cook Night from 4 to 6 pm.  Prepare foods like sou and refreshing teas\, share stories and recipes.  Call 388-2988
URL:https://silvercityradio.com/event/volunteer-center-common-wednesday-family-cook-night/
LOCATION:Volunteer Center\, 501 E 13th St\, Silver City\, NM\, 88061\, United States
CATEGORIES:Food Event,Presentation
END:VEVENT
BEGIN:VEVENT
DTSTART;TZID=UTC:20170319T170000
DTEND;TZID=UTC:20170319T190000
DTSTAMP:20260422T135947
CREATED:20170313T162723Z
LAST-MODIFIED:20170313T162723Z
UID:10000436-1489942800-1489950000@silvercityradio.com
SUMMARY:Bridge Community Annual Meeting and Fundraiser
DESCRIPTION:The Bridge Community will hold a fundraising dinner and annual meeting on Sunday\, March 19th at 5 pm in the First United Methodist Church.  Dinner will be Corned Beef and Cabbage with a $10 donation.  Entertainment provided by the Gila Highlanders
URL:https://silvercityradio.com/event/bridge-community-annual-meeting-and-fundraiser/
LOCATION:First United Methodist Church\, 300 W College Avenue\, Silver City\, NM\, 88061\, United States
CATEGORIES:Entertainment,Food Event,Fundraiser,Meeting
END:VEVENT
END:VCALENDAR