BEGIN:VCALENDAR
VERSION:2.0
PRODID:-//Silver City Radio - ECPv6.3.3.1//NONSGML v1.0//EN
CALSCALE:GREGORIAN
METHOD:PUBLISH
X-WR-CALNAME:Silver City Radio
X-ORIGINAL-URL:https://silvercityradio.com
X-WR-CALDESC:Events for Silver City Radio
REFRESH-INTERVAL;VALUE=DURATION:PT1H
X-Robots-Tag:noindex
X-PUBLISHED-TTL:PT1H
BEGIN:VTIMEZONE
TZID:UTC
BEGIN:STANDARD
TZOFFSETFROM:+0000
TZOFFSETTO:+0000
TZNAME:UTC
DTSTART:20170101T000000
END:STANDARD
END:VTIMEZONE
BEGIN:VEVENT
DTSTART;TZID=UTC:20170204T090000
DTEND;TZID=UTC:20170204T150000
DTSTAMP:20260422T160647
CREATED:20170116T154914Z
LAST-MODIFIED:20170116T154914Z
UID:10000483-1486198800-1486220400@silvercityradio.com
SUMMARY:Kitchen Creations - Diabetic Cooking Class
DESCRIPTION:The NMSU Cooperative Extension Service will host Kitchen Creations\, a cooking school for adults with Diabetes on and February 4th from 9 am to 3 pm at the Grant County Extension Office Meeting Room.  The cooking school is free thanks to funding from the New Mexico Department of Health.  To enroll in Kitchen Creations cooking school\, call 388-1559
URL:https://silvercityradio.com/event/kitchen-creations-diabetic-cooking-class/
LOCATION:Grant County Extension Office\, 2610 North Silver Street\, Silver City\, NM\, 88061\, United States
CATEGORIES:Adult Event,Food Event,Training
END:VEVENT
BEGIN:VEVENT
DTSTART;TZID=UTC:20170210T170000
DTEND;TZID=UTC:20170210T190000
DTSTAMP:20260422T160647
CREATED:20170206T171206Z
LAST-MODIFIED:20170206T171206Z
UID:10000511-1486746000-1486753200@silvercityradio.com
SUMMARY:Valentine Dinner Fundraiser
DESCRIPTION:The Bridge Community will hold a Valentine Dinner Fundraiser on Friday\, February 10th from 5 to 7 pm at the Cross Point Assembly of God Church.  Ttickets may be purchased at the Bridge Office\, 214 Hwy 180 West\, or from any Bridge Community members.  Call 597-0065
URL:https://silvercityradio.com/event/valentine-dinner-fundraiser/
LOCATION:Glad Tidings/Cross Point Assembly of God Church\, 11600 Highway 180 East\, Silver City\, NM\, 88061\, United States
CATEGORIES:Entertainment,Food Event,Fundraiser
END:VEVENT
BEGIN:VEVENT
DTSTART;TZID=UTC:20170215T160000
DTEND;TZID=UTC:20170215T180000
DTSTAMP:20260422T160647
CREATED:20170130T171228Z
LAST-MODIFIED:20170130T171228Z
UID:10000507-1487174400-1487181600@silvercityradio.com
SUMMARY:Family Cook Night at the Volunteer Center
DESCRIPTION:The Volunteer Center’s Common Wednesdays’ theme of the month for February is Fire.  On February 15th from 4 to 6 pm they will put the flame on the grill for Family Cook Night.  Together\, prepare grilled corn salsa\, fire roasted kabobs and banana boats for a flaming dessert.  Call 388-2988
URL:https://silvercityradio.com/event/family-cook-night-at-the-volunteer-center/
LOCATION:Volunteer Center\, 501 E 13th St\, Silver City\, NM\, 88061\, United States
CATEGORIES:Entertainment,Food Event
END:VEVENT
BEGIN:VEVENT
DTSTART;VALUE=DATE:20170218
DTEND;VALUE=DATE:20170219
DTSTAMP:20260422T160647
CREATED:20170123T170132Z
LAST-MODIFIED:20170123T170132Z
UID:10000501-1487376000-1487462399@silvercityradio.com
SUMMARY:Territorial Charter Day
DESCRIPTION:Celebrate Silver City’s Territorial Charter Day on February 18th with a Biscocho Bake Sale and Judging at Javalina Coffee House\, Presentation of the Territorial Charter at the Silver City Museum\, a Hiking Tour of Boston Hill\, and a miniature wooden retablo workshop.  Call Silver City MainStreet at 534-1700 to learn more about the Territorial Charter Day festivities
URL:https://silvercityradio.com/event/territorial-charter-day/
CATEGORIES:Entertainment,Food Event
END:VEVENT
BEGIN:VEVENT
DTSTART;TZID=UTC:20170228T100000
DTEND;TZID=UTC:20170228T140000
DTSTAMP:20260422T160647
CREATED:20170227T163219Z
LAST-MODIFIED:20170227T163219Z
UID:10000523-1488276000-1488290400@silvercityradio.com
SUMMARY:Growing a Local Food System in Southwest New Mexico
DESCRIPTION:The National Center for Frontier Communities presents “Growing a Local Food System in Southwest New Mexico\,” a farm and food business training for all current and future growers of local food.  The presentation will be held on Tuesday\, February 28th from 10 am to 2 pm at the Grant County Extension Building.  Call 597-0032
URL:https://silvercityradio.com/event/growing-a-local-food-system-in-southwest-new-mexico/
LOCATION:Grant County Extension Office\, 2610 North Silver Street\, Silver City\, NM\, 88061\, United States
CATEGORIES:Food Event,Health Event,Presentation
END:VEVENT
BEGIN:VEVENT
DTSTART;TZID=UTC:20170228T173000
DTEND;TZID=UTC:20170228T193000
DTSTAMP:20260422T160647
CREATED:20170227T164406Z
LAST-MODIFIED:20170227T164406Z
UID:10000524-1488303000-1488310200@silvercityradio.com
SUMMARY:Shrove Tuesday Pancake Supper
DESCRIPTION:The Episcopal Church of the Good Shepherd invites everyone to join them in celebrating Shrove Tuesday with a Pancake Supper on Tuesday\, February 28th from 5:30 to 7:30 pm at the Church\, 615 North Texas Street.  Call 538-2015
URL:https://silvercityradio.com/event/shrove-tuesday-pancake-supper/
LOCATION:Episcopal Church of the Good Shepherd\, 615 N Texas St\, Silver City\, NM\, 88061\, United States
CATEGORIES:Food Event
END:VEVENT
END:VCALENDAR