BEGIN:VCALENDAR
VERSION:2.0
PRODID:-//Silver City Radio - ECPv6.3.3.1//NONSGML v1.0//EN
CALSCALE:GREGORIAN
METHOD:PUBLISH
X-ORIGINAL-URL:https://silvercityradio.com
X-WR-CALDESC:Events for Silver City Radio
REFRESH-INTERVAL;VALUE=DURATION:PT1H
X-Robots-Tag:noindex
X-PUBLISHED-TTL:PT1H
BEGIN:VTIMEZONE
TZID:UTC
BEGIN:STANDARD
TZOFFSETFROM:+0000
TZOFFSETTO:+0000
TZNAME:UTC
DTSTART:20170101T000000
END:STANDARD
END:VTIMEZONE
BEGIN:VEVENT
DTSTART;TZID=UTC:20170118T160000
DTEND;TZID=UTC:20170118T180000
DTSTAMP:20260423T010202
CREATED:20170103T180553Z
LAST-MODIFIED:20170103T180553Z
UID:10000472-1484755200-1484762400@silvercityradio.com
SUMMARY:Common Wednesday at the Volunteer Center
DESCRIPTION:The Volunteer Center Common Wednesdays’ theme of the month for January is Seeds.  On January 18th\, join family cook night from 4 to 6 pm as they prepare and eat a “seed buffet” featuring grains\, beans\, sprouts and chia cacao pudding for dessert.  Call 388-2988
URL:https://silvercityradio.com/event/common-wednesday-at-the-volunteer-center-3/
LOCATION:Volunteer Center\, 501 E 13th St\, Silver City\, NM\, 88061\, United States
CATEGORIES:Food Event,Health Event,Presentation
END:VEVENT
BEGIN:VEVENT
DTSTART;TZID=UTC:20170127T180000
DTEND;TZID=UTC:20170127T210000
DTSTAMP:20260423T010202
CREATED:20170116T154531Z
LAST-MODIFIED:20170116T154531Z
UID:10000481-1485540000-1485550800@silvercityradio.com
SUMMARY:4-H Awards Banquet
DESCRIPTION:Grant County 4-H invites you and your family to their annual 4-H Awards Banquet on Friday\, January 27th in the White Signal Community Hall beginning at 6 pm. There will be an appetizer potluck dinner\, followed by the awards\, and a dance featuring the Turner Mac Band.  RSVP by January 23rd.  Call 388-1559
URL:https://silvercityradio.com/event/4-h-awards-banquet/
LOCATION:White Signal Community Hall\, White Signal\, NM\, 88061\, United States
CATEGORIES:Adult Event,Concert,Entertainment,Food Event,Kids Event
END:VEVENT
BEGIN:VEVENT
DTSTART;TZID=UTC:20170128T090000
DTEND;TZID=UTC:20170128T150000
DTSTAMP:20260423T010202
CREATED:20170116T154755Z
LAST-MODIFIED:20170116T154755Z
UID:10000482-1485594000-1485615600@silvercityradio.com
SUMMARY:Kitchen Creations - Diabetic Cooking Classes
DESCRIPTION:The NMSU Cooperative Extension Service will host Kitchen Creations\, a cooking school for adults with Diabetes on January 28th and February 4th from 9 am to 3 pm at the Grant County Extension Office Meeting Room.  The cooking school is free thanks to funding from the New Mexico Department of Health.  To enroll in Kitchen Creations cooking school\, call 388-1559
URL:https://silvercityradio.com/event/kitchen-creations-diabetic-cooking-classes/
LOCATION:Grant County Extension Office\, 2610 North Silver Street\, Silver City\, NM\, 88061\, United States
CATEGORIES:Adult Event,Food Event,Training
END:VEVENT
END:VCALENDAR