BEGIN:VCALENDAR
VERSION:2.0
PRODID:-//Silver City Radio - ECPv6.3.3.1//NONSGML v1.0//EN
CALSCALE:GREGORIAN
METHOD:PUBLISH
X-ORIGINAL-URL:https://silvercityradio.com
X-WR-CALDESC:Events for Silver City Radio
REFRESH-INTERVAL;VALUE=DURATION:PT1H
X-Robots-Tag:noindex
X-PUBLISHED-TTL:PT1H
BEGIN:VTIMEZONE
TZID:UTC
BEGIN:STANDARD
TZOFFSETFROM:+0000
TZOFFSETTO:+0000
TZNAME:UTC
DTSTART:20160101T000000
END:STANDARD
END:VTIMEZONE
BEGIN:VEVENT
DTSTART;TZID=UTC:20160319T110000
DTEND;TZID=UTC:20160319T190000
DTSTAMP:20260425T145936
CREATED:20160316T143206Z
LAST-MODIFIED:20160316T143206Z
UID:10000173-1458385200-1458414000@silvercityradio.com
SUMMARY:Deming Moose Friday Fish Fry
DESCRIPTION:For our Deming listeners\, the Loyal Order of Moose will have fish fries from 11 am to 1 pm and 5 to 7 pm every Friday through Easter weekend\, March 27th.  The Lodge is located at 119 North Gold.  Proceeds benefit the charities the Lodge supports.  All members and their qualified guests are welcome to attend. Call 545-1234
URL:https://silvercityradio.com/event/deming-moose-friday-fish-fry/
LOCATION:Deming Moose Lodge\, 119 North Gold\, Deming\, NM\, 88030\, United States
CATEGORIES:Food Event,Fundraiser
END:VEVENT
BEGIN:VEVENT
DTSTART;TZID=UTC:20160320T160000
DTEND;TZID=UTC:20160320T180000
DTSTAMP:20260425T145936
CREATED:20160316T144956Z
LAST-MODIFIED:20160316T144956Z
UID:10000185-1458489600-1458496800@silvercityradio.com
SUMMARY:Bridge Community Fundraiser and Annual Meeting
DESCRIPTION:The Bridge Community Early Sunday Supper and Annual Meeting will be held March 20th at 4 pm at the First United Methodist Church.  The meal will include Corned Beef and trimmings and entertainment will be provided by the Gila Highlanders.  The Bridge Community is looking to build a continuum of care senior living facility in Silver City
URL:https://silvercityradio.com/event/bridge-community-fundraiser-and-annual-meeting/
LOCATION:First United Methodist Church\, 300 W College Avenue\, Silver City\, NM\, 88061\, United States
CATEGORIES:Concert,Food Event,Fundraiser
END:VEVENT
BEGIN:VEVENT
DTSTART;TZID=UTC:20160325T110000
DTEND;TZID=UTC:20160325T190000
DTSTAMP:20260425T145936
CREATED:20160316T143251Z
LAST-MODIFIED:20160316T143251Z
UID:10000178-1458903600-1458932400@silvercityradio.com
SUMMARY:Deming Moose Friday Fish Fry
DESCRIPTION:For our Deming listeners\, the Loyal Order of Moose will have fish fries from 11 am to 1 pm and 5 to 7 pm every Friday through Easter weekend\, March 27th.  The Lodge is located at 119 North Gold.  Proceeds benefit the charities the Lodge supports.  All members and their qualified guests are welcome to attend. Call 545-1234
URL:https://silvercityradio.com/event/deming-moose-friday-fish-fry-2/
LOCATION:Deming Moose Lodge\, 119 North Gold\, Deming\, NM\, 88030\, United States
CATEGORIES:Food Event,Fundraiser
END:VEVENT
END:VCALENDAR