BEGIN:VCALENDAR
VERSION:2.0
PRODID:-//Silver City Radio - ECPv6.3.3.1//NONSGML v1.0//EN
CALSCALE:GREGORIAN
METHOD:PUBLISH
X-ORIGINAL-URL:https://silvercityradio.com
X-WR-CALDESC:Events for Silver City Radio
REFRESH-INTERVAL;VALUE=DURATION:PT1H
X-Robots-Tag:noindex
X-PUBLISHED-TTL:PT1H
BEGIN:VTIMEZONE
TZID:UTC
BEGIN:STANDARD
TZOFFSETFROM:+0000
TZOFFSETTO:+0000
TZNAME:UTC
DTSTART:20220101T000000
END:STANDARD
END:VTIMEZONE
BEGIN:VEVENT
DTSTART;VALUE=DATE:20220921
DTEND;VALUE=DATE:20220926
DTSTAMP:20260420T110243
CREATED:20220830T215949Z
LAST-MODIFIED:20220830T215949Z
UID:10001983-1663718400-1664150399@silvercityradio.com
SUMMARY:Grant County Fair 2022
DESCRIPTION:Grab your boots and head to the Grant County Fair\, Wednesday through Sunday September 21st through 25th in Cliff\, New Mexico. Enjoy rodeos\, exhibits\, live music and dancing\, team roping\, junior livestock sale\, and a carnival Wednesday through Saturday. Check out  https://www.grantcountyfairnm.com/ for more information.
URL:https://silvercityradio.com/event/grant-county-fair-2022-2/
LOCATION:NM
CATEGORIES:Entertainment,Food Event,Kids Event
END:VEVENT
BEGIN:VEVENT
DTSTART;TZID=UTC:20220924T100000
DTEND;TZID=UTC:20220924T160000
DTSTAMP:20260420T110243
CREATED:20220817T165403Z
LAST-MODIFIED:20220817T165403Z
UID:10001981-1664013600-1664035200@silvercityradio.com
SUMMARY:15th Annual Mimbres Valley Harvest Festival
DESCRIPTION:Come and enjoy the 15th Annual Mimbres Valley Harvest Festival on Saturday\, September 24th at San Lorenzo Elementary School from 10:00 A.M. to 4:00 P.M. The event features fresh valley produce\, locally prepared foods\, art & crafts\, a health fair\, children’s activities\, a pie contest\, and live music.
URL:https://silvercityradio.com/event/15th-annual-mimbres-valley-harvest-festival/
LOCATION:San Lorenzo Elementary School
CATEGORIES:Entertainment,Food Event,Health Event,Public Notice
END:VEVENT
BEGIN:VEVENT
DTSTART;TZID=UTC:20221030T130000
DTEND;TZID=UTC:20221030T180000
DTSTAMP:20260420T110243
CREATED:20221020T194440Z
LAST-MODIFIED:20221020T194440Z
UID:10002006-1667134800-1667152800@silvercityradio.com
SUMMARY:Bayard Halloween Candy Drop & Trunk or Treat
DESCRIPTION:The Bayard Beautification Committee is hosting a free Candy Drop and Trunk or Treat event for the public on Sunday\, October 30th at the Bayard Community Center and the Bayard Park. The Candy drop will begin at 1:00 P.M. and the Trunk or Treat will begin around 1:30p.m. Enjoy free food\, drinks and live music until 6:00 P.M.
URL:https://silvercityradio.com/event/bayard-halloween-candy-drop-trunk-or-treat/
LOCATION:Bayard Community Center\, 290 Hurley Avenue\, Bayard\, United States
CATEGORIES:Entertainment,Holiday,Kids Event
END:VEVENT
BEGIN:VEVENT
DTSTART;TZID=UTC:20221119T100000
DTEND;TZID=UTC:20221119T150000
DTSTAMP:20260420T110243
CREATED:20221110T184134Z
LAST-MODIFIED:20221110T184200Z
UID:10002018-1668852000-1668870000@silvercityradio.com
SUMMARY:5th Annual Tamal Fiesta
DESCRIPTION:Celebrate local Hispanic culture through food and music at the 5th Annual Tamal festival in the Village of Santa Clara on Saturday\, November 19th from 10:00 A.M. to 3:00 P.M. Enjoy lots of food\, live music\, show and shine car show and more. Bring an new unwrapped toy for the holiday toy drive. For more information\, visit the Tamal Fiesta Y Mas Facebook page.
URL:https://silvercityradio.com/event/5th-annual-tamal-fiesta/
LOCATION:Village of Santa Clara
CATEGORIES:Entertainment,Food Event,Public Notice
END:VEVENT
BEGIN:VEVENT
DTSTART;TZID=UTC:20221126T190000
DTEND;TZID=UTC:20221126T200000
DTSTAMP:20260420T110243
CREATED:20221110T185605Z
LAST-MODIFIED:20221110T195625Z
UID:10002020-1669489200-1669492800@silvercityradio.com
SUMMARY:32nd Annual Lighted Christmas Parade
DESCRIPTION:The 32nd Annual Lighted Christmas Parade will be on Saturday\, November 26\, 2022 from 7pm to 8pm in Downtown Silver City.  The Lighted Christmas parade is sponsored by the Silver MainStreet Project and the Town of Silver City.
URL:https://silvercityradio.com/event/32nd-annual-lighted-christmas-parade/
LOCATION:Dowown Silver City
CATEGORIES:Entertainment
END:VEVENT
BEGIN:VEVENT
DTSTART;TZID=UTC:20221210T110000
DTEND;TZID=UTC:20221210T150000
DTSTAMP:20260420T110243
CREATED:20221130T180434Z
LAST-MODIFIED:20221130T180447Z
UID:10002036-1670670000-1670684400@silvercityradio.com
SUMMARY:Silver City Museum Victorian Christmas
DESCRIPTION:The Silver City Museum is presenting a Victorian Christmas and More Event on Saturday\, December 10th from 11:00 A.M.\, to 3:00 P.M. at 312 West Broadway in Downtown Silver City. There will be a variety of live music performances\, free cookies and cider\, free books for the kids\, and much more. For more information\, visit https://silvercitymuseum.org/199/Museum.
URL:https://silvercityradio.com/event/silver-city-museum-victorian-christmas-2/
LOCATION:Silver City Museum
CATEGORIES:Entertainment,Holiday
END:VEVENT
BEGIN:VEVENT
DTSTART;TZID=UTC:20221215T190000
DTEND;TZID=UTC:20221215T213000
DTSTAMP:20260420T110243
CREATED:20221118T173246Z
LAST-MODIFIED:20221118T210721Z
UID:10002031-1671130800-1671139800@silvercityradio.com
SUMMARY:Free1st Armored Division Holiday Concert
DESCRIPTION:The Grant County Community Concert Association and the American Legion Post 18 are bringing back the 1st Armored Division Band for a festive holiday concert.  They are one of the premier military bands in the nation and put on a fabulous show well worth attending.  The concert will be held Thursday December 15th at 7:00 PM in the WNMU Fine Arts Theater. This concert is free and open to the public.
URL:https://silvercityradio.com/event/free1st-armored-division-holiday-concert/
LOCATION:WNMU Fine Arts Center Theater\, 1000 West College Avenue\, Silver City\, NM\, 88061\, United States
CATEGORIES:Concert,Entertainment
END:VEVENT
BEGIN:VEVENT
DTSTART;TZID=UTC:20221216T183000
DTEND;TZID=UTC:20221216T200000
DTSTAMP:20260420T110243
CREATED:20221215T162901Z
LAST-MODIFIED:20221215T162901Z
UID:10002048-1671215400-1671220800@silvercityradio.com
SUMMARY:15th Annual Deming Christmas Sing-a-long
DESCRIPTION:The 15th Annual Christmas Carol Sing Along is going on Friday\, December 16th at 6:30 P.M. 6140 Columbus Road in Deming at the Circle M Auction Center. There will be music\, games\, and food. Admission is free\, come and have fun.
URL:https://silvercityradio.com/event/15th-annual-deming-christmas-sing-a-long/
LOCATION:NM
CATEGORIES:Entertainment
END:VEVENT
BEGIN:VEVENT
DTSTART;TZID=UTC:20221222T180000
DTEND;TZID=UTC:20221222T200000
DTSTAMP:20260420T110243
CREATED:20221130T180743Z
LAST-MODIFIED:20221130T180756Z
UID:10002037-1671732000-1671739200@silvercityradio.com
SUMMARY:Santa Claus Visits Village of Santa Clara
DESCRIPTION:Santa Claus will be visiting the Village of Santa Clara on Thursday\, December 22nd and touring the streets to hand out goodies to the community. DJ Romeo will assist Santa by providing Christmas music\, too. If you want to join Santa\, he will be assembling at the Brown Derby parking lot at 6:00 P.M. This event is sponsored by the Santa Clara Action Committee.
URL:https://silvercityradio.com/event/santa-claus-visits-village-of-santa-clara/
LOCATION:Village of Santa Clara
CATEGORIES:Entertainment,Holiday,Kids Event
END:VEVENT
END:VCALENDAR