BEGIN:VCALENDAR
VERSION:2.0
PRODID:-//Silver City Radio - ECPv6.3.3.1//NONSGML v1.0//EN
CALSCALE:GREGORIAN
METHOD:PUBLISH
X-WR-CALNAME:Silver City Radio
X-ORIGINAL-URL:https://silvercityradio.com
X-WR-CALDESC:Events for Silver City Radio
REFRESH-INTERVAL;VALUE=DURATION:PT1H
X-Robots-Tag:noindex
X-PUBLISHED-TTL:PT1H
BEGIN:VTIMEZONE
TZID:UTC
BEGIN:STANDARD
TZOFFSETFROM:+0000
TZOFFSETTO:+0000
TZNAME:UTC
DTSTART:20220101T000000
END:STANDARD
END:VTIMEZONE
BEGIN:VEVENT
DTSTART;VALUE=DATE:20220422
DTEND;VALUE=DATE:20220425
DTSTAMP:20260423T104202
CREATED:20220311T173422Z
LAST-MODIFIED:20220311T173422Z
UID:10001868-1650585600-1650844799@silvercityradio.com
SUMMARY:6th Annual Continental Divide Trail Days
DESCRIPTION:After a two-year hiatus due to the pandemic\, the Continental Divide Trail Coalition will once again return to Silver City to host the 6th annual Continental Divide Trail Days from April 22-24\, 2022. The celebrations include a speaker series and CDT Community Fiesta on Friday\, April 22; a festival in Gough Park in partnership with Gila Earth Day on Saturday\, April 23; and community hikes on the CDT on Sunday\, April 24. Find out more about Trail Days at continentaldividetrail.org/trail-days-2022/.
URL:https://silvercityradio.com/event/6th-annual-continental-divide-trail-days/
LOCATION:Gough Park
CATEGORIES:Entertainment,Presentation,Public Notice
END:VEVENT
BEGIN:VEVENT
DTSTART;TZID=UTC:20220526T200000
DTEND;TZID=UTC:20220526T213000
DTSTAMP:20260423T104202
CREATED:20220517T222942Z
LAST-MODIFIED:20220517T222942Z
UID:10001919-1653595200-1653600600@silvercityradio.com
SUMMARY:"Movie in the Park" in Deming
DESCRIPTION:There’s a free Movie in the Park in Deming at Trees Lake Amphitheater on Thursday\, May 26th starting at 8:00 P.M. The featured film is Disney’s Encanto and families are welcome to attend. Trees Lake Amphitheater is located at 300 North Country Club Road in Deming. Free popcorn and water per child.
URL:https://silvercityradio.com/event/movie-in-the-park-in-deming/
LOCATION:Trees Lake Amphitheater\, 300 North Country Club Road\, Deming\, NM\, United States
CATEGORIES:Entertainment
END:VEVENT
BEGIN:VEVENT
DTSTART;TZID=UTC:20220527T030000
DTEND;TZID=UTC:20220527T170000
DTSTAMP:20260423T104202
CREATED:20220517T223322Z
LAST-MODIFIED:20220517T223412Z
UID:10001920-1653620400-1653670800@silvercityradio.com
SUMMARY:Silver City Library Youth Open Mic Night
DESCRIPTION:Teens wanting to share their talents are invited to “Open Mic Night” at the Silver City Public Library on Friday\, May 27th from 3:00 to 5:00 P.M. Come to a safe environment show off your talents in music\, writing\, or even magic tricks. For more information on this and other free events\, visit https://silvercitypubliclibrary.org/. \n 
URL:https://silvercityradio.com/event/silver-city-library-youth-open-mic-night/
LOCATION:Silver City Public Library\, 515 W College Avenue\, Silver City\, 88061\, United States
CATEGORIES:Entertainment,Kids Event
END:VEVENT
BEGIN:VEVENT
DTSTART;VALUE=DATE:20220616
DTEND;VALUE=DATE:20220620
DTSTAMP:20260423T104202
CREATED:20220614T154025Z
LAST-MODIFIED:20220614T154025Z
UID:10001924-1655337600-1655683199@silvercityradio.com
SUMMARY:Fiesta Latina 2022
DESCRIPTION:Western New Mexico University presents Fiesta Latina\, June 16th to 19th on the Silver City campus. Explore Latin culture with a traditional handcraft artisan mercado\, food trucks\, children’s activities\, and live demonstrations. Enjoy performances from the Castro Family Charros\, dance by Ballet Folklorico and free music all weekend\, including Mariachi Los Camperos. Ticketed events include Darren Cordova and Michael Salgado. Sponsored by the Town of Silver City\, Freeport McMoran\, Baca’s Funeral Chapels\, First American Bank\, Bud Light Next\, and the National Endowment for the Arts. Information and tickets at https://fiestalatina.org/
URL:https://silvercityradio.com/event/fiesta-latina-2022/
LOCATION:Western New Mexico University\, Silver City\, NM\, 88061\, United States
CATEGORIES:Concert,Entertainment,Food Event
END:VEVENT
BEGIN:VEVENT
DTSTART;TZID=UTC:20220617T063000
DTEND;TZID=UTC:20220617T210000
DTSTAMP:20260423T104202
CREATED:20220614T153828Z
LAST-MODIFIED:20220614T170852Z
UID:10001923-1655447400-1655499600@silvercityradio.com
SUMMARY:Santa Clara Music in the Park
DESCRIPTION:Come together in Santa Clara for Music in the Park this Friday Night\, June 17th at 6:00 P.M. in Viola Stone Park. Enjoy live music with Angelica Padilla from 6:30 to 9:00 P.M.. Admission is free and all are welcome.
URL:https://silvercityradio.com/event/santa-clara-music-in-the-park-8/
LOCATION:Viola Stone Park
CATEGORIES:Concert,Entertainment
END:VEVENT
BEGIN:VEVENT
DTSTART;VALUE=DATE:20220702
DTEND;VALUE=DATE:20220705
DTSTAMP:20260423T104202
CREATED:20220621T201003Z
LAST-MODIFIED:20220621T201003Z
UID:10001940-1656720000-1656979199@silvercityradio.com
SUMMARY:Glenwood Country Independence Day Celebration
DESCRIPTION:Glenwood is having a huge country Independence Day celebration on July 2nd through the 4th! Come out for the rodeo\, art auction\, dance\, cowboy church\, pancake breakfast\, parade\, fireworks display and much more. For a full schedule of events\, visit the Glenwood New Mexico Facebook page.
URL:https://silvercityradio.com/event/glenwood-country-independence-day-celebration/
LOCATION:Glenwood\, 355 Bursum Road\, Glenwood\, NM\, United States
CATEGORIES:Entertainment
END:VEVENT
BEGIN:VEVENT
DTSTART;VALUE=DATE:20220729
DTEND;VALUE=DATE:20220801
DTSTAMP:20260423T104202
CREATED:20220717T184415Z
LAST-MODIFIED:20220717T192439Z
UID:10001965-1659052800-1659311999@silvercityradio.com
SUMMARY:Salsa Festival Extravaganza
DESCRIPTION:Savor the flavor with Deming Mainstreet’s “Salsa Festival Extravaganza” Friday through Sunday July 29th through 31st with events at Tree’s Lake Amphitheater\, Luna County Courthouse Park\, and the Southwest New Mexico Fairgrounds! Ticketed events feature live entertainment and the IBR International Bi-Cultural Rodeo. Saturday’s FREE event at Courthouse Park offers vendors\, food\, contests\, beer & wine garden and much more. Salsa Festival Extravaganza tickets on sale NOW at the Deming Visitors Center or visit https://demingmainstreet.org/
URL:https://silvercityradio.com/event/sale-festival-extravaganza/
LOCATION:NM
CATEGORIES:Entertainment,Food Event
END:VEVENT
BEGIN:VEVENT
DTSTART;TZID=UTC:20220802T180000
DTEND;TZID=UTC:20220802T200000
DTSTAMP:20260423T104202
CREATED:20220712T195932Z
LAST-MODIFIED:20220712T195932Z
UID:10001960-1659463200-1659470400@silvercityradio.com
SUMMARY:Luna County National Night Out
DESCRIPTION:Join community law enforcement agencies\, first responders and other community groups for “National Night Out”\, a family event on Tuesday\, August 2nd from 6:00 to 8:00 P.M. at Luna Courthouse Park. Enjoy music\, dancing\, games\, free hamburgers and hotdogs and much more. For more information\, contact Deming Mainstreet at 575-546-2674.
URL:https://silvercityradio.com/event/luna-county-national-night-out/
LOCATION:Luna County Courthouse Park\, Deming\, United States
CATEGORIES:Entertainment,Kids Event,Public Notice
END:VEVENT
BEGIN:VEVENT
DTSTART;TZID=UTC:20220816T100000
DTEND;TZID=UTC:20220816T160000
DTSTAMP:20260423T104202
CREATED:20220816T145614Z
LAST-MODIFIED:20220816T171906Z
UID:10001977-1660644000-1660665600@silvercityradio.com
SUMMARY:Mimbres Harvest Festival
DESCRIPTION:Come and enjoy the Mimbres Valley Harvest Festival on Saturday\, September 24th at the San Lorenzo Elementary School from 10:00 A.M. to 4:00 P.M. The event features fresh valley produce\, locally prepared foods\, art & crafts\, a health fair\, children’s activities\, a pie contest\, and live music.
URL:https://silvercityradio.com/event/mimbres-harvest-festival/
LOCATION:San Lorenzo Elementary School
CATEGORIES:Craft,Entertainment,Food Event,Health Event
END:VEVENT
BEGIN:VEVENT
DTSTART;VALUE=DATE:20220825
DTEND;VALUE=DATE:20220829
DTSTAMP:20260423T104202
CREATED:20220714T220453Z
LAST-MODIFIED:20220714T220453Z
UID:10001964-1661385600-1661731199@silvercityradio.com
SUMMARY:Hidalgo County Fair 2022
DESCRIPTION:Come celebrate the Bounty of Hidalgo County at the Hidalgo County Fair\, August 25th through 28th at the Hidalgo County Fairgrounds in Lordsburg. There’s rodeo action all 4 days of the fair! Kick off the weekend on Friday with the Junior Livestock Show\, Hidalgo County Fair Parade\, Quirt Peterson Tribute Ranch Rodeo and dance to the music of Desert Reign. Fun for the whole family on Saturday with the Junior Livestock Sale\, Mud Bog Racing starting at 1:00 P.M.\, Magician Chris Mitchell\, Stick Horse Rodeo\, the Casper Baca Professional Rodeo\, and later\, dance with the Yarborough Band. On Sunday there’s Cowboy Church and more rodeo action! Vendors and exhibits are open all weekend! Admission is $5.00. Celebrate the Bounty of Hidalgo County at the Hidalgo County Fair August 25th through 28th. For more information\, visit the Hidalgo County Fair page on Facebook!
URL:https://silvercityradio.com/event/hidalgo-county-fair-2022/
LOCATION:Hidalgo County Fairgrounds
CATEGORIES:Entertainment,Kids Event,Public Notice
END:VEVENT
BEGIN:VEVENT
DTSTART;VALUE=DATE:20220825
DTEND;VALUE=DATE:20220829
DTSTAMP:20260423T104202
CREATED:20220809T215752Z
LAST-MODIFIED:20220809T215819Z
UID:10001974-1661385600-1661731199@silvercityradio.com
SUMMARY:43rd Annual Great American Duck Race
DESCRIPTION:It’s time for the 43rd Annual Great American Duck Races from Thursday August 25th through Sunday August 28th at McKinley Duck Downs located at Courthouse Park in Deming. Enjoy the famous Duck Races\, carnival\, vendors\, cornhole tournament\, beer & wine garden\, hot air balloon glow\, music\, dancing\, and more. Go to\nhttps://www.demingduckrace.com for a full schedule of events and activities.
URL:https://silvercityradio.com/event/43rd-annual-great-american-duck-race/
LOCATION:Courthouse Park\, 700 South Silver Avenue\, Deming\, NM\, United States
CATEGORIES:Entertainment
END:VEVENT
BEGIN:VEVENT
DTSTART;VALUE=DATE:20220903
DTEND;VALUE=DATE:20220906
DTSTAMP:20260423T104202
CREATED:20220830T220151Z
LAST-MODIFIED:20220830T220151Z
UID:10001984-1662163200-1662422399@silvercityradio.com
SUMMARY:37th Annual Gem & Mineral Show
DESCRIPTION:The Grant County Rolling Stones 37th Annual Gem & Mineral Show is returning this Labor Day Weekend Saturday September 3rd through Monday September 5th at the Grant County Veteran’s Memorial Conference Center. Browse over 30 vendors and enjoy food\, daily field trips\, silent auction every hour\, museum displays\, and more. Admission is free for the entire family.
URL:https://silvercityradio.com/event/37th-annual-gem-mineral-show/
LOCATION:Grant County Veteran’s Memorial Business and Conference Center\, 3031 Highway 180 East\, Silver City\, NM\, United States
CATEGORIES:Craft,Entertainment,Food Event,Presentation
END:VEVENT
BEGIN:VEVENT
DTSTART;TZID=UTC:20220909T190000
DTEND;TZID=UTC:20220909T213000
DTSTAMP:20260423T104202
CREATED:20220908T145541Z
LAST-MODIFIED:20220908T145622Z
UID:10001994-1662750000-1662759000@silvercityradio.com
SUMMARY:Virus Theatre Performance of "Save the Bees"
DESCRIPTION:The Virus Theatre is hosting a performance of the play “Save the Bees.” The original cast of the of Santa Fe’s Teatro Paraguas will present staged readings of the play September 9th and 10th at 7:00 P.M. and September 11th at 2:00 P.M. in the El Sol Theatre\, 406 N. Bullard Street in Silver City. There will also be post-show discussions with the audience after each performance. Tickets are $20.00 suggested donation at the door with proceeds to benefit The Commons Food Pantry\, Silver City.
URL:https://silvercityradio.com/event/virus-theatre-performance-of-save-the-bees/
LOCATION:El Sol Theatre\, 406 N. Bullard\, Silver City\, NM\, 88061\, United States
CATEGORIES:Entertainment
END:VEVENT
BEGIN:VEVENT
DTSTART;TZID=UTC:20220910T190000
DTEND;TZID=UTC:20220910T213000
DTSTAMP:20260423T104202
CREATED:20220908T145821Z
LAST-MODIFIED:20220908T145907Z
UID:10001995-1662836400-1662845400@silvercityradio.com
SUMMARY:Virus Theatre Performance of "Save The Bees"
DESCRIPTION:The Virus Theatre is hosting a performance of the play “Save the Bees.” The original cast of the of Santa Fe’s Teatro Paraguas will present staged readings of the play September 9th and 10th at 7:00 P.M. and September 11th at 2:00 P.M. in the El Sol Theatre\, 406 N. Bullard Street in Silver City. There will also be post-show discussions with the audience after each performance. Tickets are $20.00 suggested donation at the door with proceeds to benefit The Commons Food Pantry\, Silver City.
URL:https://silvercityradio.com/event/virus-theatre-performance-of-save-the-bees-2/
LOCATION:El Sol Theatre\, 406 N. Bullard\, Silver City\, NM\, 88061\, United States
CATEGORIES:Entertainment
END:VEVENT
BEGIN:VEVENT
DTSTART;TZID=UTC:20220911T140000
DTEND;TZID=UTC:20220911T153000
DTSTAMP:20260423T104202
CREATED:20220908T150057Z
LAST-MODIFIED:20220908T150057Z
UID:10001996-1662904800-1662910200@silvercityradio.com
SUMMARY:Virus Theatre Performance of "Save the Bees"
DESCRIPTION:The Virus Theatre is hosting a performance of the play “Save the Bees.” The original cast of the of Santa Fe’s Teatro Paraguas will present staged readings of the play September 9th and 10th at 7:00 P.M. and September 11th at 2:00 P.M. in the El Sol Theatre\, 406 N. Bullard Street in Silver City. There will also be post-show discussions with the audience after each performance. Tickets are $20.00 suggested donation at the door with proceeds to benefit The Commons Food Pantry\, Silver City.
URL:https://silvercityradio.com/event/virus-theatre-performance-of-save-the-bees-3/
LOCATION:El Sol Theatre\, 406 N. Bullard\, Silver City\, NM\, 88061\, United States
CATEGORIES:Entertainment
END:VEVENT
BEGIN:VEVENT
DTSTART;VALUE=DATE:20220921
DTEND;VALUE=DATE:20220926
DTSTAMP:20260423T104202
CREATED:20220830T215949Z
LAST-MODIFIED:20220830T215949Z
UID:10001983-1663718400-1664150399@silvercityradio.com
SUMMARY:Grant County Fair 2022
DESCRIPTION:Grab your boots and head to the Grant County Fair\, Wednesday through Sunday September 21st through 25th in Cliff\, New Mexico. Enjoy rodeos\, exhibits\, live music and dancing\, team roping\, junior livestock sale\, and a carnival Wednesday through Saturday. Check out  https://www.grantcountyfairnm.com/ for more information.
URL:https://silvercityradio.com/event/grant-county-fair-2022-2/
LOCATION:NM
CATEGORIES:Entertainment,Food Event,Kids Event
END:VEVENT
BEGIN:VEVENT
DTSTART;TZID=UTC:20220924T100000
DTEND;TZID=UTC:20220924T160000
DTSTAMP:20260423T104202
CREATED:20220817T165403Z
LAST-MODIFIED:20220817T165403Z
UID:10001981-1664013600-1664035200@silvercityradio.com
SUMMARY:15th Annual Mimbres Valley Harvest Festival
DESCRIPTION:Come and enjoy the 15th Annual Mimbres Valley Harvest Festival on Saturday\, September 24th at San Lorenzo Elementary School from 10:00 A.M. to 4:00 P.M. The event features fresh valley produce\, locally prepared foods\, art & crafts\, a health fair\, children’s activities\, a pie contest\, and live music.
URL:https://silvercityradio.com/event/15th-annual-mimbres-valley-harvest-festival/
LOCATION:San Lorenzo Elementary School
CATEGORIES:Entertainment,Food Event,Health Event,Public Notice
END:VEVENT
BEGIN:VEVENT
DTSTART;TZID=UTC:20221030T130000
DTEND;TZID=UTC:20221030T180000
DTSTAMP:20260423T104202
CREATED:20221020T194440Z
LAST-MODIFIED:20221020T194440Z
UID:10002006-1667134800-1667152800@silvercityradio.com
SUMMARY:Bayard Halloween Candy Drop & Trunk or Treat
DESCRIPTION:The Bayard Beautification Committee is hosting a free Candy Drop and Trunk or Treat event for the public on Sunday\, October 30th at the Bayard Community Center and the Bayard Park. The Candy drop will begin at 1:00 P.M. and the Trunk or Treat will begin around 1:30p.m. Enjoy free food\, drinks and live music until 6:00 P.M.
URL:https://silvercityradio.com/event/bayard-halloween-candy-drop-trunk-or-treat/
LOCATION:Bayard Community Center\, 290 Hurley Avenue\, Bayard\, United States
CATEGORIES:Entertainment,Holiday,Kids Event
END:VEVENT
BEGIN:VEVENT
DTSTART;TZID=UTC:20221119T100000
DTEND;TZID=UTC:20221119T150000
DTSTAMP:20260423T104202
CREATED:20221110T184134Z
LAST-MODIFIED:20221110T184200Z
UID:10002018-1668852000-1668870000@silvercityradio.com
SUMMARY:5th Annual Tamal Fiesta
DESCRIPTION:Celebrate local Hispanic culture through food and music at the 5th Annual Tamal festival in the Village of Santa Clara on Saturday\, November 19th from 10:00 A.M. to 3:00 P.M. Enjoy lots of food\, live music\, show and shine car show and more. Bring an new unwrapped toy for the holiday toy drive. For more information\, visit the Tamal Fiesta Y Mas Facebook page.
URL:https://silvercityradio.com/event/5th-annual-tamal-fiesta/
LOCATION:Village of Santa Clara
CATEGORIES:Entertainment,Food Event,Public Notice
END:VEVENT
BEGIN:VEVENT
DTSTART;TZID=UTC:20221126T190000
DTEND;TZID=UTC:20221126T200000
DTSTAMP:20260423T104202
CREATED:20221110T185605Z
LAST-MODIFIED:20221110T195625Z
UID:10002020-1669489200-1669492800@silvercityradio.com
SUMMARY:32nd Annual Lighted Christmas Parade
DESCRIPTION:The 32nd Annual Lighted Christmas Parade will be on Saturday\, November 26\, 2022 from 7pm to 8pm in Downtown Silver City.  The Lighted Christmas parade is sponsored by the Silver MainStreet Project and the Town of Silver City.
URL:https://silvercityradio.com/event/32nd-annual-lighted-christmas-parade/
LOCATION:Dowown Silver City
CATEGORIES:Entertainment
END:VEVENT
BEGIN:VEVENT
DTSTART;TZID=UTC:20221210T110000
DTEND;TZID=UTC:20221210T150000
DTSTAMP:20260423T104202
CREATED:20221130T180434Z
LAST-MODIFIED:20221130T180447Z
UID:10002036-1670670000-1670684400@silvercityradio.com
SUMMARY:Silver City Museum Victorian Christmas
DESCRIPTION:The Silver City Museum is presenting a Victorian Christmas and More Event on Saturday\, December 10th from 11:00 A.M.\, to 3:00 P.M. at 312 West Broadway in Downtown Silver City. There will be a variety of live music performances\, free cookies and cider\, free books for the kids\, and much more. For more information\, visit https://silvercitymuseum.org/199/Museum.
URL:https://silvercityradio.com/event/silver-city-museum-victorian-christmas-2/
LOCATION:Silver City Museum
CATEGORIES:Entertainment,Holiday
END:VEVENT
BEGIN:VEVENT
DTSTART;TZID=UTC:20221215T190000
DTEND;TZID=UTC:20221215T213000
DTSTAMP:20260423T104202
CREATED:20221118T173246Z
LAST-MODIFIED:20221118T210721Z
UID:10002031-1671130800-1671139800@silvercityradio.com
SUMMARY:Free1st Armored Division Holiday Concert
DESCRIPTION:The Grant County Community Concert Association and the American Legion Post 18 are bringing back the 1st Armored Division Band for a festive holiday concert.  They are one of the premier military bands in the nation and put on a fabulous show well worth attending.  The concert will be held Thursday December 15th at 7:00 PM in the WNMU Fine Arts Theater. This concert is free and open to the public.
URL:https://silvercityradio.com/event/free1st-armored-division-holiday-concert/
LOCATION:WNMU Fine Arts Center Theater\, 1000 West College Avenue\, Silver City\, NM\, 88061\, United States
CATEGORIES:Concert,Entertainment
END:VEVENT
BEGIN:VEVENT
DTSTART;TZID=UTC:20221216T183000
DTEND;TZID=UTC:20221216T200000
DTSTAMP:20260423T104202
CREATED:20221215T162901Z
LAST-MODIFIED:20221215T162901Z
UID:10002048-1671215400-1671220800@silvercityradio.com
SUMMARY:15th Annual Deming Christmas Sing-a-long
DESCRIPTION:The 15th Annual Christmas Carol Sing Along is going on Friday\, December 16th at 6:30 P.M. 6140 Columbus Road in Deming at the Circle M Auction Center. There will be music\, games\, and food. Admission is free\, come and have fun.
URL:https://silvercityradio.com/event/15th-annual-deming-christmas-sing-a-long/
LOCATION:NM
CATEGORIES:Entertainment
END:VEVENT
BEGIN:VEVENT
DTSTART;TZID=UTC:20221222T180000
DTEND;TZID=UTC:20221222T200000
DTSTAMP:20260423T104202
CREATED:20221130T180743Z
LAST-MODIFIED:20221130T180756Z
UID:10002037-1671732000-1671739200@silvercityradio.com
SUMMARY:Santa Claus Visits Village of Santa Clara
DESCRIPTION:Santa Claus will be visiting the Village of Santa Clara on Thursday\, December 22nd and touring the streets to hand out goodies to the community. DJ Romeo will assist Santa by providing Christmas music\, too. If you want to join Santa\, he will be assembling at the Brown Derby parking lot at 6:00 P.M. This event is sponsored by the Santa Clara Action Committee.
URL:https://silvercityradio.com/event/santa-claus-visits-village-of-santa-clara/
LOCATION:Village of Santa Clara
CATEGORIES:Entertainment,Holiday,Kids Event
END:VEVENT
END:VCALENDAR