BEGIN:VCALENDAR
VERSION:2.0
PRODID:-//Silver City Radio - ECPv6.3.3.1//NONSGML v1.0//EN
CALSCALE:GREGORIAN
METHOD:PUBLISH
X-ORIGINAL-URL:https://silvercityradio.com
X-WR-CALDESC:Events for Silver City Radio
REFRESH-INTERVAL;VALUE=DURATION:PT1H
X-Robots-Tag:noindex
X-PUBLISHED-TTL:PT1H
BEGIN:VTIMEZONE
TZID:UTC
BEGIN:STANDARD
TZOFFSETFROM:+0000
TZOFFSETTO:+0000
TZNAME:UTC
DTSTART:20220101T000000
END:STANDARD
END:VTIMEZONE
BEGIN:VEVENT
DTSTART;TZID=UTC:20220331T183000
DTEND;TZID=UTC:20220331T200000
DTSTAMP:20260423T103724
CREATED:20220301T221213Z
LAST-MODIFIED:20220301T221252Z
UID:10001854-1648751400-1648756800@silvercityradio.com
SUMMARY:Ft. Bayard Film Night: “On the Basis of Sex"
DESCRIPTION:The Fort Bayard Historic Preservation Society has announced the resumption of its Thursday night film series at the Santa Clara Armory. Doors open at 6 p.m.\, with the showing beginning at 6:30. This month\, the series is being held in recognition of Women’s History Month. Admission is free; donations are welcome. Visit online at https://www.historicfortbayard.org/ \n  \n\nMarch 31: “On the Basis of Sex\,” the Ruth Bader Ginsburg story.
URL:https://silvercityradio.com/event/ft-bayard-film-night-on-the-basis-of-sex/
LOCATION:Santa Clara Armory
CATEGORIES:Entertainment
END:VEVENT
END:VCALENDAR