BEGIN:VCALENDAR
VERSION:2.0
PRODID:-//Silver City Radio - ECPv6.3.3.1//NONSGML v1.0//EN
CALSCALE:GREGORIAN
METHOD:PUBLISH
X-ORIGINAL-URL:https://silvercityradio.com
X-WR-CALDESC:Events for Silver City Radio
REFRESH-INTERVAL;VALUE=DURATION:PT1H
X-Robots-Tag:noindex
X-PUBLISHED-TTL:PT1H
BEGIN:VTIMEZONE
TZID:UTC
BEGIN:STANDARD
TZOFFSETFROM:+0000
TZOFFSETTO:+0000
TZNAME:UTC
DTSTART:20220101T000000
END:STANDARD
END:VTIMEZONE
BEGIN:VEVENT
DTSTART;TZID=UTC:20220326T093000
DTEND;TZID=UTC:20220326T170000
DTSTAMP:20260422T214818
CREATED:20220322T195144Z
LAST-MODIFIED:20220322T195301Z
UID:10001878-1648287000-1648314000@silvercityradio.com
SUMMARY:Silver City Museum Exhibit Premier
DESCRIPTION:The Silver City Museum\, located at 312 West Broadway\, is having and exhibit premier that is Saturday\, March 26th\, starting at 9:30 A.M. entitle “Booms and Busts: Small Business in Grant County 1880 to 1950.” The exhibit uses large format historic images in addition to an interactive activity for families with children. For more information\, go to https://www.silvercitymuseum.org/199/Museum
URL:https://silvercityradio.com/event/silver-city-museum-exhibit-premier/
LOCATION:Silver City Museum
CATEGORIES:Entertainment,Presentation
END:VEVENT
END:VCALENDAR