BEGIN:VCALENDAR
VERSION:2.0
PRODID:-//Silver City Radio - ECPv6.3.3.1//NONSGML v1.0//EN
CALSCALE:GREGORIAN
METHOD:PUBLISH
X-ORIGINAL-URL:https://silvercityradio.com
X-WR-CALDESC:Events for Silver City Radio
REFRESH-INTERVAL;VALUE=DURATION:PT1H
X-Robots-Tag:noindex
X-PUBLISHED-TTL:PT1H
BEGIN:VTIMEZONE
TZID:UTC
BEGIN:STANDARD
TZOFFSETFROM:+0000
TZOFFSETTO:+0000
TZNAME:UTC
DTSTART:20220101T000000
END:STANDARD
END:VTIMEZONE
BEGIN:VEVENT
DTSTART;TZID=UTC:20220312T093000
DTEND;TZID=UTC:20220312T140000
DTSTAMP:20260422T214820
CREATED:20220304T180353Z
LAST-MODIFIED:20220304T180353Z
UID:10001862-1647077400-1647093600@silvercityradio.com
SUMMARY:City of Lordsburg "Fly-In" Event
DESCRIPTION:The City of Lordsburg is presenting a “Fly-In” event on Saturday\, March 12th\, from 9:30 A.M. to 2:00 P.M. at the Lordsburg Airport\, 1000 Airport Road. Visit aircrafts on site\, aircraft displays and information booths\, and free hotdogs and hamburgers. Flights begin at 9:30  and lunch will be served at 12 noon. For more information\, call 575-542-3421.
URL:https://silvercityradio.com/event/city-of-lordsburg-fly-in-event/
LOCATION:City of Lordsburg Airport\, 1000 Airport Road\, Lordsburg\, NM\, 88045\, United States
CATEGORIES:Entertainment,Public Notice
END:VEVENT
BEGIN:VEVENT
DTSTART;TZID=UTC:20220312T160000
DTEND;TZID=UTC:20220312T173000
DTSTAMP:20260422T214820
CREATED:20220307T165049Z
LAST-MODIFIED:20220307T165934Z
UID:10001866-1647100800-1647106200@silvercityradio.com
SUMMARY:Illusion Band at Viola Stone Park
DESCRIPTION:The Illusion Band will be performing (weather permitting) at Viola Stone Park on Saturday\, March 12th at 4:00 P.M. For more information\, call 575-313-4356.
URL:https://silvercityradio.com/event/illusion-band-at-viola-stone-park/
LOCATION:Viola Stone Park
CATEGORIES:Entertainment
END:VEVENT
END:VCALENDAR