BEGIN:VCALENDAR
VERSION:2.0
PRODID:-//Silver City Radio - ECPv6.3.3.1//NONSGML v1.0//EN
CALSCALE:GREGORIAN
METHOD:PUBLISH
X-ORIGINAL-URL:https://silvercityradio.com
X-WR-CALDESC:Events for Silver City Radio
REFRESH-INTERVAL;VALUE=DURATION:PT1H
X-Robots-Tag:noindex
X-PUBLISHED-TTL:PT1H
BEGIN:VTIMEZONE
TZID:UTC
BEGIN:STANDARD
TZOFFSETFROM:+0000
TZOFFSETTO:+0000
TZNAME:UTC
DTSTART:20220101T000000
END:STANDARD
END:VTIMEZONE
BEGIN:VEVENT
DTSTART;TZID=UTC:20220303T183000
DTEND;TZID=UTC:20220303T200000
DTSTAMP:20260422T214731
CREATED:20220301T214648Z
LAST-MODIFIED:20220301T215105Z
UID:10001850-1646332200-1646337600@silvercityradio.com
SUMMARY:Ft. Bayard Film Night - "Harriet-The Harriet Tubman Story"
DESCRIPTION:The Fort Bayard Historic Preservation Society has announced the resumption of its Thursday night film series at the Santa Clara Armory. Doors open at 6 p.m.\, with the showing beginning at 6:30. This month\, the series is being held in recognition of Women’s History Month. Admission is free; donations are welcome. Visit online at https://www.historicfortbayard.org/ \nMarch 3rd: “Harriet\,” the Harriet Tubman story. \n 
URL:https://silvercityradio.com/event/ft-bayard-film-night-harriet-the-harriet-tubman-story/
LOCATION:Santa Clara Armory
CATEGORIES:Entertainment
END:VEVENT
END:VCALENDAR