BEGIN:VCALENDAR
VERSION:2.0
PRODID:-//Silver City Radio - ECPv6.3.3.1//NONSGML v1.0//EN
CALSCALE:GREGORIAN
METHOD:PUBLISH
X-ORIGINAL-URL:https://silvercityradio.com
X-WR-CALDESC:Events for Silver City Radio
REFRESH-INTERVAL;VALUE=DURATION:PT1H
X-Robots-Tag:noindex
X-PUBLISHED-TTL:PT1H
BEGIN:VTIMEZONE
TZID:UTC
BEGIN:STANDARD
TZOFFSETFROM:+0000
TZOFFSETTO:+0000
TZNAME:UTC
DTSTART:20210101T000000
END:STANDARD
END:VTIMEZONE
BEGIN:VEVENT
DTSTART;TZID=UTC:20211229T140000
DTEND;TZID=UTC:20211229T160000
DTSTAMP:20260424T053915
CREATED:20211215T222246Z
LAST-MODIFIED:20211215T222613Z
UID:10001830-1640786400-1640793600@silvercityradio.com
SUMMARY:Silver City Library "Future Engineers" Program
DESCRIPTION:The Silver City Public Library\, located at 515 West College Avenue is offering a free fun “Future Engineers” event on Wednesday\, December 29th from 2:00 to 4:00 P.M. Kids and  families are welcome to come and have fun as future engineers and build with Legos. For more information\, visit online at silvercitypubliclibrary.org.
URL:https://silvercityradio.com/event/silver-city-library-future-engineers-program/
LOCATION:Silver City Public Library\, 515 W College Avenue\, Silver City\, 88061\, United States
CATEGORIES:Entertainment,Kids Event
END:VEVENT
END:VCALENDAR