BEGIN:VCALENDAR
VERSION:2.0
PRODID:-//Silver City Radio - ECPv6.3.3.1//NONSGML v1.0//EN
CALSCALE:GREGORIAN
METHOD:PUBLISH
X-WR-CALNAME:Silver City Radio
X-ORIGINAL-URL:https://silvercityradio.com
X-WR-CALDESC:Events for Silver City Radio
REFRESH-INTERVAL;VALUE=DURATION:PT1H
X-Robots-Tag:noindex
X-PUBLISHED-TTL:PT1H
BEGIN:VTIMEZONE
TZID:UTC
BEGIN:STANDARD
TZOFFSETFROM:+0000
TZOFFSETTO:+0000
TZNAME:UTC
DTSTART:20210101T000000
END:STANDARD
END:VTIMEZONE
BEGIN:VEVENT
DTSTART;TZID=UTC:20211023T140000
DTEND;TZID=UTC:20211023T180000
DTSTAMP:20260425T113135
CREATED:20211020T212302Z
LAST-MODIFIED:20211020T212313Z
UID:10001789-1634997600-1635012000@silvercityradio.com
SUMMARY:La Plata Middle School October Fun Festival
DESCRIPTION:La Plata Middle School is hosting an October Fun Festival for all ages this Saturday\, October 23rd from 2:00 to 6:0 P.M. on the school grounds. The event will include a haunted house\, carnival games\, full concession area\, raffles and prizes. La Plata Principal\, Rebecca Harris\, is inviting the community to gather and enjoy this family friendly event. La Plata Middle School is located at 3500 North Silver Street in Silver City.
URL:https://silvercityradio.com/event/la-plata-middle-school-october-fun-festival/
LOCATION:La Plata Middle School\, 3500 N. Silver Street\, Silver City\, 88061\, United States
CATEGORIES:Entertainment,Holiday,Kids Event
END:VEVENT
BEGIN:VEVENT
DTSTART;TZID=UTC:20211023T190000
DTEND;TZID=UTC:20211023T213000
DTSTAMP:20260425T113135
CREATED:20211005T202757Z
LAST-MODIFIED:20211005T202757Z
UID:10001775-1635015600-1635024600@silvercityradio.com
SUMMARY:WNMU Presents Terrance Simien and the Zydeco Experience
DESCRIPTION:Western New Mexico University Cultural Affairs presents Grammy winner Terrance Simien and the Zydeco Experience from Louisiana. A blend of New Orleans funk\, reggae flavored world blues American Zydeco roots music. This event is scheduled for Saturday October 23rd\, at 7:00 PM at the Fine Arts Center Theatre. Social distancing protocols will be in place. For tickets and info visit wnmu.edu
URL:https://silvercityradio.com/event/wnmu-presents-terrance-simien-and-the-zydeco-experience/
LOCATION:WNMU Fine Arts Center Theater\, 1000 West College Avenue\, Silver City\, NM\, 88061\, United States
CATEGORIES:Entertainment
END:VEVENT
END:VCALENDAR