BEGIN:VCALENDAR
VERSION:2.0
PRODID:-//Silver City Radio - ECPv6.3.3.1//NONSGML v1.0//EN
CALSCALE:GREGORIAN
METHOD:PUBLISH
X-WR-CALNAME:Silver City Radio
X-ORIGINAL-URL:https://silvercityradio.com
X-WR-CALDESC:Events for Silver City Radio
REFRESH-INTERVAL;VALUE=DURATION:PT1H
X-Robots-Tag:noindex
X-PUBLISHED-TTL:PT1H
BEGIN:VTIMEZONE
TZID:UTC
BEGIN:STANDARD
TZOFFSETFROM:+0000
TZOFFSETTO:+0000
TZNAME:UTC
DTSTART:20210101T000000
END:STANDARD
END:VTIMEZONE
BEGIN:VEVENT
DTSTART;TZID=UTC:20210921T080000
DTEND;TZID=UTC:20210921T170000
DTSTAMP:20260425T113112
CREATED:20210921T222131Z
LAST-MODIFIED:20210921T222131Z
UID:10001763-1632211200-1632243600@silvercityradio.com
SUMMARY:WNMU Homecoming 2021 Events
DESCRIPTION:WNMU Homecoming festivities will be kicking off this Saturday at 10:00 A.M. with the Homecoming Parade through Silver City\, WNMU Tailgate at 3:30 P.M.\, and Homecoming Football game against UT Permian Basin at 6:00 P.M. A complete schedule of event can be found at alumni.wnmu.edu /homecoming.alumni.wnmu.edu /homecoming.
URL:https://silvercityradio.com/event/wnmu-homecoming-2021-events/
LOCATION:Western New Mexico University\, Silver City\, NM\, 88061\, United States
CATEGORIES:Entertainment,Sports
END:VEVENT
END:VCALENDAR