BEGIN:VCALENDAR
VERSION:2.0
PRODID:-//Silver City Radio - ECPv6.3.3.1//NONSGML v1.0//EN
CALSCALE:GREGORIAN
METHOD:PUBLISH
X-WR-CALNAME:Silver City Radio
X-ORIGINAL-URL:https://silvercityradio.com
X-WR-CALDESC:Events for Silver City Radio
REFRESH-INTERVAL;VALUE=DURATION:PT1H
X-Robots-Tag:noindex
X-PUBLISHED-TTL:PT1H
BEGIN:VTIMEZONE
TZID:UTC
BEGIN:STANDARD
TZOFFSETFROM:+0000
TZOFFSETTO:+0000
TZNAME:UTC
DTSTART:20210101T000000
END:STANDARD
END:VTIMEZONE
BEGIN:VEVENT
DTSTART;VALUE=DATE:20210903
DTEND;VALUE=DATE:20210906
DTSTAMP:20260425T113055
CREATED:20210812T205704Z
LAST-MODIFIED:20210812T205716Z
UID:10001731-1630627200-1630886399@silvercityradio.com
SUMMARY:Grant County 2nd Annual Car Show Event
DESCRIPTION:Looking for a fun weekend this Labor Day? Grant County is having their 2nd Annual Card Show during the Carnitas Musica Y Mas Fiesta September 3rd through the 5th at Gough Park. Some of the best vintage cars will be there from 3 states and surrounding areas. For entry information\, Call Mario at 575-590-2352 or visit online at labordayfiesta.com
URL:https://silvercityradio.com/event/grant-county-2nd-annual-car-show-event/
CATEGORIES:Entertainment
END:VEVENT
BEGIN:VEVENT
DTSTART;VALUE=DATE:20210903
DTEND;VALUE=DATE:20210906
DTSTAMP:20260425T113055
CREATED:20210812T205941Z
LAST-MODIFIED:20210812T205941Z
UID:10001732-1630627200-1630886399@silvercityradio.com
SUMMARY:Carnitas Musica Y Mas!
DESCRIPTION:You don’t want to miss the Carnitas Musica y Mas event on Labor Day weekend September 3rd through 5th at Silver City’s Gough Park! The celebration kicks off at 4:00 P.M.  Friday afternoon and runs through the weekend until 6:00 P.M. on Sunday featuring food vendors\, games\, cornhole and huachas tournament\, car show\, dance contest\, beer garden and a variety of exciting live entertainment. This event is made possible by the following sponsors: Town of Silver City\, Freeport McMoRan\, Skywest Media\, Grant County Sheriff’s Department\, Silver City Police\, First American Bank\, Gabe Ramos\, Levitt Corporation\, Silver City Fire Department\, Luis Terrazas\, Mike Morones\, Copper Country Senior Olympics\, Motel 6\, James Hamilton Construction\, Mickey Grado\, and Baca’s Funeral Chapels. A complete schedule of events for Carnitas Musica y Mas is available online at  labordayfiesta.com. Bring the family and celebrate Labor Day at Carnitas Musica Y Mas!
URL:https://silvercityradio.com/event/carnitas-musica-y-mas/
CATEGORIES:Concert,Entertainment,Food Event
END:VEVENT
END:VCALENDAR