BEGIN:VCALENDAR
VERSION:2.0
PRODID:-//Silver City Radio - ECPv6.3.3.1//NONSGML v1.0//EN
CALSCALE:GREGORIAN
METHOD:PUBLISH
X-WR-CALNAME:Silver City Radio
X-ORIGINAL-URL:https://silvercityradio.com
X-WR-CALDESC:Events for Silver City Radio
REFRESH-INTERVAL;VALUE=DURATION:PT1H
X-Robots-Tag:noindex
X-PUBLISHED-TTL:PT1H
BEGIN:VTIMEZONE
TZID:UTC
BEGIN:STANDARD
TZOFFSETFROM:+0000
TZOFFSETTO:+0000
TZNAME:UTC
DTSTART:20210101T000000
END:STANDARD
END:VTIMEZONE
BEGIN:VEVENT
DTSTART;TZID=UTC:20210611T190000
DTEND;TZID=UTC:20210611T210000
DTSTAMP:20260426T020227
CREATED:20210528T165031Z
LAST-MODIFIED:20210528T165031Z
UID:10001688-1623438000-1623445200@silvercityradio.com
SUMMARY:Wild Wild West Rodeo
DESCRIPTION:The Renegade 2021 Wild Wild West Rodeo will be taking place on June 11th and 12th at the Southwest Horseman’s Arena in Silver City. Enjoy bull riding\, team roping\, barrel racing\, saddle bronc\, tie down roping\, calf scramble\, mutton bust\, and Daniel Castro performing roping tricks in the arena. Gates open at 5:00 P.M.\, event runs from 7:00 to 9:00 P.M. For more information\, visit silvercityprorodeo.com.
URL:https://silvercityradio.com/event/wild-wild-west-rodeo/
LOCATION:Southwest Horseman’s Arena\, 2 Caballero Drive\, Silver City\, NM\, 88061\, United States
CATEGORIES:Entertainment
END:VEVENT
END:VCALENDAR