BEGIN:VCALENDAR
VERSION:2.0
PRODID:-//Silver City Radio - ECPv6.3.3.1//NONSGML v1.0//EN
CALSCALE:GREGORIAN
METHOD:PUBLISH
X-ORIGINAL-URL:https://silvercityradio.com
X-WR-CALDESC:Events for Silver City Radio
REFRESH-INTERVAL;VALUE=DURATION:PT1H
X-Robots-Tag:noindex
X-PUBLISHED-TTL:PT1H
BEGIN:VTIMEZONE
TZID:UTC
BEGIN:STANDARD
TZOFFSETFROM:+0000
TZOFFSETTO:+0000
TZNAME:UTC
DTSTART:20210101T000000
END:STANDARD
END:VTIMEZONE
BEGIN:VEVENT
DTSTART;TZID=UTC:20211104T190000
DTEND;TZID=UTC:20211104T213000
DTSTAMP:20260424T122029
CREATED:20210916T200118Z
LAST-MODIFIED:20210916T200201Z
UID:10001757-1636052400-1636061400@silvercityradio.com
SUMMARY:Ft. Bayard Historical Preservation Society Film Series
DESCRIPTION:The Fort Bayard Historic Preservation Society is presenting their Thursday night film series at the Santa Clara Armory\, at 7:00 P.M. The series is entitled “From Stanton to Brockovich: The Struggle for Women’s Equality”\, featuring movies and documentaries each Thursday evening. Admission is free\, donations are appreciated. Please wear a mask. The November 4th feature film is “Norma Rae.”
URL:https://silvercityradio.com/event/ft-bayard-historical-preservation-society-film-series-6/
LOCATION:Santa Clara Armory
CATEGORIES:Entertainment,Presentation
END:VEVENT
BEGIN:VEVENT
DTSTART;TZID=UTC:20211111T190000
DTEND;TZID=UTC:20211111T213000
DTSTAMP:20260424T122029
CREATED:20210916T200530Z
LAST-MODIFIED:20210916T200530Z
UID:10001758-1636657200-1636666200@silvercityradio.com
SUMMARY:Ft. Bayard Historic Preservation Society Film Series
DESCRIPTION:The Fort Bayard Historic Preservation Society is presenting their Thursday night film series at the Santa Clara Armory\, at 7:00 P.M. The series is entitled “From Stanton to Brockovich: The Struggle for Women’s Equality”\, featuring movies and documentaries each Thursday evening. Admission is free\, donations are appreciated. Please wear a mask. The November 11th feature film is “Unsung Heroes.”
URL:https://silvercityradio.com/event/ft-bayard-historic-preservation-society-film-series-2/
LOCATION:Santa Clara
CATEGORIES:Entertainment,Public Notice
END:VEVENT
BEGIN:VEVENT
DTSTART;TZID=UTC:20211118T190000
DTEND;TZID=UTC:20211118T213000
DTSTAMP:20260424T122029
CREATED:20210916T200806Z
LAST-MODIFIED:20210916T200826Z
UID:10001759-1637262000-1637271000@silvercityradio.com
SUMMARY:Ft. Bayard Historic Preservation Society Film Series
DESCRIPTION:The Fort Bayard Historic Preservation Society is presenting their Thursday night film series at the Santa Clara Armory\, at 7:00 P.M. The series is entitled “From Stanton to Brockovich: The Struggle for Women’s Equality”\, featuring movies and documentaries each Thursday evening. Admission is free\, donations are appreciated. Please wear a mask. The November 18th feature film is “Erin Brockovich.”
URL:https://silvercityradio.com/event/ft-bayard-historic-preservation-society-film-series-3/
LOCATION:Santa Clara Armory
CATEGORIES:Entertainment,Presentation
END:VEVENT
BEGIN:VEVENT
DTSTART;TZID=UTC:20211120T100000
DTEND;TZID=UTC:20211120T160000
DTSTAMP:20260424T122029
CREATED:20211109T182301Z
LAST-MODIFIED:20211109T230620Z
UID:10001809-1637402400-1637424000@silvercityradio.com
SUMMARY:Village of Santa Clara Tamale Festival
DESCRIPTION:The Village of Santa Clara is presenting a Tamale Festival on Saturday\, November 20th from 10:00 A.M. to 4:00 P.M. in front of Santa Clara City Hall. Celebrate local Hispanic culture through food and music. Vendors are also welcome. For more information\, call Sheila Hudman at 575-537-2443 or go to villageofsantaclara.org
URL:https://silvercityradio.com/event/village-of-santa-clara-tamale-festival/
LOCATION:Village of Santa Clara
CATEGORIES:Entertainment,Food Event
END:VEVENT
BEGIN:VEVENT
DTSTART;TZID=UTC:20211127T190000
DTEND;TZID=UTC:20211127T210000
DTSTAMP:20260424T122029
CREATED:20210929T213612Z
LAST-MODIFIED:20211122T230803Z
UID:10001772-1638039600-1638046800@silvercityradio.com
SUMMARY:31st Annual Lighted Christmas Parade
DESCRIPTION:Silver City’s 31st Annual Lighted Christmas Parade is being held this Saturday\, November 27th at 7:00 P.M. in downtown Silver City. The parade will start at Broadway and Cooper Streets and travel east to Bullard Street and north to College\, ending on Pope Street. This year the Silver Chorale will add holiday cheer with Christmas carols starting downtown at 4:30 P.M.
URL:https://silvercityradio.com/event/31st-annual-lighted-christmas-parade/
CATEGORIES:Entertainment,Holiday,Kids Event
END:VEVENT
END:VCALENDAR