BEGIN:VCALENDAR
VERSION:2.0
PRODID:-//Silver City Radio - ECPv6.3.3.1//NONSGML v1.0//EN
CALSCALE:GREGORIAN
METHOD:PUBLISH
X-ORIGINAL-URL:https://silvercityradio.com
X-WR-CALDESC:Events for Silver City Radio
REFRESH-INTERVAL;VALUE=DURATION:PT1H
X-Robots-Tag:noindex
X-PUBLISHED-TTL:PT1H
BEGIN:VTIMEZONE
TZID:UTC
BEGIN:STANDARD
TZOFFSETFROM:+0000
TZOFFSETTO:+0000
TZNAME:UTC
DTSTART:20210101T000000
END:STANDARD
END:VTIMEZONE
BEGIN:VEVENT
DTSTART;TZID=UTC:20211014T190000
DTEND;TZID=UTC:20211014T213000
DTSTAMP:20260424T140921
CREATED:20210916T195446Z
LAST-MODIFIED:20210916T201045Z
UID:10001754-1634238000-1634247000@silvercityradio.com
SUMMARY:Ft. Bayard Historical Preservation Society Film Series
DESCRIPTION:The Fort Bayard Historic Preservation Society is presenting their Thursday night film series at the Santa Clara Armory\, at 7:00 P.M. The series is entitled “From Stanton to Brockovich: The Struggle for Women’s Equality”\, featuring movies and documentaries each Thursday evening. Admission is free\, donations are appreciated. Please wear a mask. The October 14th feature film is “Iron Jawed Angels.”
URL:https://silvercityradio.com/event/ft-bayard-historical-preservation-society-film-series-3/
LOCATION:Santa Clara Armory
CATEGORIES:Entertainment,Presentation
END:VEVENT
BEGIN:VEVENT
DTSTART;TZID=UTC:20211021T070000
DTEND;TZID=UTC:20211021T213000
DTSTAMP:20260424T140921
CREATED:20210916T195634Z
LAST-MODIFIED:20210916T195648Z
UID:10001755-1634799600-1634851800@silvercityradio.com
SUMMARY:Ft. Bayard Historical Preservation Society Film Series
DESCRIPTION:The Fort Bayard Historic Preservation Society is presenting their Thursday night film series at the Santa Clara Armory\, at 7:00 P.M. The series is entitled “From Stanton to Brockovich: The Struggle for Women’s Equality”\, featuring movies and documentaries each Thursday evening. Admission is free\, donations are appreciated. Please wear a mask. The October 21st feature film is “Miss Representation.”
URL:https://silvercityradio.com/event/ft-bayard-historical-preservation-society-film-series-4/
LOCATION:Santa Clara Armory
CATEGORIES:Entertainment,Presentation
END:VEVENT
BEGIN:VEVENT
DTSTART;TZID=UTC:20211023T140000
DTEND;TZID=UTC:20211023T180000
DTSTAMP:20260424T140921
CREATED:20211020T212302Z
LAST-MODIFIED:20211020T212313Z
UID:10001789-1634997600-1635012000@silvercityradio.com
SUMMARY:La Plata Middle School October Fun Festival
DESCRIPTION:La Plata Middle School is hosting an October Fun Festival for all ages this Saturday\, October 23rd from 2:00 to 6:0 P.M. on the school grounds. The event will include a haunted house\, carnival games\, full concession area\, raffles and prizes. La Plata Principal\, Rebecca Harris\, is inviting the community to gather and enjoy this family friendly event. La Plata Middle School is located at 3500 North Silver Street in Silver City.
URL:https://silvercityradio.com/event/la-plata-middle-school-october-fun-festival/
LOCATION:La Plata Middle School\, 3500 N. Silver Street\, Silver City\, 88061\, United States
CATEGORIES:Entertainment,Holiday,Kids Event
END:VEVENT
BEGIN:VEVENT
DTSTART;TZID=UTC:20211023T190000
DTEND;TZID=UTC:20211023T213000
DTSTAMP:20260424T140921
CREATED:20211005T202757Z
LAST-MODIFIED:20211005T202757Z
UID:10001775-1635015600-1635024600@silvercityradio.com
SUMMARY:WNMU Presents Terrance Simien and the Zydeco Experience
DESCRIPTION:Western New Mexico University Cultural Affairs presents Grammy winner Terrance Simien and the Zydeco Experience from Louisiana. A blend of New Orleans funk\, reggae flavored world blues American Zydeco roots music. This event is scheduled for Saturday October 23rd\, at 7:00 PM at the Fine Arts Center Theatre. Social distancing protocols will be in place. For tickets and info visit wnmu.edu
URL:https://silvercityradio.com/event/wnmu-presents-terrance-simien-and-the-zydeco-experience/
LOCATION:WNMU Fine Arts Center Theater\, 1000 West College Avenue\, Silver City\, NM\, 88061\, United States
CATEGORIES:Entertainment
END:VEVENT
BEGIN:VEVENT
DTSTART;TZID=UTC:20211028T190000
DTEND;TZID=UTC:20211028T213000
DTSTAMP:20260424T140921
CREATED:20210916T195950Z
LAST-MODIFIED:20210916T195950Z
UID:10001756-1635447600-1635456600@silvercityradio.com
SUMMARY:Ft. Bayard Historical Preservation Society Film Series
DESCRIPTION:The Fort Bayard Historic Preservation Society is presenting their Thursday night film series at the Santa Clara Armory\, at 7:00 P.M. The series is entitled “From Stanton to Brockovich: The Struggle for Women’s Equality”\, featuring movies and documentaries each Thursday evening. Admission is free\, donations are appreciated. Please wear a mask. The October 28th feature film is “The Rosa Parks Story.”
URL:https://silvercityradio.com/event/ft-bayard-historical-preservation-society-film-series-5/
LOCATION:Santa Clara Armory
CATEGORIES:Entertainment,Presentation
END:VEVENT
BEGIN:VEVENT
DTSTART;TZID=UTC:20211031T160000
DTEND;TZID=UTC:20211031T190000
DTSTAMP:20260424T140921
CREATED:20211019T161503Z
LAST-MODIFIED:20211019T161503Z
UID:10001786-1635696000-1635706800@silvercityradio.com
SUMMARY:Silver Health Care Free Trunk or Treat Event
DESCRIPTION:Silver Health Care is thanking the community and inviting families to a FREE Halloween Trunk or Treat on Sunday\, October 31st from 4:00 to 7:00 P.M. in the Silver Healthcare parking lot located at 1600 East 32nd Street in Silver City. Gather up the kids and come to the Free Trunk or Treat event at Silver Health Care on Sunday\, October 31st from 4:00 to 7:00 P.M.
URL:https://silvercityradio.com/event/silver-health-care-free-trunk-or-treat-event/
LOCATION:Silver Health Care\, 1600 E 32nd Street\, Silver City\, NM\, United States
CATEGORIES:Entertainment,Holiday,Kids Event
END:VEVENT
END:VCALENDAR