BEGIN:VCALENDAR
VERSION:2.0
PRODID:-//Silver City Radio - ECPv6.3.3.1//NONSGML v1.0//EN
CALSCALE:GREGORIAN
METHOD:PUBLISH
X-ORIGINAL-URL:https://silvercityradio.com
X-WR-CALDESC:Events for Silver City Radio
REFRESH-INTERVAL;VALUE=DURATION:PT1H
X-Robots-Tag:noindex
X-PUBLISHED-TTL:PT1H
BEGIN:VTIMEZONE
TZID:UTC
BEGIN:STANDARD
TZOFFSETFROM:+0000
TZOFFSETTO:+0000
TZNAME:UTC
DTSTART:20210101T000000
END:STANDARD
END:VTIMEZONE
BEGIN:VEVENT
DTSTART;TZID=UTC:20210519T183000
DTEND;TZID=UTC:20210519T203000
DTSTAMP:20260426T020109
CREATED:20210511T213615Z
LAST-MODIFIED:20210511T214152Z
UID:10001676-1621449000-1621456200@silvercityradio.com
SUMMARY:"Moved By War" Film Screening and Workshop
DESCRIPTION:Western New Mexico University Departments of Cultural Affairs and Veteran’s Affairs are presenting “Moved By War”\, a film screening followed by Q and A and a 60 minute movement workshop led by U.S Marine veteran and founder of Exit 12 Dance Company\, Roman Baca. Veterans are welcome and encouraged to attend. This free event will be Wednesday\, May 19th at 6:30 P.M. at Light Hall Theater. For information on this film screening and workshop and to RSVP\, visit wnmu.edu/culture.
URL:https://silvercityradio.com/event/moved-by-war-film-screening-and-workshop/
CATEGORIES:Entertainment,Presentation
END:VEVENT
BEGIN:VEVENT
DTSTART;TZID=UTC:20210521T200000
DTEND;TZID=UTC:20210521T220000
DTSTAMP:20260426T020109
CREATED:20210517T154628Z
LAST-MODIFIED:20210517T154639Z
UID:10001679-1621627200-1621634400@silvercityradio.com
SUMMARY:Free Drive-In Concert Film: Lost in the Desert Sky
DESCRIPTION:There will be a free Drive-In Concert Film titled “Lost in the Desert Sky” on Friday\, May 21st at 8:30 P.M. in the WNMU Fine Arts Center Theater South parking lot. Lost in The Desert Sky: Kayhan Kalhor in Memory of Mohammad Reza Shajarian was filmed in the spectacular Mahinistan Palace in Kashan\, Iran and features all new music by Kayhan Kalhor performed by his ensemble and introducing vocalist Hadi Hosseini. Gates will open at 7:45 P.M.
URL:https://silvercityradio.com/event/free-drive-in-concert-film-lost-in-the-desert-sky/
CATEGORIES:Entertainment
END:VEVENT
BEGIN:VEVENT
DTSTART;VALUE=DATE:20210529
DTEND;VALUE=DATE:20210531
DTSTAMP:20260426T020109
CREATED:20210222T182034Z
LAST-MODIFIED:20210222T182111Z
UID:10001628-1622246400-1622419199@silvercityradio.com
SUMMARY:MRAC Blues Festival Cancelled-Series of Online Performances Offered
DESCRIPTION:The Mimbres Region Arts Council has cancelled the 2021 Silver City Blues Festival.  In its place\, a series of performances will be released online during the Memorial Day weekend of May 29th -30th. More information and event schedule will be available at www.silvercitybluesfestival.org. For any questions\, please contact us directly by emailing info@mimbresarts.org or call 575 538-2505.
URL:https://silvercityradio.com/event/mrac-blues-festival-cancelled-series-of-online-performances-offered/
CATEGORIES:Entertainment
END:VEVENT
END:VCALENDAR