BEGIN:VCALENDAR
VERSION:2.0
PRODID:-//Silver City Radio - ECPv6.3.3.1//NONSGML v1.0//EN
CALSCALE:GREGORIAN
METHOD:PUBLISH
X-WR-CALNAME:Silver City Radio
X-ORIGINAL-URL:https://silvercityradio.com
X-WR-CALDESC:Events for Silver City Radio
REFRESH-INTERVAL;VALUE=DURATION:PT1H
X-Robots-Tag:noindex
X-PUBLISHED-TTL:PT1H
BEGIN:VTIMEZONE
TZID:UTC
BEGIN:STANDARD
TZOFFSETFROM:+0000
TZOFFSETTO:+0000
TZNAME:UTC
DTSTART:20160101T000000
END:STANDARD
END:VTIMEZONE
BEGIN:VEVENT
DTSTART;TZID=UTC:20161217T120000
DTEND;TZID=UTC:20161217T140000
DTSTAMP:20260423T202157
CREATED:20161206T202703Z
LAST-MODIFIED:20161206T202703Z
UID:10000460-1481976000-1481983200@silvercityradio.com
SUMMARY:Tin Ornament Workshop at the Museum
DESCRIPTION:The Silver City Museum will host a Tin Ornament Workshop on December 17th from 12 to 2 pm.  Adults and children ages 10 and up are welcome.  The workshop is free and registration is encouraged.  Call 538-5921
URL:https://silvercityradio.com/event/tin-ornament-workshop-at-the-museum/
LOCATION:Silver City Museum\, 312 W. Broadway\, Silver City\, NM\, 88061\, United States
CATEGORIES:Craft,Holiday
END:VEVENT
BEGIN:VEVENT
DTSTART;TZID=UTC:20161229T160000
DTEND;TZID=UTC:20161229T170000
DTSTAMP:20260423T202157
CREATED:20161227T215234Z
LAST-MODIFIED:20161227T215234Z
UID:10000463-1483027200-1483030800@silvercityradio.com
SUMMARY:Make New Year's Noise Makers During WildWorks
DESCRIPTION:Join the Silver City Public Library for a special WildWorks on Thursday\, December 29th at 4 pm.  Youth ages 10 and up are invited to make noise makers for New Year’s.  Regular WildWorks activities will also be available.  Call 538-3672
URL:https://silvercityradio.com/event/make-new-years-noise-makers-during-wildworks/
LOCATION:Silver City Public LIbrary\, 515 W. College Avenue\, Silver City\, NM\, United States
CATEGORIES:Craft,Holiday,Kids Event
END:VEVENT
END:VCALENDAR