BEGIN:VCALENDAR
VERSION:2.0
PRODID:-//Silver City Radio - ECPv6.3.3.1//NONSGML v1.0//EN
CALSCALE:GREGORIAN
METHOD:PUBLISH
X-ORIGINAL-URL:https://silvercityradio.com
X-WR-CALDESC:Events for Silver City Radio
REFRESH-INTERVAL;VALUE=DURATION:PT1H
X-Robots-Tag:noindex
X-PUBLISHED-TTL:PT1H
BEGIN:VTIMEZONE
TZID:UTC
BEGIN:STANDARD
TZOFFSETFROM:+0000
TZOFFSETTO:+0000
TZNAME:UTC
DTSTART:20160101T000000
END:STANDARD
END:VTIMEZONE
BEGIN:VEVENT
DTSTART;TZID=UTC:20161117T160000
DTEND;TZID=UTC:20161117T170000
DTSTAMP:20260424T074609
CREATED:20161114T231923Z
LAST-MODIFIED:20161114T231923Z
UID:10000402-1479398400-1479402000@silvercityradio.com
SUMMARY:Cornhusk Doll Craft at the Library
DESCRIPTION:The Silver City Public Library will have a cornhusk doll craft on Thursday\, November 17th at 4 pm for ages 10 and up.  The regular WildWorks robotics will also be available.  Call 538-3672
URL:https://silvercityradio.com/event/cornhusk-doll-craft-at-the-library/
LOCATION:Silver City Public LIbrary\, 515 W. College Avenue\, Silver City\, NM\, United States
CATEGORIES:Craft,Kids Event
END:VEVENT
END:VCALENDAR