BEGIN:VCALENDAR
VERSION:2.0
PRODID:-//Silver City Radio - ECPv6.3.3.1//NONSGML v1.0//EN
CALSCALE:GREGORIAN
METHOD:PUBLISH
X-WR-CALNAME:Silver City Radio
X-ORIGINAL-URL:https://silvercityradio.com
X-WR-CALDESC:Events for Silver City Radio
REFRESH-INTERVAL;VALUE=DURATION:PT1H
X-Robots-Tag:noindex
X-PUBLISHED-TTL:PT1H
BEGIN:VTIMEZONE
TZID:UTC
BEGIN:STANDARD
TZOFFSETFROM:+0000
TZOFFSETTO:+0000
TZNAME:UTC
DTSTART:20190101T000000
END:STANDARD
END:VTIMEZONE
BEGIN:VEVENT
DTSTART;TZID=UTC:20190124T190000
DTEND;TZID=UTC:20190124T210000
DTSTAMP:20260422T102632
CREATED:20181228T212711Z
LAST-MODIFIED:20181228T212711Z
UID:10000996-1548356400-1548363600@silvercityradio.com
SUMMARY:GCCCA Concert Featuring "Vocal Trash"
DESCRIPTION:Best described as “entertainment with a conscience”\, Vocal Trash is an urban-themed Broadway style production that reconnects us with our planet and it’s inhabitants This 7-member\, green-minded troupe rescues items from landfills to create a meaningful experience unlike any other. Toolbox guitars\, a milk-urn bass and numerous re-purposed industrial percussion props accompany singing\, break dancing\, and comedy\, leaving the audience not only entertained\, but inspired to spread peace\, love and recycling. For ticket information\, call (575) 538-5862.
URL:https://silvercityradio.com/event/gccca-concert-featuring-vocal-trash/
LOCATION:WNMU Fine Arts Center Theater\, 1000 West College Avenue\, Silver City\, NM\, 88061\, United States
CATEGORIES:Concert
END:VEVENT
BEGIN:VEVENT
DTSTART;TZID=UTC:20190125T180000
DTEND;TZID=UTC:20190125T200000
DTSTAMP:20260422T102632
CREATED:20190111T234341Z
LAST-MODIFIED:20190111T234341Z
UID:10001003-1548439200-1548446400@silvercityradio.com
SUMMARY:Philippe Holmes in Concert
DESCRIPTION:Come enjoy the guitar music by Philippe Holmes on January 25\, from 6 to 8pm\, at the Silver City Public Library. Philippe Holmes will present a voyage across three centuries of guitar music\, as well as works adapted from J.S. Bach for guitar. Doors open 30 minutes before concert. Seating is limited and first-come\, first-serve.
URL:https://silvercityradio.com/event/philippe-holmes-in-concert/
LOCATION:Silver City Public LIbrary\, 515 W. College Avenue\, Silver City\, NM\, United States
CATEGORIES:Concert
END:VEVENT
BEGIN:VEVENT
DTSTART;TZID=UTC:20190129T190000
DTEND;TZID=UTC:20190129T210000
DTSTAMP:20260422T102632
CREATED:20190111T234735Z
LAST-MODIFIED:20190111T234735Z
UID:10001004-1548788400-1548795600@silvercityradio.com
SUMMARY:WNMU President's Chamber Music Series
DESCRIPTION:The next WNMU’s President’s Chamber Music Series will be held on January 29th at 7:00 P.M. at the Light Hall Theater with a performance by the Horn Quintets. For more information call 538-6469.
URL:https://silvercityradio.com/event/wnmu-presidents-chamber-music-series/
LOCATION:WNMU Light Hall\, 1000 West College Ave\, Silver City\, NM\, 88061\, United States
CATEGORIES:Concert
END:VEVENT
BEGIN:VEVENT
DTSTART;TZID=UTC:20190131T190000
DTEND;TZID=UTC:20190131T210000
DTSTAMP:20260422T102632
CREATED:20190111T235114Z
LAST-MODIFIED:20190111T235114Z
UID:10001005-1548961200-1548968400@silvercityradio.com
SUMMARY:We Banjo 3 Concert - WNMU Cultural Affairs
DESCRIPTION:WNMU Cultural Affairs will be offering the “We Banjo 3 Concert” on January 31st\, from 7 to 9pm\, at the WNMU Fine Arts Auditorium.  Artists from Ireland will be performing bluegrass\, Old Time\, and Folk selections with banjos\, fiddles\, mandolin\, guitars\, percussion\, and beautiful harmonies.  Their blend of Celtic and bluegrass with some folk-pop\, and country\, will be an evening to enjoy on January 31st. For more information and how to purchase $15 per person tickets\, call 538-6469 WNMU Cultural Affairs.
URL:https://silvercityradio.com/event/we-banjo-3-concert-wnmu-cultural-affairs/
LOCATION:WNMU Fine Arts Center Theater\, 1000 West College Avenue\, Silver City\, NM\, 88061\, United States
CATEGORIES:Concert
END:VEVENT
END:VCALENDAR