BEGIN:VCALENDAR
VERSION:2.0
PRODID:-//Silver City Radio - ECPv6.3.3.1//NONSGML v1.0//EN
CALSCALE:GREGORIAN
METHOD:PUBLISH
X-WR-CALNAME:Silver City Radio
X-ORIGINAL-URL:https://silvercityradio.com
X-WR-CALDESC:Events for Silver City Radio
REFRESH-INTERVAL;VALUE=DURATION:PT1H
X-Robots-Tag:noindex
X-PUBLISHED-TTL:PT1H
BEGIN:VTIMEZONE
TZID:UTC
BEGIN:STANDARD
TZOFFSETFROM:+0000
TZOFFSETTO:+0000
TZNAME:UTC
DTSTART:20180101T000000
END:STANDARD
END:VTIMEZONE
BEGIN:VEVENT
DTSTART;TZID=UTC:20181202T150000
DTEND;TZID=UTC:20181202T170000
DTSTAMP:20260422T173353
CREATED:20181127T172139Z
LAST-MODIFIED:20181127T172139Z
UID:10000960-1543762800-1543770000@silvercityradio.com
SUMMARY:Deming Community Choir Fall Concert
DESCRIPTION:The Deming Community Choir will be presenting its Fall Concert at 3:00 P.M. on Sunday\, December 2nd\, at the Deming Public Schools’ Auditorium. The choir will also perform at the Green Tea\, which is held in the Deming-Luna-Mimbres Museum\, located at 301 South Silver Street at 3:00 P.M. on Saturday\, December 9th.
URL:https://silvercityradio.com/event/deming-community-choir-fall-concert/
LOCATION:Deming Public Schools Administration Building\, 422 W Birch Street Street\, Deming\, NM\, 88030\, United States
CATEGORIES:Concert,Holiday
END:VEVENT
BEGIN:VEVENT
DTSTART;TZID=UTC:20181207T170000
DTEND;TZID=UTC:20181207T183000
DTSTAMP:20260422T173353
CREATED:20181127T173357Z
LAST-MODIFIED:20181127T173357Z
UID:10000964-1544202000-1544207400@silvercityradio.com
SUMMARY:Kiwanis Youth Christmas Sing-Off
DESCRIPTION:Kiwanis youth leadership clubs will be competing in a Holiday Sing-off on Friday\, December 7th at 5:00 P.M. in Gough Park in Silver City under the Gazebo. The public is invited to watch as different age groups compete for cash prizes donated by Western Bank in Silver City. At dusk\, come watch the lighting of the gazebo then walk over to First Savings Bank for hot cocoa and cookies and view the Christmas Village on display.
URL:https://silvercityradio.com/event/kiwanis-youth-christmas-sing-off/
LOCATION:Gough Park
CATEGORIES:Concert,Entertainment,Holiday
END:VEVENT
BEGIN:VEVENT
DTSTART;TZID=UTC:20181207T190000
DTEND;TZID=UTC:20181207T210000
DTSTAMP:20260422T173353
CREATED:20181127T173142Z
LAST-MODIFIED:20181127T173142Z
UID:10000963-1544209200-1544216400@silvercityradio.com
SUMMARY:Hi Lo Silvers Holiday Concert
DESCRIPTION:Join the Hi Lo Silvers at their Holiday Concert and Sing-A-Long at First Presbyterian Church\, located at 1915 North Swan Street in Silver City at 7:00 P.M. on Friday December 7th and at 3:00 P.M. on Sunday December 9th. These festive holiday concerts are free and open to the public.
URL:https://silvercityradio.com/event/hi-lo-silvers-holiday-concert-2/
LOCATION:First Presbyterian Church\, 1915 North Swan Street\, Silver City\, NM\, 88061\, United States
CATEGORIES:Concert,Holiday
END:VEVENT
BEGIN:VEVENT
DTSTART;TZID=UTC:20181209T150000
DTEND;TZID=UTC:20181209T170000
DTSTAMP:20260422T173353
CREATED:20181127T172427Z
LAST-MODIFIED:20181127T172427Z
UID:10000961-1544367600-1544374800@silvercityradio.com
SUMMARY:Deming Community Choir Fall Concert
DESCRIPTION:The Deming Community Choir will be presenting its Fall Concert at the Green Tea\, which is held in the Deming-Luna-Mimbres Museum\, located at 301 South Silver Street at 3:00 P.M. on Saturday\, December 9th.
URL:https://silvercityradio.com/event/deming-community-choir-fall-concert-2/
LOCATION:Deming Luna Mimbres Museum
CATEGORIES:Concert,Holiday
END:VEVENT
BEGIN:VEVENT
DTSTART;TZID=UTC:20181216T150000
DTEND;TZID=UTC:20181216T170000
DTSTAMP:20260422T173353
CREATED:20181204T211032Z
LAST-MODIFIED:20181204T211112Z
UID:10000970-1544972400-1544979600@silvercityradio.com
SUMMARY:First Methodist Church of Deming Christmas Concert
DESCRIPTION:The United First Methodist Church of Deming\, located at 1020 S. Granite Street\, will host its annual Christmas Concert at 3 p.m. on Sunday\, December 16th. All are welcome and admission is free.
URL:https://silvercityradio.com/event/first-methodist-church-of-deming-christmas-concert/
LOCATION:First United Methodist Church of Deming\, 1020 S Granite St\, Deming\, NM\, 88030\, United States
CATEGORIES:Concert
END:VEVENT
END:VCALENDAR