BEGIN:VCALENDAR
VERSION:2.0
PRODID:-//Silver City Radio - ECPv6.3.3.1//NONSGML v1.0//EN
CALSCALE:GREGORIAN
METHOD:PUBLISH
X-WR-CALNAME:Silver City Radio
X-ORIGINAL-URL:https://silvercityradio.com
X-WR-CALDESC:Events for Silver City Radio
REFRESH-INTERVAL;VALUE=DURATION:PT1H
X-Robots-Tag:noindex
X-PUBLISHED-TTL:PT1H
BEGIN:VTIMEZONE
TZID:UTC
BEGIN:STANDARD
TZOFFSETFROM:+0000
TZOFFSETTO:+0000
TZNAME:UTC
DTSTART:20180101T000000
END:STANDARD
END:VTIMEZONE
BEGIN:VEVENT
DTSTART;VALUE=DATE:20181003
DTEND;VALUE=DATE:20181008
DTSTAMP:20260423T145215
CREATED:20181002T224659Z
LAST-MODIFIED:20181002T224659Z
UID:10000896-1538524800-1538956799@silvercityradio.com
SUMMARY:Southwestern New Mexico State Fair
DESCRIPTION:Don’t miss the 72nd Annual Southwestern New Mexico State Fair\, October 3rd through 7th in Deming New Mexico at the Southwestern New Mexico State Fairgrounds located at 4300 Raymond Reed Boulevard in Deming’s Industrial Park! This year’s theme is “Wild Wild West” and features contests for livestock shows\, rodeos\, live music\, dance entertainment\, midway carnival\, and on Sunday from 7:30 to 8:30 A.M.\, a Cowboy Church Service. ADVANCE SALE DISCOUNT Tickets are on sale for $20 at the Deming Visitor Center from Hours 9am to 5pm\, on 800 E. Pine Street in Deming. For fair schedules and more information visit the Southwestern New Mexico State Fair page on Facebook.
URL:https://silvercityradio.com/event/southwestern-new-mexico-state-fair/
LOCATION:Southwestern New Mexico Fairgrounds\, 4300 Raymond Reed Blvd\, Deming\, NM\, United States
CATEGORIES:Concert,Craft,Entertainment,Food Event,Kids Event,Sports
END:VEVENT
BEGIN:VEVENT
DTSTART;TZID=UTC:20181007T150000
DTEND;TZID=UTC:20181007T170000
DTSTAMP:20260423T145215
CREATED:20181002T224010Z
LAST-MODIFIED:20181002T224010Z
UID:10000895-1538924400-1538931600@silvercityradio.com
SUMMARY:Grant County Community Concert Series: The Malpass Brothers
DESCRIPTION:The Grant County Community Concert Association’s first concert of the season will feature “The Malpass Brothers”\, an authentic country western band\, on Sunday October 7th at 3:00 PM in the WNMU’s Fine Arts Center Theater.  Adult tickets are $20 for non-subscribers\, children to age 17 are free with adult ticket holder.  Tickets can be purchased at the door the day of the concert or on line at g c concert dot org.  For more info call 575-538-5862.
URL:https://silvercityradio.com/event/grant-county-community-concert-series-the-malpass-brothers/
LOCATION:WNMU Fine Arts Center Theater\, 1000 West College Avenue\, Silver City\, NM\, 88061\, United States
CATEGORIES:Concert
END:VEVENT
END:VCALENDAR