BEGIN:VCALENDAR
VERSION:2.0
PRODID:-//Silver City Radio - ECPv6.3.3.1//NONSGML v1.0//EN
CALSCALE:GREGORIAN
METHOD:PUBLISH
X-WR-CALNAME:Silver City Radio
X-ORIGINAL-URL:https://silvercityradio.com
X-WR-CALDESC:Events for Silver City Radio
REFRESH-INTERVAL;VALUE=DURATION:PT1H
X-Robots-Tag:noindex
X-PUBLISHED-TTL:PT1H
BEGIN:VTIMEZONE
TZID:UTC
BEGIN:STANDARD
TZOFFSETFROM:+0000
TZOFFSETTO:+0000
TZNAME:UTC
DTSTART:20180101T000000
END:STANDARD
END:VTIMEZONE
BEGIN:VEVENT
DTSTART;TZID=UTC:20180601T183000
DTEND;TZID=UTC:20180601T210000
DTSTAMP:20260425T191656
CREATED:20180530T170748Z
LAST-MODIFIED:20180530T171512Z
UID:10000830-1527877800-1527886800@silvercityradio.com
SUMMARY:Santa Clara "Music in the Park"
DESCRIPTION:The Village of Santa Clara will once again be hosting a free “Music in the Park” starting this Friday evening at Viola Stone Park in Santa Clara from 6:30 – 9:00 P.M. Bands or individuals who would be willing to volunteer their time and talent can Call Robert Padilla at 575-912-3263 for more information.
URL:https://silvercityradio.com/event/santa-clara-music-in-the-park/
LOCATION:Viola Stone Park
CATEGORIES:Concert
END:VEVENT
BEGIN:VEVENT
DTSTART;TZID=UTC:20180605T180000
DTEND;TZID=UTC:20180605T193000
DTSTAMP:20260425T191656
CREATED:20180530T192956Z
LAST-MODIFIED:20180530T193025Z
UID:10000836-1528221600-1528227000@silvercityradio.com
SUMMARY:Deming Summer Reading Kick-off
DESCRIPTION:The Marshall Memorial Library in Deming is holding a free Summer Reading Kickoff concert at Pit Park Pavilion on June 5th at 6:00 PM. There will be music by Andy Mason plus Interactive\, educational and bilingual FUN!   For more information\, call Angela Wilds\, at the Marshall Memorial Library at 575-546-8408.
URL:https://silvercityradio.com/event/deming-summer-reading-kick-off/
LOCATION:Voier’s Park\, 300 N Country Club Road\, Deming\, NM\, 88030\, United States
CATEGORIES:Concert,Entertainment
END:VEVENT
BEGIN:VEVENT
DTSTART;TZID=UTC:20180608T183000
DTEND;TZID=UTC:20180608T210000
DTSTAMP:20260425T191656
CREATED:20180530T171805Z
LAST-MODIFIED:20180530T171805Z
UID:10000831-1528482600-1528491600@silvercityradio.com
SUMMARY:Santa Clara "Music in the Park"
DESCRIPTION:The Village of Santa Clara will once again be hosting a free “Music in the Park” starting this Friday evening at Viola Stone Park in Santa Clara from 6:30 – 9:00 P.M. Bands or individuals who would be willing to volunteer their time and talent can Call Robert Padilla at 575-912-3263 for more information.
URL:https://silvercityradio.com/event/santa-clara-music-in-the-park-2/
LOCATION:Viola Stone Park
CATEGORIES:Concert
END:VEVENT
BEGIN:VEVENT
DTSTART;TZID=UTC:20180615T183000
DTEND;TZID=UTC:20180615T210000
DTSTAMP:20260425T191656
CREATED:20180530T174007Z
LAST-MODIFIED:20180530T174007Z
UID:10000832-1529087400-1529096400@silvercityradio.com
SUMMARY:Santa Clara "Music in the Park"
DESCRIPTION:The Village of Santa Clara will once again be hosting a free “Music in the Park” starting this Friday evening at Viola Stone Park in Santa Clara from 6:30 – 9:00 P.M. Bands or individuals who would be willing to volunteer their time and talent can Call Robert Padilla at 575-912-3263 for more information.
URL:https://silvercityradio.com/event/santa-clara-music-in-the-park-5/
LOCATION:Viola Stone Park
CATEGORIES:Concert
END:VEVENT
BEGIN:VEVENT
DTSTART;VALUE=DATE:20180622
DTEND;VALUE=DATE:20180625
DTSTAMP:20260425T191656
CREATED:20180530T165811Z
LAST-MODIFIED:20180530T165938Z
UID:10000829-1529625600-1529884799@silvercityradio.com
SUMMARY:2nd Annual Fiesta Latina
DESCRIPTION:The 2nd Annual Fiesta Latina takes place at Old James Stadium on the Western New Mexico University campus located at 1000 West College Avenue in Silver City from Friday\, June 22nd to Sunday the 24th. There will be an “Artisan Mercado” featuring traditional master artisans from all over Mexico\, a free music stage\, documentaries and a discussion series\, along with ticketed events that feature an opening night dance\, tequila tasting\, a clay workshop and more. Visit fiesta latina dot org for schedules and ticket information.
URL:https://silvercityradio.com/event/2nd-annual-fiesta-latina/
LOCATION:WNMU Old James Stadium
CATEGORIES:Adult Event,Concert,Craft,Entertainment,Food Event,Kids Event
END:VEVENT
BEGIN:VEVENT
DTSTART;TZID=UTC:20180622T183000
DTEND;TZID=UTC:20180622T210000
DTSTAMP:20260425T191656
CREATED:20180608T135813Z
LAST-MODIFIED:20180608T135813Z
UID:10000854-1529692200-1529701200@silvercityradio.com
SUMMARY:Santa Clara "Music in the Park"
DESCRIPTION:The Village of Santa Clara will once again be hosting a free “Music in the Park” starting this Friday evening at Viola Stone Park in Santa Clara from 6:30 – 9:00 P.M. Bands or individuals who would be willing to volunteer their time and talent can Call Robert Padilla at 575-912-3263 for more information.
URL:https://silvercityradio.com/event/santa-clara-music-in-the-park-6/
LOCATION:Viola Stone Park
CATEGORIES:Concert
END:VEVENT
BEGIN:VEVENT
DTSTART;TZID=UTC:20180629T183000
DTEND;TZID=UTC:20180629T210000
DTSTAMP:20260425T191656
CREATED:20180530T174957Z
LAST-MODIFIED:20180530T174957Z
UID:10000834-1530297000-1530306000@silvercityradio.com
SUMMARY:Santa Clara "Music in the Park"
DESCRIPTION:The Village of Santa Clara will once again be hosting a free “Music in the Park” starting this Friday evening at Viola Stone Park in Santa Clara from 6:30 – 9:00 P.M. Bands or individuals who would be willing to volunteer their time and talent can Call Robert Padilla at 575-912-3263 for more information.
URL:https://silvercityradio.com/event/santa-clara-music-in-the-park-4/
LOCATION:Viola Stone Park
CATEGORIES:Concert
END:VEVENT
END:VCALENDAR