BEGIN:VCALENDAR
VERSION:2.0
PRODID:-//Silver City Radio - ECPv6.3.3.1//NONSGML v1.0//EN
CALSCALE:GREGORIAN
METHOD:PUBLISH
X-WR-CALNAME:Silver City Radio
X-ORIGINAL-URL:https://silvercityradio.com
X-WR-CALDESC:Events for Silver City Radio
REFRESH-INTERVAL;VALUE=DURATION:PT1H
X-Robots-Tag:noindex
X-PUBLISHED-TTL:PT1H
BEGIN:VTIMEZONE
TZID:UTC
BEGIN:STANDARD
TZOFFSETFROM:+0000
TZOFFSETTO:+0000
TZNAME:UTC
DTSTART:20180101T000000
END:STANDARD
END:VTIMEZONE
BEGIN:VEVENT
DTSTART;TZID=UTC:20180513T030000
DTEND;TZID=UTC:20180513T170000
DTSTAMP:20260426T003322
CREATED:20180507T203513Z
LAST-MODIFIED:20180507T203513Z
UID:10000818-1526180400-1526230800@silvercityradio.com
SUMMARY:Hi Lo Silvers Free Concert
DESCRIPTION:The Hi Lo Silver’s are presenting a Spring Concert at 3:00 P.M. at the First Presbyterian Church\, located 1915 N Swan St\, Silver City . Please join the Hi Lo Silvers as they sing popular standards and songs from film and Broadway. This is a free concert for the public. \n 
URL:https://silvercityradio.com/event/hi-lo-silvers-free-concert/
LOCATION:First Presbyterian Church\, 1915 North Swan Street\, Silver City\, NM\, 88061\, United States
CATEGORIES:Concert
END:VEVENT
BEGIN:VEVENT
DTSTART;VALUE=DATE:20180525
DTEND;VALUE=DATE:20180528
DTSTAMP:20260426T003322
CREATED:20180509T170937Z
LAST-MODIFIED:20180509T170937Z
UID:10000819-1527206400-1527465599@silvercityradio.com
SUMMARY:2018 Silver City Blues Festival
DESCRIPTION:The Mimbres Region Art Council presents the 2018 Silver City Blues Festival during Memorial Day weekend\, May 25th through May 27th\, at Gough Park in Silver City. Enjoy great food\, music from great performers\, and shop with dozens of vendors\, all in the comfort of beautiful Gough Park. This is a free event. Visit silvercitybluesfestival.org for schedules and list of performers.
URL:https://silvercityradio.com/event/2018-silver-city-blues-festival/
LOCATION:Gough Park
CATEGORIES:Adult Event,Concert,Craft,Entertainment,Food Event,Holiday
END:VEVENT
BEGIN:VEVENT
DTSTART;TZID=UTC:20180525T180000
DTEND;TZID=UTC:20180525T200000
DTSTAMP:20260426T003322
CREATED:20180522T153409Z
LAST-MODIFIED:20180522T153409Z
UID:10000821-1527271200-1527278400@silvercityradio.com
SUMMARY:La Plata Middle School Dinner/Performance
DESCRIPTION:The La Plata Middle School National History Day students will be hosting a dinner and historical “Chautauqua”  performance entitled “Sopranos & Six-shooters: Great Ladies of the Old Western Theater” this Friday at 6:00 P.M. in the La Plata Middle School cafeteria. Tickets are available by calling the school at 956-2060 or can be purchased at the door the evening of the event. All proceeds from this event will benefit the La Plata students who are traveling to the National History Day competition in Washington DC this summer.
URL:https://silvercityradio.com/event/la-plata-middle-school-dinner-performance/
LOCATION:La Plata Middle School\, 3500 N. Silver Street\, Silver City\, 88061\, United States
CATEGORIES:Concert,Entertainment,Fundraiser
END:VEVENT
BEGIN:VEVENT
DTSTART;TZID=UTC:20180530T183000
DTEND;TZID=UTC:20180530T210000
DTSTAMP:20260426T003322
CREATED:20180530T174817Z
LAST-MODIFIED:20180530T174817Z
UID:10000833-1527705000-1527714000@silvercityradio.com
SUMMARY:Santa Clara "Music in the Park"
DESCRIPTION:The Village of Santa Clara will once again be hosting a free “Music in the Park” starting this Friday evening at Viola Stone Park in Santa Clara from 6:30 – 9:00 P.M. Bands or individuals who would be willing to volunteer their time and talent can Call Robert Padilla at 575-912-3263 for more information.
URL:https://silvercityradio.com/event/santa-clara-music-in-the-park-3/
LOCATION:Viola Stone Park
CATEGORIES:Concert
END:VEVENT
END:VCALENDAR