BEGIN:VCALENDAR
VERSION:2.0
PRODID:-//Silver City Radio - ECPv6.3.3.1//NONSGML v1.0//EN
CALSCALE:GREGORIAN
METHOD:PUBLISH
X-WR-CALNAME:Silver City Radio
X-ORIGINAL-URL:https://silvercityradio.com
X-WR-CALDESC:Events for Silver City Radio
REFRESH-INTERVAL;VALUE=DURATION:PT1H
X-Robots-Tag:noindex
X-PUBLISHED-TTL:PT1H
BEGIN:VTIMEZONE
TZID:UTC
BEGIN:STANDARD
TZOFFSETFROM:+0000
TZOFFSETTO:+0000
TZNAME:UTC
DTSTART:20200101T000000
END:STANDARD
END:VTIMEZONE
BEGIN:VEVENT
DTSTART;TZID=UTC:20201020T083000
DTEND;TZID=UTC:20201020T123000
DTSTAMP:20260422T223018
CREATED:20200911T205928Z
LAST-MODIFIED:20200911T205928Z
UID:10001548-1603182600-1603197000@silvercityradio.com
SUMMARY:U.S. Department of Agriculture’s Community Prosperity Virtual Summit via Zoom
DESCRIPTION:Save the date\, Tuesday\, October 20th 8:30 A.M. to 12:30 P.M. for the U.S. Department of Agriculture’s Community Prosperity Virtual Summit via Zoom meeting. The event was created to foster opportunity\, asset building\, and more to assist socially disadvantaged or veteran farmers and ranchers\, non-profit organizations\, faith leaders\, veterans\, and other strategic partners. For more information\, email Ernie.Wilson@usda.gov.
URL:https://silvercityradio.com/event/u-s-department-of-agricultures-community-prosperity-virtual-summit-via-zoom/
CATEGORIES:Presentation
END:VEVENT
BEGIN:VEVENT
DTSTART;TZID=UTC:20201020T090000
DTEND;TZID=UTC:20201020T130000
DTSTAMP:20260422T223018
CREATED:20201016T164045Z
LAST-MODIFIED:20201016T164045Z
UID:10001563-1603184400-1603198800@silvercityradio.com
SUMMARY:Silver City Scheduled Water Outage: Ridge Road Area
DESCRIPTION:The Town of Silver City is announcing a scheduled water outage to connect a new water main this Tuesday\, October 20th from 9:00 A.M. to 1:00 P.M. The areas affected are in the area of Ridge Road and include the Quail Ridge Subdivision and Silver Acres. Any questions\, please call the Town of Silver City Utilities Department at 575-534-6365.
URL:https://silvercityradio.com/event/silver-city-scheduled-water-outage-ridge-road-area/
LOCATION:Ridge Road\, NM\, 88061\, United States
CATEGORIES:Public Notice
END:VEVENT
END:VCALENDAR