BEGIN:VCALENDAR
VERSION:2.0
PRODID:-//Silver City Radio - ECPv6.3.3.1//NONSGML v1.0//EN
CALSCALE:GREGORIAN
METHOD:PUBLISH
X-ORIGINAL-URL:https://silvercityradio.com
X-WR-CALDESC:Events for Silver City Radio
REFRESH-INTERVAL;VALUE=DURATION:PT1H
X-Robots-Tag:noindex
X-PUBLISHED-TTL:PT1H
BEGIN:VTIMEZONE
TZID:UTC
BEGIN:STANDARD
TZOFFSETFROM:+0000
TZOFFSETTO:+0000
TZNAME:UTC
DTSTART:20200101T000000
END:STANDARD
END:VTIMEZONE
BEGIN:VEVENT
DTSTART;TZID=UTC:20201005T160000
DTEND;TZID=UTC:20201005T160000
DTSTAMP:20260422T160710
CREATED:20200923T201531Z
LAST-MODIFIED:20200923T201531Z
UID:10001552-1601913600-1601913600@silvercityradio.com
SUMMARY:Dark Sky Photography Class Registration
DESCRIPTION:The Glenwood Ranger District Gila National Forest is hosting a free Dark Sky Photography Class on Saturday\, October 17th\, from 6:00 to 10:00 P.M. Class size is limited to 6 people\, ages 12 and up. Please contact Gila Public Affairs Officer via email at MartaCall@usda.gov before October 5th at 4:00 P.M. For more information\, visit Gila National Forest page on Facebook.
URL:https://silvercityradio.com/event/dark-sky-photography-class-registration/
CATEGORIES:Training
END:VEVENT
END:VCALENDAR