BEGIN:VCALENDAR
VERSION:2.0
PRODID:-//Silver City Radio - ECPv6.3.3.1//NONSGML v1.0//EN
CALSCALE:GREGORIAN
METHOD:PUBLISH
X-WR-CALNAME:Silver City Radio
X-ORIGINAL-URL:https://silvercityradio.com
X-WR-CALDESC:Events for Silver City Radio
REFRESH-INTERVAL;VALUE=DURATION:PT1H
X-Robots-Tag:noindex
X-PUBLISHED-TTL:PT1H
BEGIN:VTIMEZONE
TZID:UTC
BEGIN:STANDARD
TZOFFSETFROM:+0000
TZOFFSETTO:+0000
TZNAME:UTC
DTSTART:20200101T000000
END:STANDARD
END:VTIMEZONE
BEGIN:VEVENT
DTSTART;VALUE=DATE:20200926
DTEND;VALUE=DATE:20200927
DTSTAMP:20260423T131203
CREATED:20200924T140222Z
LAST-MODIFIED:20200924T140222Z
UID:10001553-1601078400-1601164799@silvercityradio.com
SUMMARY:National Public Lands Day-Fees Waived at Catwalk
DESCRIPTION:The Gila National Forest will waive fees at the Catwalk National Recreation Trail/Whitewater Picnic Area (day use recreation site) on National Public Lands Day\, this Saturday\, September 26th. National Public Lands Day traditionally celebrates volunteer work on public lands and the opportunity to connect to nature. The Forest Service participates in fee-free days with other federal agencies to commemorate holidays and encourage Americans to visit their public lands. The final fee-free day for 2020 will be November 11\, Veterans Day.
URL:https://silvercityradio.com/event/national-public-lands-day-fees-waived-at-catwalk/
CATEGORIES:Public Notice
END:VEVENT
END:VCALENDAR