BEGIN:VCALENDAR
VERSION:2.0
PRODID:-//Silver City Radio - ECPv6.3.3.1//NONSGML v1.0//EN
CALSCALE:GREGORIAN
METHOD:PUBLISH
X-WR-CALNAME:Silver City Radio
X-ORIGINAL-URL:https://silvercityradio.com
X-WR-CALDESC:Events for Silver City Radio
REFRESH-INTERVAL;VALUE=DURATION:PT1H
X-Robots-Tag:noindex
X-PUBLISHED-TTL:PT1H
BEGIN:VTIMEZONE
TZID:UTC
BEGIN:STANDARD
TZOFFSETFROM:+0000
TZOFFSETTO:+0000
TZNAME:UTC
DTSTART:20200101T000000
END:STANDARD
END:VTIMEZONE
BEGIN:VEVENT
DTSTART;TZID=UTC:20200829T073000
DTEND;TZID=UTC:20200829T120000
DTSTAMP:20260422T185911
CREATED:20200818T175237Z
LAST-MODIFIED:20200818T175600Z
UID:10001539-1598686200-1598702400@silvercityradio.com
SUMMARY:WWII 75th Anniversary Celebration
DESCRIPTION:There is a World War II 75th Anniversary Celebration at the Allingham-Golding American Legion Post 18 in Silver City on Saturday\, August 29th at 12 noon. WWII Veterans and/or family members are welcome to attend while relevant public health orders and social distancing guidelines will be honored for everyone’s safety. For more information\, please contact John at 575-956-5921.
URL:https://silvercityradio.com/event/wwii-75th-anniversary-celebration/
CATEGORIES:Entertainment
END:VEVENT
BEGIN:VEVENT
DTSTART;TZID=UTC:20200829T083000
DTEND;TZID=UTC:20200829T120000
DTSTAMP:20260422T185911
CREATED:20200723T174318Z
LAST-MODIFIED:20200723T174318Z
UID:10001524-1598689800-1598702400@silvercityradio.com
SUMMARY:Makers Market in Mainstreet
DESCRIPTION:The Future Forge is hosting Silver City’s first ever official “Makers Market” in Mainstreet Plaza in Downtown Silver City every Saturday from 8:30 A.M. to 12 noon starting August 1st running through October 31st. Makers\, producers and growers of Grant and surrounding counties are welcome to sell handmade\, homemade or homegrown items at the Makers Market. For booth/vendor information\, call 575-313-5665 or visit online at https://www.thefutureforge.org/.
URL:https://silvercityradio.com/event/makers-market-in-mainstreet/
CATEGORIES:Craft
END:VEVENT
END:VCALENDAR